BEGIN:VCALENDAR
VERSION:2.0
PRODID:-//College Of Central Florida - ECPv6.10.1.1//NONSGML v1.0//EN
CALSCALE:GREGORIAN
METHOD:PUBLISH
X-WR-CALNAME:College Of Central Florida
X-ORIGINAL-URL:https://www.cf.edu
X-WR-CALDESC:Events for College Of Central Florida
REFRESH-INTERVAL;VALUE=DURATION:PT1H
X-Robots-Tag:noindex
X-PUBLISHED-TTL:PT1H
BEGIN:VTIMEZONE
TZID:America/New_York
BEGIN:DAYLIGHT
TZOFFSETFROM:-0500
TZOFFSETTO:-0400
TZNAME:EDT
DTSTART:20240310T070000
END:DAYLIGHT
BEGIN:STANDARD
TZOFFSETFROM:-0400
TZOFFSETTO:-0500
TZNAME:EST
DTSTART:20241103T060000
END:STANDARD
END:VTIMEZONE
BEGIN:VEVENT
DTSTART;TZID=America/New_York:20241015T090000
DTEND;TZID=America/New_York:20241015T100000
DTSTAMP:20260422T040957
CREATED:20240812T184342Z
LAST-MODIFIED:20241007T124238Z
UID:10003098-1728982800-1728986400@www.cf.edu
SUMMARY:Virtual Respiratory Care Information Session
DESCRIPTION:Learn more about CF’s anticipated Associate in Science Degree in Respiratory Care (program accreditation pending). Admissions criteria\, program requirements\, costs and more will be covered. Attend and complete your CF general admission application during the event and the $30 fee will be waived. \nThere is no waiting list for any of the Health Science programs. Some programs have part-time enrollment options. \nRegistration is required for this event. For information about any of the programs or sessions email Peggy Recanzone at recanzop@cf.edu.
URL:https://www.cf.edu/event/virtual-respiratory-care-information-session-14/
LOCATION:Online
CATEGORIES:Health Sciences,Information Session
ATTACH;FMTTYPE=image/jpeg:https://www.cf.edu/wp-content/uploads/2022/11/iStock-1073909314-web.jpg
END:VEVENT
BEGIN:VEVENT
DTSTART;TZID=America/New_York:20241015T100000
DTEND;TZID=America/New_York:20241015T110000
DTSTAMP:20260422T040957
CREATED:20240709T203254Z
LAST-MODIFIED:20240709T203254Z
UID:10003007-1728986400-1728990000@www.cf.edu
SUMMARY:Virtual Diagnostic Medical Sonography Technology Information Session
DESCRIPTION:Learn more about CF’s anticipated Associate in Science Degree in Diagnostic Medical Sonography Technology. Admissions criteria\, program requirements\, costs and more will be covered. The CF general admission application fee ($30) will be waived for attendees who complete the CF general admission application during the webinar. \nThere is no waiting list for any of the Health Science programs. Some programs have part-time enrollment options. \nRegistration is required for this event. For information about any of the programs or sessions email Peggy Recanzone at recanzop@cf.edu.
URL:https://www.cf.edu/event/virtual-diagnostic-medical-sonography-technology-information-session-12/
LOCATION:Online
CATEGORIES:Health Sciences,Information Session
ATTACH;FMTTYPE=image/jpeg:https://www.cf.edu/wp-content/uploads/2023/09/CCF_8643-edit-web.jpg
END:VEVENT
BEGIN:VEVENT
DTSTART;TZID=America/New_York:20241015T143000
DTEND;TZID=America/New_York:20241015T153000
DTSTAMP:20260422T040957
CREATED:20240709T201846Z
LAST-MODIFIED:20240709T201846Z
UID:10003002-1729002600-1729006200@www.cf.edu
SUMMARY:Virtual Cardiovascular Technology Information Session
DESCRIPTION:Learn more about CF’s anticipated Associate in Science Degree in Cardiovascular Technology (program accreditation pending). Admissions criteria\, program requirements\, costs and more will be covered. The CF general admission application fee ($30) will be waived for attendees who complete the CF general admission application during the webinar. \nThere is no waiting list for any of the Health Science programs. Some programs have part-time enrollment options. \nRegistration is required for this event. For information about any of the programs or sessions email Peggy Recanzone at recanzop@cf.edu.
URL:https://www.cf.edu/event/virtual-cardiovascular-technology-information-session-5/
LOCATION:Online
CATEGORIES:Health Sciences,Information Session
ATTACH;FMTTYPE=image/jpeg:https://www.cf.edu/wp-content/uploads/2022/12/iStock-147426963-web-e1711390148646.jpg
END:VEVENT
END:VCALENDAR