BEGIN:VCALENDAR
VERSION:2.0
PRODID:-//College Of Central Florida - ECPv6.10.1.1//NONSGML v1.0//EN
CALSCALE:GREGORIAN
METHOD:PUBLISH
X-ORIGINAL-URL:https://www.cf.edu
X-WR-CALDESC:Events for College Of Central Florida
REFRESH-INTERVAL;VALUE=DURATION:PT1H
X-Robots-Tag:noindex
X-PUBLISHED-TTL:PT1H
BEGIN:VTIMEZONE
TZID:America/New_York
BEGIN:DAYLIGHT
TZOFFSETFROM:-0500
TZOFFSETTO:-0400
TZNAME:EDT
DTSTART:20260308T070000
END:DAYLIGHT
BEGIN:STANDARD
TZOFFSETFROM:-0400
TZOFFSETTO:-0500
TZNAME:EST
DTSTART:20261101T060000
END:STANDARD
END:VTIMEZONE
BEGIN:VEVENT
DTSTART;TZID=America/New_York:20260331T090000
DTEND;TZID=America/New_York:20260331T090000
DTSTAMP:20260424T141715
CREATED:20251027T190708Z
LAST-MODIFIED:20251027T193230Z
UID:10003731-1774947600-1774947600@www.cf.edu
SUMMARY:Virtual Diagnostic Medical Sonography Technology Information Session
DESCRIPTION:Learn more about CF’s anticipated Associate in Science Degree in Diagnostic Medical Sonography Technology. Admissions criteria\, program requirements\, costs and more will be covered. \nThere is no waiting list for any of the Health Science programs. Some programs have part-time enrollment options. \nFor information about any of the programs or sessions email Peggy Recanzone at recanzop@cf.edu. \nRegistration is required for this event.\nRegister Now
URL:https://www.cf.edu/event/virtual-diagnostic-medical-sonography-technology-information-session-28/
LOCATION:Online
CATEGORIES:Health Sciences,Information Session
ATTACH;FMTTYPE=image/jpeg:https://www.cf.edu/wp-content/uploads/2023/09/CCF_8643-edit-web.jpg
END:VEVENT
BEGIN:VEVENT
DTSTART;TZID=America/New_York:20260331T100000
DTEND;TZID=America/New_York:20260331T100000
DTSTAMP:20260424T141716
CREATED:20251028T153714Z
LAST-MODIFIED:20251028T153714Z
UID:10003746-1774951200-1774951200@www.cf.edu
SUMMARY:Virtual Dental Assisting Information Session
DESCRIPTION:Learn more about the Dental Assisting program and admission criteria. \nThere is no waiting list for any of the Health Science programs. Some programs have part-time enrollment options. \nRegistration is required for this event. For information about any of the programs or sessions email Peggy Recanzone at recanzop@cf.edu. \nRegister Now
URL:https://www.cf.edu/event/virtual-dental-assisting-information-session-29/
LOCATION:Online
CATEGORIES:Health Sciences,Information Session
ATTACH;FMTTYPE=image/jpeg:https://www.cf.edu/wp-content/uploads/2023/08/6559-web.jpg
END:VEVENT
BEGIN:VEVENT
DTSTART;TZID=America/New_York:20260331T110000
DTEND;TZID=America/New_York:20260331T110000
DTSTAMP:20260424T141716
CREATED:20251028T154203Z
LAST-MODIFIED:20251028T154203Z
UID:10003749-1774954800-1774954800@www.cf.edu
SUMMARY:Virtual Dental Hygiene Information Session
DESCRIPTION:Join staff and learn more about the AS Dental Hygiene program. Topics covered include general education requirements\, program costs\, admission criteria and more. \nThere is no waiting list for any of the Health Science programs. Some programs have part-time enrollment options. \nRegistration is required for this event. For information about any of the programs or sessions email Peggy Recanzone at recanzop@cf.edu. \nRegister Now
URL:https://www.cf.edu/event/virtual-dental-hygiene-information-session-34/
LOCATION:Online
CATEGORIES:Health Sciences,Information Session
ATTACH;FMTTYPE=image/jpeg:https://www.cf.edu/wp-content/uploads/2023/08/6559-web.jpg
END:VEVENT
BEGIN:VEVENT
DTSTART;TZID=America/New_York:20260331T140000
DTEND;TZID=America/New_York:20260331T140000
DTSTAMP:20260424T141716
CREATED:20251027T191205Z
LAST-MODIFIED:20251027T193111Z
UID:10003734-1774965600-1774965600@www.cf.edu
SUMMARY:Virtual Cardiovascular Technology Information Session
DESCRIPTION:Learn more about CF’s anticipated Associate in Science Degree in Cardiovascular Technology (program accreditation pending). Admissions criteria\, program requirements\, costs and more will be covered.  \nThere is no waiting list for any of the Health Science programs. Some programs have part-time enrollment options. \nFor information about any of the programs or sessions email Peggy Recanzone at recanzop@cf.edu. \nRegistration is required for this event.\nRegister Now
URL:https://www.cf.edu/event/virtual-cardiovascular-technology-information-session-20/
LOCATION:Online
CATEGORIES:Health Sciences,Information Session
ATTACH;FMTTYPE=image/jpeg:https://www.cf.edu/wp-content/uploads/2022/12/iStock-147426963-web-e1711390148646.jpg
END:VEVENT
END:VCALENDAR