BEGIN:VCALENDAR
VERSION:2.0
PRODID:-//College Of Central Florida - ECPv6.10.1.1//NONSGML v1.0//EN
CALSCALE:GREGORIAN
METHOD:PUBLISH
X-ORIGINAL-URL:https://www.cf.edu
X-WR-CALDESC:Events for College Of Central Florida
REFRESH-INTERVAL;VALUE=DURATION:PT1H
X-Robots-Tag:noindex
X-PUBLISHED-TTL:PT1H
BEGIN:VTIMEZONE
TZID:America/New_York
BEGIN:DAYLIGHT
TZOFFSETFROM:-0500
TZOFFSETTO:-0400
TZNAME:EDT
DTSTART:20220313T070000
END:DAYLIGHT
BEGIN:STANDARD
TZOFFSETFROM:-0400
TZOFFSETTO:-0500
TZNAME:EST
DTSTART:20221106T060000
END:STANDARD
END:VTIMEZONE
BEGIN:VEVENT
DTSTART;TZID=America/New_York:20220401T100000
DTEND;TZID=America/New_York:20220401T110000
DTSTAMP:20260419T152346
CREATED:20220311T202917Z
LAST-MODIFIED:20220311T202917Z
UID:10001494-1648807200-1648810800@www.cf.edu
SUMMARY:Choosing the Right College - International Webinar
DESCRIPTION:Choosing the right college can be a difficult process. As a student\, there are numerous aspects you need to take into account such as cost\, location and degree. Join our international department for a conversation about strategies to make sure that you pick the right college that best fits you! Don’t forget to stay after the presentation for a Q&A session to ask an international college representative any questions you may have. \nRegister today! \nAll Sessions Times are in U.S. Eastern Standard Time Zone. Click to see time zone converter.
URL:https://www.cf.edu/event/choosing-the-right-college-international-webinar/
LOCATION:Online
CATEGORIES:Admissions,Information Session,International
ATTACH;FMTTYPE=image/jpeg:https://www.cf.edu/wp-content/uploads/2020/11/student-type_international.jpg
END:VEVENT
BEGIN:VEVENT
DTSTART;TZID=America/New_York:20220404T160000
DTEND;TZID=America/New_York:20220404T170000
DTSTAMP:20260419T152346
CREATED:20220329T203758Z
LAST-MODIFIED:20220329T203758Z
UID:10001506-1649088000-1649091600@www.cf.edu
SUMMARY:Physical Therapist Assistant Information Session
DESCRIPTION:CF is conducting a Physical Therapist Assistant program information session. Students can attend via zoom or in person in the PTA classroom (Building 20\, Room 109). Potential students must attend a session before applying to any of the programs. Sessions provide details about admissions criteria\, program requirements\, costs and more. \nZoom registration is required in advance. \nThere is no waiting list for any of the Health Science programs. Some programs have part-time enrollment options. \nFor information about any of the programs or sessions email Peggy Recanzone at recanzop@cf.edu. \n 
URL:https://www.cf.edu/event/physical-therapist-assistant-information-session-19/
LOCATION:Ocala Campus\, 3001 SW College Rd\, Ocala\, FL\, 34474\, United States
CATEGORIES:Health Sciences,Information Session
ATTACH;FMTTYPE=image/png:https://www.cf.edu/wp-content/uploads/2021/01/PTA-event.png
END:VEVENT
BEGIN:VEVENT
DTSTART;TZID=America/New_York:20220408T090000
DTEND;TZID=America/New_York:20220408T100000
DTSTAMP:20260419T152346
CREATED:20220304T162504Z
LAST-MODIFIED:20220304T162504Z
UID:10001490-1649408400-1649412000@www.cf.edu
SUMMARY:Chat with a CF International Student
DESCRIPTION:Curious what it’s like to be a CF International Student? Do you have any questions regarding life in Florida? Join us for our Q&A webinar session to chat directly with a current international student. Our goal is to answer questions that you may have about being a CF Patriot. \nRegister today! \nAll Sessions Times are in U.S. Eastern Standard Time Zone. Click to see time zone converter.
URL:https://www.cf.edu/event/chat-with-a-cf-international-student-2/
LOCATION:Online
CATEGORIES:Admissions,Information Session,International
ATTACH;FMTTYPE=image/jpeg:https://www.cf.edu/wp-content/uploads/2020/11/student-type_international.jpg
END:VEVENT
BEGIN:VEVENT
DTSTART;TZID=America/New_York:20220408T094500
DTEND;TZID=America/New_York:20220408T104500
DTSTAMP:20260419T152346
CREATED:20220221T212504Z
LAST-MODIFIED:20220302T161747Z
UID:10001482-1649411100-1649414700@www.cf.edu
SUMMARY:Levy Dual Enrollment Orientation Session
DESCRIPTION:Interested in Dual Enrollment? Attend an orientation session to learn more about the program\, how to apply\, what the requirements are\, and meet with CF staff. Qualified high school students may accelerate their college education through dual enrollment courses offered at the high school or a CF campus location. Attendance at one orientation session is required for all incoming dual enrollment students. \nThis session will be held at Williston High at 9:45 a.m. More session times are available for selection below. \nFill out my online form.
URL:https://www.cf.edu/event/levy-dual-enrollment-orientation-session-12/
LOCATION:FL
CATEGORIES:Admissions,Dual Enrollment,Information Session,Levy Campus
ATTACH;FMTTYPE=image/jpeg:https://www.cf.edu/wp-content/uploads/2020/07/CFEvents-default-image.jpg
END:VEVENT
BEGIN:VEVENT
DTSTART;TZID=America/New_York:20220411T173000
DTEND;TZID=America/New_York:20220411T183000
DTSTAMP:20260419T152346
CREATED:20220331T163153Z
LAST-MODIFIED:20220331T163153Z
UID:10001512-1649698200-1649701800@www.cf.edu
SUMMARY:Information Session for B.A.S. in Business and Organizational Management
DESCRIPTION:Join us Monday\, April 11\, at 5:30 p.m. in the Ewers Century Center to learn all about the options for earning a B.A.S. degree from CF! Hear from advisors\, administrators and faculty about bachelor’s degree specializations in Accounting\, Agribusiness\, Equine Studies\, Management Information Systems\, Health Care Management\, Public Safety Administration\, and Logistics and Supply Chain Management. Find out about program design\, affordability and the admissions process.
URL:https://www.cf.edu/event/information-session-for-b-a-s-in-business-and-organizational-management-3/
LOCATION:Ocala Campus\, 3001 SW College Rd\, Ocala\, FL\, 34474\, United States
CATEGORIES:Business, Technology and Agricultural Sciences,Information Session
ATTACH;FMTTYPE=image/jpeg:https://www.cf.edu/wp-content/uploads/2020/07/CFEvents-default-image.jpg
END:VEVENT
BEGIN:VEVENT
DTSTART;TZID=America/New_York:20220414T120000
DTEND;TZID=America/New_York:20220414T130000
DTSTAMP:20260419T152346
CREATED:20211117T142642Z
LAST-MODIFIED:20211117T145122Z
UID:10001359-1649937600-1649941200@www.cf.edu
SUMMARY:Virtual Nursing Information Session - ADN\, Bridge\, BSN
DESCRIPTION:VirtualCF is conducting a virtual information session to learn more about the Associate Degree Nursing\, LPN and Paramedic Bridge Nursing and BSN programs through a Zoom presentation. Stay on and complete your CF general admission application and the $30 fee will be waived. Potential students must attend a session before applying to any of the programs. Sessions provide details about admissions criteria\, program requirements\, costs and more. \nThere is no waiting list for any of the Health Science programs. Some programs have part-time enrollment options.\nFor information about any of the programs or sessions email Peggy Recanzone at recanzop@cf.edu.
URL:https://www.cf.edu/event/nursing-information-session-adn-bridge-bsn-29/
LOCATION:Online
CATEGORIES:Health Sciences,Information Session
ATTACH;FMTTYPE=image/png:https://www.cf.edu/wp-content/uploads/2021/01/Nursing-info-session-event.png
END:VEVENT
BEGIN:VEVENT
DTSTART;TZID=America/New_York:20220414T173000
DTEND;TZID=America/New_York:20220414T183000
DTSTAMP:20260419T152346
CREATED:20220124T212148Z
LAST-MODIFIED:20220222T134148Z
UID:10001440-1649957400-1649961000@www.cf.edu
SUMMARY:Citrus Dual Enrollment Orientation Session
DESCRIPTION:Interested in Dual Enrollment? Attend an orientation session to learn more about the program\, how to apply\, what the requirements are\, and meet with CF staff. Qualified high school students may accelerate their college education through dual enrollment courses offered at the high school or a CF campus location. Attendance at one orientation session is required for all incoming dual enrollment students. \nThis session will be held in Building C4\, Room\, 103. More session times are available for selection below. \nFill out my online form.
URL:https://www.cf.edu/event/citrus-dual-enrollment-orientation-session-3/
LOCATION:Citrus Campus\, 3800 S. Lecanto Highway\, Lecanto\, FL\, 34461\, United States
CATEGORIES:Admissions,Citrus Campus,Dual Enrollment,Information Session
ATTACH;FMTTYPE=image/jpeg:https://www.cf.edu/wp-content/uploads/2020/07/CFEvents-default-image.jpg
END:VEVENT
BEGIN:VEVENT
DTSTART;TZID=America/New_York:20220414T173000
DTEND;TZID=America/New_York:20220414T183000
DTSTAMP:20260419T152346
CREATED:20220125T134643Z
LAST-MODIFIED:20220222T134743Z
UID:10001445-1649957400-1649961000@www.cf.edu
SUMMARY:Ocala Dual Enrollment Orientation Session
DESCRIPTION:Interested in Dual Enrollment? Attend an orientation session to learn more about the program\, how to apply\, what the requirements are\, and meet with CF staff. Qualified high school students may accelerate their college education through dual enrollment courses offered at the high school or a CF campus location. Attendance at one orientation session is required for all incoming dual enrollment students. \nThis session will be held in Building 8\, Room 110. More session times are available for selection below. \nFill out my online form.
URL:https://www.cf.edu/event/ocala-dual-enrollment-orientation-session-4/
LOCATION:Ocala Campus\, 3001 SW College Rd\, Ocala\, FL\, 34474\, United States
CATEGORIES:Admissions,Dual Enrollment,Information Session,Ocala Campus
ATTACH;FMTTYPE=image/jpeg:https://www.cf.edu/wp-content/uploads/2020/07/CFEvents-default-image.jpg
END:VEVENT
BEGIN:VEVENT
DTSTART;TZID=America/New_York:20220414T173000
DTEND;TZID=America/New_York:20220414T183000
DTSTAMP:20260419T152346
CREATED:20220405T142920Z
LAST-MODIFIED:20220405T142920Z
UID:10001518-1649957400-1649961000@www.cf.edu
SUMMARY:Levy Dual Enrollment Orientation Session
DESCRIPTION:Interested in Dual Enrollment? Attend an orientation session to learn more about the program\, how to apply\, what the requirements are\, and meet with CF staff. Qualified high school students may accelerate their college education through dual enrollment courses offered at the high school or a CF campus location. Attendance at one orientation session is required for all incoming dual enrollment students. \nThis session will be held at the Jack Wilkinson Levy Campus at 5:30 p.m. More session times are available for selection below. \nFill out my online form.
URL:https://www.cf.edu/event/levy-dual-enrollment-orientation-session-4/
LOCATION:Levy Campus\, 15390 N.W. Highway 19\, Chiefland\, 32626
CATEGORIES:Admissions,Dual Enrollment,Information Session,Levy Campus
ATTACH;FMTTYPE=image/jpeg:https://www.cf.edu/wp-content/uploads/2020/07/CFEvents-default-image.jpg
END:VEVENT
BEGIN:VEVENT
DTSTART;TZID=America/New_York:20220414T180000
DTEND;TZID=America/New_York:20220414T190000
DTSTAMP:20260419T152346
CREATED:20211215T162346Z
LAST-MODIFIED:20211215T162346Z
UID:10001414-1649959200-1649962800@www.cf.edu
SUMMARY:Virtual Information Session
DESCRIPTION:Find out all about the College of Central Florida during this virtual information session. Join one of our admissions advisors for a live 45-minute presentation and Q&A session covering everything you need to know about CF: the admissions process\, financial aid\, academic programs\, university partnerships\, campus amenities\, student services and more. Information session attendees will receive a single-use waiver code to cover the $30 application fee if they apply during the information session. \nTake the next step toward becoming a CF Patriot by registering for this event!
URL:https://www.cf.edu/event/virtual-information-session-5/
LOCATION:Online
CATEGORIES:Admissions,Information Session
ATTACH;FMTTYPE=image/jpeg:https://www.cf.edu/wp-content/uploads/2021/09/info-session-800px-1.jpg
END:VEVENT
BEGIN:VEVENT
DTSTART;TZID=America/New_York:20220420T113000
DTEND;TZID=America/New_York:20220420T123000
DTSTAMP:20260419T152346
CREATED:20220411T203314Z
LAST-MODIFIED:20220411T203446Z
UID:10001528-1650454200-1650457800@www.cf.edu
SUMMARY:Surgical Services Information Session
DESCRIPTION:CF is conducting a Virtual Surgical Services program information session on April 20 at 11:30 a.m. Potential students must attend a session before applying to any of the programs. Sessions provide details about admissions criteria\, program requirements\, costs and more. Attend and complete your CF general admission application and the $30 fee will be waived. \nThere is no waiting list for any of the Health Science programs. Some programs have part-time enrollment options.\nFor information about any of the programs or sessions email Peggy Recanzone at recanzop@cf.edu.
URL:https://www.cf.edu/event/surgical-services-information-session/
LOCATION:Online
CATEGORIES:Health Sciences,Information Session
ATTACH;FMTTYPE=image/png:https://www.cf.edu/wp-content/uploads/2021/01/Surgical-Tech-info-session-event.png
END:VEVENT
BEGIN:VEVENT
DTSTART;TZID=America/New_York:20220421T090000
DTEND;TZID=America/New_York:20220421T100000
DTSTAMP:20260419T152346
CREATED:20211117T142022Z
LAST-MODIFIED:20220413T143136Z
UID:10001357-1650531600-1650535200@www.cf.edu
SUMMARY:Virtual BSN Information and CF Application Session
DESCRIPTION:Ready to start the next phase in your nursing education? CF is conducting a Virtual Bachelor of Science in Nursing program information and CF application session through a Zoom presentation. \nAttendees will be able to complete the general admission application to CF for free! Potential students must attend a session before applying to any of the programs. Sessions provide details about admissions criteria\, program requirements\, costs and more. \nThere is no waiting list for any of the Health Science programs. Some programs have part-time enrollment options.\nFor information about any of the programs or sessions email Peggy Recanzone at recanzop@cf.edu.
URL:https://www.cf.edu/event/bsn-information-and-cf-application-session-12/
LOCATION:FL
CATEGORIES:Health Sciences,Information Session
ATTACH;FMTTYPE=image/jpeg:https://www.cf.edu/wp-content/uploads/2021/01/CFEventHealth.jpg
END:VEVENT
BEGIN:VEVENT
DTSTART;TZID=America/New_York:20220422T094500
DTEND;TZID=America/New_York:20220422T104500
DTSTAMP:20260419T152346
CREATED:20220125T140045Z
LAST-MODIFIED:20220421T174917Z
UID:10001452-1650620700-1650624300@www.cf.edu
SUMMARY:Levy Dual Enrollment Orientation Session
DESCRIPTION:Interested in Dual Enrollment? Attend an orientation session to learn more about the program\, how to apply\, what the requirements are\, and meet with CF staff. Qualified high school students may accelerate their college education through dual enrollment courses offered at the high school or a CF campus location. Attendance at one orientation session is required for all incoming dual enrollment students. \nThis session will be held at Williston High on Friday\, April 22\, at 9:45 a.m.  \n Fill out my online form.
URL:https://www.cf.edu/event/levy-dual-enrollment-orientation-session-5/
LOCATION:FL
CATEGORIES:Admissions,Dual Enrollment,Information Session,Levy Campus
ATTACH;FMTTYPE=image/jpeg:https://www.cf.edu/wp-content/uploads/2020/07/CFEvents-default-image.jpg
END:VEVENT
BEGIN:VEVENT
DTSTART;TZID=America/New_York:20220425T160000
DTEND;TZID=America/New_York:20220425T170000
DTSTAMP:20260419T152346
CREATED:20220329T203837Z
LAST-MODIFIED:20220329T203837Z
UID:10001507-1650902400-1650906000@www.cf.edu
SUMMARY:Physical Therapist Assistant Information Session
DESCRIPTION:CF is conducting a Physical Therapist Assistant program information session. Students can attend via zoom or in person in the PTA classroom (Building 20\, Room 109). Potential students must attend a session before applying to any of the programs. Sessions provide details about admissions criteria\, program requirements\, costs and more. \nZoom registration is required in advance. \nThere is no waiting list for any of the Health Science programs. Some programs have part-time enrollment options. \nFor information about any of the programs or sessions email Peggy Recanzone at recanzop@cf.edu. \n 
URL:https://www.cf.edu/event/physical-therapist-assistant-information-session-20/
LOCATION:Ocala Campus\, 3001 SW College Rd\, Ocala\, FL\, 34474\, United States
CATEGORIES:Health Sciences,Information Session
ATTACH;FMTTYPE=image/png:https://www.cf.edu/wp-content/uploads/2021/01/PTA-event.png
END:VEVENT
BEGIN:VEVENT
DTSTART;TZID=America/New_York:20220427T120000
DTEND;TZID=America/New_York:20220427T130000
DTSTAMP:20260419T152346
CREATED:20220411T203532Z
LAST-MODIFIED:20220411T203532Z
UID:10001529-1651060800-1651064400@www.cf.edu
SUMMARY:Surgical Services Information Session
DESCRIPTION:CF is conducting a Virtual Surgical Services program information session on April 27 at noon. Potential students must attend a session before applying to any of the programs. Sessions provide details about admissions criteria\, program requirements\, costs and more. Attend and complete your CF general admission application and the $30 fee will be waived. \nThere is no waiting list for any of the Health Science programs. Some programs have part-time enrollment options.\nFor information about any of the programs or sessions email Peggy Recanzone at recanzop@cf.edu.
URL:https://www.cf.edu/event/surgical-services-information-session-2/
LOCATION:Online
CATEGORIES:Health Sciences,Information Session
ATTACH;FMTTYPE=image/png:https://www.cf.edu/wp-content/uploads/2021/01/Surgical-Tech-info-session-event.png
END:VEVENT
BEGIN:VEVENT
DTSTART;TZID=America/New_York:20220429T081500
DTEND;TZID=America/New_York:20220429T094500
DTSTAMP:20260419T152346
CREATED:20220228T132818Z
LAST-MODIFIED:20220421T175248Z
UID:10001486-1651220100-1651225500@www.cf.edu
SUMMARY:Levy Dual Enrollment Orientation Session
DESCRIPTION:Interested in Dual Enrollment? Attend an orientation session to learn more about the program\, how to apply\, what the requirements are\, and meet with CF staff. Qualified high school students may accelerate their college education through dual enrollment courses offered at the high school or a CF campus location. Attendance at one orientation session is required for all incoming dual enrollment students. \nThis session will be held at Bronson High School. \n Fill out my online form.
URL:https://www.cf.edu/event/levy-dual-enrollment-orientation-session-11-2/
LOCATION:FL
CATEGORIES:Admissions,Dual Enrollment,Information Session
ATTACH;FMTTYPE=image/jpeg:https://www.cf.edu/wp-content/uploads/2020/07/CFEvents-default-image.jpg
END:VEVENT
BEGIN:VEVENT
DTSTART;TZID=America/New_York:20220429T123000
DTEND;TZID=America/New_York:20220429T133000
DTSTAMP:20260419T152346
CREATED:20220404T143745Z
LAST-MODIFIED:20220404T144025Z
UID:10001513-1651235400-1651239000@www.cf.edu
SUMMARY:Virtual Nursing Information Session - ADN\, Bridge\, BSN
DESCRIPTION:CF is conducting a virtual information session to learn more about the Associate Degree Nursing\, LPN and Paramedic Bridge Nursing and BSN programs through a Zoom presentation. Stay on and complete your CF general admission application and the $30 fee will be waived. Potential students must attend a session before applying to any of the programs. Sessions provide details about admissions criteria\, program requirements\, costs and more. \nThere is no waiting list for any of the Health Science programs. Some programs have part-time enrollment options.\nFor information about any of the programs or sessions email Peggy Recanzone at recanzop@cf.edu.
URL:https://www.cf.edu/event/virtual-nursing-information-session-adn-bridge-bsn-2/
LOCATION:Online
CATEGORIES:Health Sciences,Information Session
ATTACH;FMTTYPE=image/png:https://www.cf.edu/wp-content/uploads/2021/01/Nursing-info-session-event.png
END:VEVENT
BEGIN:VEVENT
DTSTART;TZID=America/New_York:20220429T173000
DTEND;TZID=America/New_York:20220429T183000
DTSTAMP:20260419T152346
CREATED:20220125T134729Z
LAST-MODIFIED:20220415T151101Z
UID:10001446-1651253400-1651257000@www.cf.edu
SUMMARY:Ocala Dual Enrollment Orientation Session
DESCRIPTION:This event has been cancelled.\nInterested in Dual Enrollment? Attend an orientation session to learn more about the program\, how to apply\, what the requirements are\, and meet with CF staff. Qualified high school students may accelerate their college education through dual enrollment courses offered at the high school or a CF campus location. Attendance at one orientation session is required for all incoming dual enrollment students. \nThis session will be held in Building 8\, Room 110. More session times are available for selection below.
URL:https://www.cf.edu/event/ocala-dual-enrollment-orientation-session-5/
LOCATION:Ocala Campus\, 3001 SW College Rd\, Ocala\, FL\, 34474\, United States
CATEGORIES:Admissions,Dual Enrollment,Information Session,Ocala Campus
ATTACH;FMTTYPE=image/jpeg:https://www.cf.edu/wp-content/uploads/2020/07/CFEvents-default-image.jpg
END:VEVENT
END:VCALENDAR