BEGIN:VCALENDAR
VERSION:2.0
PRODID:-//College Of Central Florida - ECPv6.10.1.1//NONSGML v1.0//EN
CALSCALE:GREGORIAN
METHOD:PUBLISH
X-WR-CALNAME:College Of Central Florida
X-ORIGINAL-URL:https://www.cf.edu
X-WR-CALDESC:Events for College Of Central Florida
REFRESH-INTERVAL;VALUE=DURATION:PT1H
X-Robots-Tag:noindex
X-PUBLISHED-TTL:PT1H
BEGIN:VTIMEZONE
TZID:America/New_York
BEGIN:DAYLIGHT
TZOFFSETFROM:-0500
TZOFFSETTO:-0400
TZNAME:EDT
DTSTART:20250309T070000
END:DAYLIGHT
BEGIN:STANDARD
TZOFFSETFROM:-0400
TZOFFSETTO:-0500
TZNAME:EST
DTSTART:20251102T060000
END:STANDARD
TZID:America/New_York
BEGIN:DAYLIGHT
TZOFFSETFROM:-0500
TZOFFSETTO:-0400
TZNAME:EDT
DTSTART:20250309T070000
END:DAYLIGHT
BEGIN:STANDARD
TZOFFSETFROM:-0400
TZOFFSETTO:-0500
TZNAME:EST
DTSTART:20251102T060000
END:STANDARD
END:VTIMEZONE
BEGIN:VEVENT
DTSTART;TZID=America/New_York:20250402T160000
DTEND;TZID=America/New_York:20250402T170000
DTSTAMP:20260419T075928
CREATED:20250127T160435Z
LAST-MODIFIED:20250127T160435Z
UID:10003353-1743609600-1743613200@www.cf.edu
SUMMARY:Virtual Dual Enrollment Information Session
DESCRIPTION:Interested in Dual Enrollment or Collegiate Academy? Attend an information session to learn more about the program and the requirements\, plus meet with CF staff and learn how to apply. Qualified high school students may accelerate their college education through dual enrollment. Attendance at one information session is required for all incoming dual enrollment students. \nRegister to attend! \nRegister Now
URL:https://www.cf.edu/event/virtual-dual-enrollment-information-session-60/
LOCATION:Online
CATEGORIES:Dual Enrollment,Information Session
ATTACH;FMTTYPE=image/jpeg:https://www.cf.edu/wp-content/uploads/2022/01/career-readiness-lunch-n-learn-lake-superior-college-2-web.jpg
END:VEVENT
BEGIN:VEVENT
DTSTART;TZID=America/New_York:20250403T123000
DTEND;TZID=America/New_York:20250403T133000
DTSTAMP:20260419T075928
CREATED:20241209T202713Z
LAST-MODIFIED:20250203T192300Z
UID:10003297-1743683400-1743687000@www.cf.edu
SUMMARY:Virtual Information Session for B.A.S. in Business and Organizational Management
DESCRIPTION:Join advisors\, administrators and faculty for an informational session about the Bachelor of Applied Science in Business and Organization Management. Learn about specialization options\, program design\, affordability and admissions. Registration is required for this session. \nRegister Now
URL:https://www.cf.edu/event/virtual-information-session-for-b-a-s-in-business-and-organizational-management-20/
LOCATION:Online
CATEGORIES:Business, Technology and Agricultural Sciences,Information Session
ATTACH;FMTTYPE=image/jpeg:https://www.cf.edu/wp-content/uploads/2024/12/BASINfoSessions.jpg
END:VEVENT
BEGIN:VEVENT
DTSTART;TZID=America/New_York:20250407T130000
DTEND;TZID=America/New_York:20250407T130000
DTSTAMP:20260419T075928
CREATED:20241031T162430Z
LAST-MODIFIED:20241031T162430Z
UID:10003228-1744030800-1744030800@www.cf.edu
SUMMARY:Virtual Nursing Information Session - ADN\, LPN\, Paramedic Bridge
DESCRIPTION:Learn more about the Associate Degree Nursing\, LPN and Paramedic Bridge Nursing programs and their admission criteria. The CF general admission application fee ($30) will be waived for attendees who complete the CF general admission application during the webinar. \nThere is no waiting list for any of the Health Science programs. Some programs have part-time enrollment options.\nFor information about any of the programs or sessions email Peggy Recanzone at recanzop@cf.edu.
URL:https://www.cf.edu/event/virtual-nursing-information-session-adn-lpn-paramedic-bridge-18/
LOCATION:Online
CATEGORIES:Health Sciences,Information Session
ATTACH;FMTTYPE=image/jpeg:https://www.cf.edu/wp-content/uploads/2022/09/4011-web.jpg
END:VEVENT
BEGIN:VEVENT
DTSTART;TZID=America/New_York:20250407T150000
DTEND;TZID=America/New_York:20250407T150000
DTSTAMP:20260419T075928
CREATED:20241107T161246Z
LAST-MODIFIED:20241107T161246Z
UID:10003250-1744038000-1744038000@www.cf.edu
SUMMARY:Emergency Medical Services Information Session
DESCRIPTION:CF is conducting Emergency Medical Services (EMT & Paramedic) program information sessions live at the Ocala Campus\, Building 35 Room 105. It is recommended that potential students attend a session before applying to any of the programs. Sessions provide details about admissions criteria\, program requirements\, costs and more. \nThere is no waiting list for any of the Health Science programs. Some programs have part-time enrollment options. \nFor information about any of the programs or sessions email Peggy Recanzone at recanzop@cf.edu. \n 
URL:https://www.cf.edu/event/emergency-medical-services-information-session-42/
LOCATION:Ocala Campus\, 3001 SW College Rd\, Ocala\, FL\, 34474\, United States
CATEGORIES:Health Sciences,Information Session,Ocala Campus
ATTACH;FMTTYPE=image/jpeg:https://www.cf.edu/wp-content/uploads/2022/06/6J2A0759-edit-web.jpg
END:VEVENT
BEGIN:VEVENT
DTSTART;TZID=America/New_York:20250407T150000
DTEND;TZID=America/New_York:20250407T150000
DTSTAMP:20260419T075928
CREATED:20250213T192059Z
LAST-MODIFIED:20250213T192059Z
UID:10003376-1744038000-1744038000@www.cf.edu
SUMMARY:Virtual BSN Information Session
DESCRIPTION:Learn more about admissions criteria\, program requirements\, costs and more. The CF general admission application fee ($30) will be waived for attendees who complete the CF general admission application during the webinar. \nThere is no waiting list for any of the Health Science programs. Some programs have part-time enrollment options. \nFor information about any of the programs or sessions email Peggy Recanzone at recanzop@cf.edu. \nRegister Now
URL:https://www.cf.edu/event/virtual-bsn-information-session-8/
LOCATION:Online
CATEGORIES:Health Sciences,Information Session
ATTACH;FMTTYPE=image/jpeg:https://www.cf.edu/wp-content/uploads/2022/09/4011-web.jpg
END:VEVENT
BEGIN:VEVENT
DTSTART;TZID=America/New_York:20250407T160000
DTEND;TZID=America/New_York:20250407T170000
DTSTAMP:20260419T075928
CREATED:20241216T135314Z
LAST-MODIFIED:20241216T135719Z
UID:10003317-1744041600-1744045200@www.cf.edu
SUMMARY:Virtual Physical Therapy Assistant Information Session
DESCRIPTION:CF is conducting a Virtual Physical Therapist Assistant program information session through a Zoom presentation. Potential students must attend a session before applying to any of the programs. Sessions provide details about admissions criteria\, program requirements\, costs and more. \nThere is no waiting list for any of the Health Science programs. Some programs have part-time enrollment options. \nFor information about any of the programs or sessions email Peggy Recanzone at recanzop@cf.edu. \nRegister for the session
URL:https://www.cf.edu/event/virtual-physical-therapy-assistant-information-session-14/
LOCATION:Online
CATEGORIES:Health Sciences,Information Session
ATTACH;FMTTYPE=image/jpeg:https://www.cf.edu/wp-content/uploads/2023/12/6J2A1208-1-1.jpg
END:VEVENT
BEGIN:VEVENT
DTSTART;TZID=America/New_York:20250407T180000
DTEND;TZID=America/New_York:20250407T190000
DTSTAMP:20260419T075928
CREATED:20241107T152326Z
LAST-MODIFIED:20241107T152326Z
UID:10003243-1744048800-1744052400@www.cf.edu
SUMMARY:Emergency Medical Services Information Session
DESCRIPTION:CF is conducting Emergency Medical Services (EMT & Paramedic) program information sessions live at the Levy Campus\, Room 202. It is recommended that potential students attend a session before applying to any of the programs. Sessions provide details about admissions criteria\, program requirements\, costs and more. \nThere is no waiting list for any of the Health Science programs. Some programs have part-time enrollment options. \nFor information about any of the programs or sessions email Peggy Recanzone at recanzop@cf.edu. \n Fill out my online form. \n  \n 
URL:https://www.cf.edu/event/emergency-medical-services-information-session-38/
LOCATION:Levy Campus\, 15390 N.W. Highway 19\, Chiefland\, 32626
CATEGORIES:Health Sciences,Information Session,Levy Campus
ATTACH;FMTTYPE=image/jpeg:https://www.cf.edu/wp-content/uploads/2022/06/6J2A0759-edit-web.jpg
END:VEVENT
BEGIN:VEVENT
DTSTART;TZID=America/New_York:20250408T100000
DTEND;TZID=America/New_York:20250408T100000
DTSTAMP:20260419T075928
CREATED:20241213T170916Z
LAST-MODIFIED:20241213T170916Z
UID:10003324-1744106400-1744106400@www.cf.edu
SUMMARY:Virtual Fire Science Technology Information Session
DESCRIPTION:Learn more about the Fire Science Technology A.S. degree. At this virtual information session\, meet with the program manager regarding the degree\, program goals and expected curriculum. Attendees are eligible to complete the CF general admission application for free. \nRegistration is required to attend. \nRegister Now
URL:https://www.cf.edu/event/virtual-fire-science-technology-information-session-10/
LOCATION:Online
CATEGORIES:Health Sciences,Information Session
ATTACH;FMTTYPE=image/jpeg:https://www.cf.edu/wp-content/uploads/2021/01/CFEventHealth.jpg
END:VEVENT
BEGIN:VEVENT
DTSTART;TZID=America/New_York:20250414T140000
DTEND;TZID=America/New_York:20250414T140000
DTSTAMP:20260419T075928
CREATED:20241108T154230Z
LAST-MODIFIED:20241108T163745Z
UID:10003260-1744639200-1744639200@www.cf.edu
SUMMARY:Virtual Dental Hygiene Information Session
DESCRIPTION:Join staff and learn more about the AS Dental Hygiene program. Topics covered include general education requirements\, program costs\, admission criteria and more. The CF general admission application fee ($30) will be waived for attendees who complete the CF general admission application during the webinar. \nThere is no waiting list for any of the Health Science programs. Some programs have part-time enrollment options. \nRegistration is required for this event. For information about any of the programs or sessions email Peggy Recanzone at recanzop@cf.edu.
URL:https://www.cf.edu/event/virtual-dental-hygiene-information-session-25/
LOCATION:Online
CATEGORIES:Health Sciences,Information Session
ATTACH;FMTTYPE=image/jpeg:https://www.cf.edu/wp-content/uploads/2023/08/6559-web.jpg
END:VEVENT
BEGIN:VEVENT
DTSTART;TZID=America/New_York:20250416T110000
DTEND;TZID=America/New_York:20250416T110000
DTSTAMP:20260419T075928
CREATED:20241213T161110Z
LAST-MODIFIED:20241216T140445Z
UID:10003309-1744801200-1744801200@www.cf.edu
SUMMARY:Virtual Respiratory Care Information Session
DESCRIPTION:Learn more about CF’s Associate in Science Degree in Respiratory Care. Admissions criteria\, program requirements\, costs and more will be covered. Attend and complete your CF general admission application during the event and the $30 fee will be waived. \nThere is no waiting list for any of the Health Science programs. Some programs have part-time enrollment options. \nFor information about any of the programs or sessions email Peggy Recanzone at recanzop@cf.edu. \nRegistration is required for this event.\nRegister Now
URL:https://www.cf.edu/event/virtual-respiratory-care-information-session-18/
LOCATION:Online
CATEGORIES:Health Sciences,Information Session
ATTACH;FMTTYPE=image/jpeg:https://www.cf.edu/wp-content/uploads/2022/11/iStock-1073909314-web.jpg
END:VEVENT
BEGIN:VEVENT
DTSTART;TZID=America/New_York:20250416T110000
DTEND;TZID=America/New_York:20250416T110000
DTSTAMP:20260419T075928
CREATED:20250102T155348Z
LAST-MODIFIED:20250102T155348Z
UID:10003331-1744801200-1744801200@www.cf.edu
SUMMARY:Why CF? Virtual Information Session
DESCRIPTION:Get a feel for what it’s like to be a CF Patriot in this 45-minute information session. You’ll find out about why CF should be your first choice for college and get a crash course in the application process. Plus\, all attendees will get a waiver allowing them to apply for free during the session! \nLet us know you’ll be there!\nRegister Now
URL:https://www.cf.edu/event/why-cf-virtual-information-session-28/
LOCATION:Online
CATEGORIES:Admissions,Information Session
ATTACH;FMTTYPE=image/jpeg:https://www.cf.edu/wp-content/uploads/2020/07/CFEvents-default-image.jpg
END:VEVENT
BEGIN:VEVENT
DTSTART;TZID=America/New_York:20250416T120000
DTEND;TZID=America/New_York:20250416T120000
DTSTAMP:20260419T075928
CREATED:20241031T163525Z
LAST-MODIFIED:20241031T163525Z
UID:10003235-1744804800-1744804800@www.cf.edu
SUMMARY:Virtual Surgical Services Information Session
DESCRIPTION:CF is conducting a Virtual Surgical Services program information session to help you learn about admissions criteria\, program requirements\, costs and more. Potential students must attend a session before applying to any of the programs. Attendees\, who apply at the event\, will receive a waiver for the $30 admissions application fee. \nFor information about any of the programs or sessions email Peggy Recanzone at recanzop@cf.edu.
URL:https://www.cf.edu/event/virtual-surgical-services-information-session-38/
LOCATION:Online
CATEGORIES:Health Sciences,Information Session
ATTACH;FMTTYPE=image/jpeg:https://www.cf.edu/wp-content/uploads/2023/07/3082.jpg
END:VEVENT
BEGIN:VEVENT
DTSTART;TZID=America/New_York:20250422T100000
DTEND;TZID=America/New_York:20250422T110000
DTSTAMP:20260419T075928
CREATED:20241203T202004Z
LAST-MODIFIED:20241203T202054Z
UID:10003283-1745316000-1745319600@www.cf.edu
SUMMARY:Virtual Diagnostic Medical Sonography Technology Information Session
DESCRIPTION:Learn more about CF’s anticipated Associate in Science Degree in Diagnostic Medical Sonography Technology. Admissions criteria\, program requirements\, costs and more will be covered. The CF general admission application fee ($30) will be waived for attendees who complete the CF general admission application during the webinar. \nThere is no waiting list for any of the Health Science programs. Some programs have part-time enrollment options. \nRegistration is required for this event. For information about any of the programs or sessions email Peggy Recanzone at recanzop@cf.edu.
URL:https://www.cf.edu/event/virtual-diagnostic-medical-sonography-technology-information-session-19/
LOCATION:Online
CATEGORIES:Health Sciences,Information Session
ATTACH;FMTTYPE=image/jpeg:https://www.cf.edu/wp-content/uploads/2023/09/CCF_8643-edit-web.jpg
END:VEVENT
BEGIN:VEVENT
DTSTART;TZID=America/New_York:20250422T140000
DTEND;TZID=America/New_York:20250422T150000
DTSTAMP:20260419T075928
CREATED:20241203T200802Z
LAST-MODIFIED:20241203T200802Z
UID:10003278-1745330400-1745334000@www.cf.edu
SUMMARY:Virtual Cardiovascular Technology Information Session
DESCRIPTION:Learn more about CF’s anticipated Associate in Science Degree in Cardiovascular Technology (program accreditation pending). Admissions criteria\, program requirements\, costs and more will be covered. The CF general admission application fee ($30) will be waived for attendees who complete the CF general admission application during the webinar. \nThere is no waiting list for any of the Health Science programs. Some programs have part-time enrollment options. \nRegistration is required for this event. For information about any of the programs or sessions email Peggy Recanzone at recanzop@cf.edu.
URL:https://www.cf.edu/event/virtual-cardiovascular-technology-information-session-11/
LOCATION:Online
CATEGORIES:Health Sciences,Information Session
ATTACH;FMTTYPE=image/jpeg:https://www.cf.edu/wp-content/uploads/2022/12/iStock-147426963-web-e1711390148646.jpg
END:VEVENT
BEGIN:VEVENT
DTSTART;TZID=America/New_York:20250422T160000
DTEND;TZID=America/New_York:20250422T170000
DTSTAMP:20260419T075928
CREATED:20250127T160553Z
LAST-MODIFIED:20250127T160553Z
UID:10003354-1745337600-1745341200@www.cf.edu
SUMMARY:Virtual Dual Enrollment Information Session
DESCRIPTION:Interested in Dual Enrollment or Collegiate Academy? Attend an information session to learn more about the program and the requirements\, plus meet with CF staff and learn how to apply. Qualified high school students may accelerate their college education through dual enrollment. Attendance at one information session is required for all incoming dual enrollment students. \nRegister to attend! \nRegister Now
URL:https://www.cf.edu/event/virtual-dual-enrollment-information-session-61/
LOCATION:Online
CATEGORIES:Dual Enrollment,Information Session
ATTACH;FMTTYPE=image/jpeg:https://www.cf.edu/wp-content/uploads/2022/01/career-readiness-lunch-n-learn-lake-superior-college-2-web.jpg
END:VEVENT
BEGIN:VEVENT
DTSTART;TZID=America/New_York:20250423T100000
DTEND;TZID=America/New_York:20250423T100000
DTSTAMP:20260419T075928
CREATED:20241213T171017Z
LAST-MODIFIED:20241216T141001Z
UID:10003325-1745402400-1745402400@www.cf.edu
SUMMARY:Virtual Fire Science Technology Information Session
DESCRIPTION:Learn more about the Fire Science Technology A.S. degree. At this virtual information session\, meet with the program manager regarding the degree\, program goals and expected curriculum. Attendees are eligible to complete the CF general admission application for free. \nRegistration is required to attend. \nRegister Now
URL:https://www.cf.edu/event/virtual-fire-science-technology-information-session-11/
LOCATION:Online
CATEGORIES:Health Sciences,Information Session
ATTACH;FMTTYPE=image/jpeg:https://www.cf.edu/wp-content/uploads/2023/09/iStock-1482175379-copy2.jpg
END:VEVENT
BEGIN:VEVENT
DTSTART;TZID=America/New_York:20250424T100000
DTEND;TZID=America/New_York:20250424T100000
DTSTAMP:20260419T075928
CREATED:20250225T204743Z
LAST-MODIFIED:20250225T204743Z
UID:10003379-1745488800-1745488800@www.cf.edu
SUMMARY:Virtual Nursing Information Session - ADN\, LPN\, Paramedic Bridge
DESCRIPTION:Learn more about the Associate Degree Nursing\, LPN and Paramedic Bridge Nursing programs and their admission criteria. The CF general admission application fee ($30) will be waived for attendees who complete the CF general admission application during the webinar. \nThere is no waiting list for any of the Health Science programs. Some programs have part-time enrollment options. \nFor information about any of the programs or sessions email Peggy Recanzone at recanzop@cf.edu. \nRegister Now
URL:https://www.cf.edu/event/virtual-nursing-information-session-adn-lpn-paramedic-bridge-19/
LOCATION:Online
CATEGORIES:Health Sciences,Information Session
ATTACH;FMTTYPE=image/jpeg:https://www.cf.edu/wp-content/uploads/2022/09/4011-web.jpg
END:VEVENT
BEGIN:VEVENT
DTSTART;TZID=America/New_York:20250425T110000
DTEND;TZID=America/New_York:20250425T120000
DTSTAMP:20260419T075928
CREATED:20250325T173657Z
LAST-MODIFIED:20250325T173657Z
UID:10003426-1745578800-1745582400@www.cf.edu
SUMMARY:Graduation Fair
DESCRIPTION:Congratulations future CF grads!\nAttend our Graduation Fair to learn all about finishing strong and what your eduation could look like after CF. This event will take place on Friday\, April 25\, from 11 a.m. – Noon at the CF Bookstore on the Ocala Campus.  \nLearn all about graduation requirements and details about the commencement ceremony. Purchase graduation caps and gowns if you missed the online deadline. Grab a selfie or professional photo for pre-graduation promo photos – caps and gowns will be provided for photos. Plus\, enjoy snow cones\, music and fun! \nWe look forward to seeing you there! For more information about graduation day\, visit www.cf.edu/graduation.
URL:https://www.cf.edu/event/graduation-fair/
LOCATION:Ocala Campus\, 3001 SW College Rd\, Ocala\, FL\, 34474\, United States
CATEGORIES:Information Session,Ocala Campus,Student Life
ATTACH;FMTTYPE=image/jpeg:https://www.cf.edu/wp-content/uploads/2022/11/cf-graduates.jpg
END:VEVENT
BEGIN:VEVENT
DTSTART;TZID=America/New_York:20250428T160000
DTEND;TZID=America/New_York:20250428T160000
DTSTAMP:20260419T075928
CREATED:20241213T163755Z
LAST-MODIFIED:20241216T135615Z
UID:10003316-1745856000-1745856000@www.cf.edu
SUMMARY:Virtual Physical Therapy Assistant Information Session
DESCRIPTION:CF is conducting a Virtual Physical Therapist Assistant program information session through a Zoom presentation. Potential students must attend a session before applying to any of the programs. Sessions provide details about admissions criteria\, program requirements\, costs and more. \nThere is no waiting list for any of the Health Science programs. Some programs have part-time enrollment options. \nFor information about any of the programs or sessions email Peggy Recanzone at recanzop@cf.edu. \nRegister for the session
URL:https://www.cf.edu/event/virtual-physical-therapy-assistant-information-session-13/
LOCATION:Online
CATEGORIES:Health Sciences,Information Session
ATTACH;FMTTYPE=image/jpeg:https://www.cf.edu/wp-content/uploads/2023/12/6J2A1208-1-1.jpg
END:VEVENT
BEGIN:VEVENT
DTSTART;TZID=America/New_York:20250429T160000
DTEND;TZID=America/New_York:20250429T170000
DTSTAMP:20260419T075928
CREATED:20250424T175732Z
LAST-MODIFIED:20250424T175732Z
UID:10003459-1745942400-1745946000@www.cf.edu
SUMMARY:Virtual Dual Enrollment Information Session
DESCRIPTION:Interested in Dual Enrollment or Collegiate Academy? Attend an information session to learn more about the program and the requirements\, plus meet with CF staff and learn how to apply. Qualified high school students may accelerate their college education through dual enrollment. Attendance at one information session is required for all incoming dual enrollment students. \nRegister to attend! \nRegister Now
URL:https://www.cf.edu/event/virtual-dual-enrollment-information-session-62/
LOCATION:Online
CATEGORIES:Dual Enrollment,Information Session
ATTACH;FMTTYPE=image/jpeg:https://www.cf.edu/wp-content/uploads/2022/01/career-readiness-lunch-n-learn-lake-superior-college-2-web.jpg
END:VEVENT
BEGIN:VEVENT
DTSTART;TZID=America/New_York:20250430T090000
DTEND;TZID=America/New_York:20250430T090000
DTSTAMP:20260419T075928
CREATED:20241108T153223Z
LAST-MODIFIED:20241108T163351Z
UID:10003254-1746003600-1746003600@www.cf.edu
SUMMARY:Virtual Dental Assisting Information Session
DESCRIPTION:Learn more about the Dental Assisting program and admission criteria. The CF general admission application fee ($30) will be waived for attendees who complete the CF general admission application during the webinar. \nThere is no waiting list for any of the Health Science programs. Some programs have part-time enrollment options. \nRegistration is required for this event. For information about any of the programs or sessions email Peggy Recanzone at recanzop@cf.edu.
URL:https://www.cf.edu/event/virtual-dental-assisting-information-session-23/
LOCATION:Online
CATEGORIES:Health Sciences,Information Session
ATTACH;FMTTYPE=image/jpeg:https://www.cf.edu/wp-content/uploads/2023/08/6559-web.jpg
END:VEVENT
BEGIN:VEVENT
DTSTART;TZID=America/New_York:20250430T100000
DTEND;TZID=America/New_York:20250430T100000
DTSTAMP:20260419T075928
CREATED:20241108T155328Z
LAST-MODIFIED:20241108T163120Z
UID:10003265-1746007200-1746007200@www.cf.edu
SUMMARY:Virtual Radiography Information Session
DESCRIPTION:Learn more about the Radiography program and admission criteria. The CF general admission application fee ($30) will be waived for attendees who complete the CF general admission application during the webinar. \nThere is no waiting list for any of the Health Science programs. Some programs have part-time enrollment options.\nFor information about any of the programs or sessions email Peggy Recanzone at recanzop@cf.edu.
URL:https://www.cf.edu/event/virtual-radiography-information-session-36/
LOCATION:Online
CATEGORIES:Health Sciences,Information Session
ATTACH;FMTTYPE=image/jpeg:https://www.cf.edu/wp-content/uploads/2022/12/Radiography.00_00_53_17.Still013edit.jpg
END:VEVENT
END:VCALENDAR