BEGIN:VCALENDAR
VERSION:2.0
PRODID:-//College Of Central Florida - ECPv6.10.1.1//NONSGML v1.0//EN
CALSCALE:GREGORIAN
METHOD:PUBLISH
X-WR-CALNAME:College Of Central Florida
X-ORIGINAL-URL:https://www.cf.edu
X-WR-CALDESC:Events for College Of Central Florida
REFRESH-INTERVAL;VALUE=DURATION:PT1H
X-Robots-Tag:noindex
X-PUBLISHED-TTL:PT1H
BEGIN:VTIMEZONE
TZID:America/New_York
BEGIN:DAYLIGHT
TZOFFSETFROM:-0500
TZOFFSETTO:-0400
TZNAME:EDT
DTSTART:20250309T070000
END:DAYLIGHT
BEGIN:STANDARD
TZOFFSETFROM:-0400
TZOFFSETTO:-0500
TZNAME:EST
DTSTART:20251102T060000
END:STANDARD
TZID:America/New_York
BEGIN:DAYLIGHT
TZOFFSETFROM:-0500
TZOFFSETTO:-0400
TZNAME:EDT
DTSTART:20250309T070000
END:DAYLIGHT
BEGIN:STANDARD
TZOFFSETFROM:-0400
TZOFFSETTO:-0500
TZNAME:EST
DTSTART:20251102T060000
END:STANDARD
END:VTIMEZONE
BEGIN:VEVENT
DTSTART;TZID=America/New_York:20251001T173000
DTEND;TZID=America/New_York:20251001T193000
DTSTAMP:20260423T085604
CREATED:20250820T144233Z
LAST-MODIFIED:20250822T144622Z
UID:10003632-1759339800-1759347000@www.cf.edu
SUMMARY:Sesion Informativa Virtual En Español
DESCRIPTION:Únase a nosotros para aprender sobre el proceso de admisión\, ayuda financiera\, asesoramiento académico\, clases de ESL y estudiar como un estudiante internacional F1. \nRegístrate Ahora! \nTodos los horarios de las sesiones están en la zona horaria estándar del este. Haga clic para ver un conversor de zona horaria.
URL:https://www.cf.edu/event/sesion-informativa-virtual-en-espanol/
LOCATION:Online
CATEGORIES:Admissions,Information Session,International
ATTACH;FMTTYPE=image/jpeg:https://www.cf.edu/wp-content/uploads/2022/04/Virtual-Information-Session-last.jpg
END:VEVENT
BEGIN:VEVENT
DTSTART;TZID=America/New_York:20251002T170000
DTEND;TZID=America/New_York:20251002T183000
DTSTAMP:20260423T085605
CREATED:20250911T204708Z
LAST-MODIFIED:20250911T204708Z
UID:10003705-1759424400-1759429800@www.cf.edu
SUMMARY:Virtual Dual Enrollment Discovery Night
DESCRIPTION:Jumpstart Your College Journey at CF!\nJoin us at CF’s Virtual Dual Enrollment Discovery Night on Thursday\, Oct. 2\, from 5-6:30 p.m. Current middle and high school students are invited to learn how to earn college credits while still in high school to get a head start on your future career and academic path.  \nDuring this event you will learn about: \n\nEligibility and Applications\nPrograms and Support Services\nReal Experiences from Current Dual Enrollment Students\nRegister for this free event today!
URL:https://www.cf.edu/event/virtual-dual-enrollment-discovery-night/
LOCATION:Online
CATEGORIES:Dual Enrollment,Information Session,Ocala Campus
ATTACH;FMTTYPE=image/jpeg:https://www.cf.edu/wp-content/uploads/2023/09/iStock-523725071-copy.jpg
END:VEVENT
BEGIN:VEVENT
DTSTART;TZID=America/New_York:20251006T090000
DTEND;TZID=America/New_York:20251006T090000
DTSTAMP:20260423T085605
CREATED:20250717T182021Z
LAST-MODIFIED:20250717T182021Z
UID:10003581-1759741200-1759741200@www.cf.edu
SUMMARY:Virtual Dental Hygiene Information Session
DESCRIPTION:Join staff and learn more about the AS Dental Hygiene program. Topics covered include general education requirements\, program costs\, admission criteria and more. \nThere is no waiting list for any of the Health Science programs. Some programs have part-time enrollment options. \nRegistration is required for this event. For information about any of the programs or sessions email Peggy Recanzone at recanzop@cf.edu. \nRegister Now
URL:https://www.cf.edu/event/virtual-dental-hygiene-information-session-31/
LOCATION:Online
CATEGORIES:Health Sciences,Information Session
ATTACH;FMTTYPE=image/jpeg:https://www.cf.edu/wp-content/uploads/2023/08/6559-web.jpg
END:VEVENT
BEGIN:VEVENT
DTSTART;TZID=America/New_York:20251006T123000
DTEND;TZID=America/New_York:20251006T130000
DTSTAMP:20260423T085605
CREATED:20250723T175933Z
LAST-MODIFIED:20250723T175933Z
UID:10003602-1759753800-1759755600@www.cf.edu
SUMMARY:Internship Jumpstart
DESCRIPTION:Ready to intern? Not sure where to get started? This quick 30-minute session will guide you through the essential process of securing an internship\, from finding the right opportunity to completing the required forms. Learn insider tips\, avoid common pitfalls and ensure you’re set up for success. Whether you’re just starting or finalizing your internship plans\, this workshop will provide the tools and knowledge you need to make your internship journey smooth and rewarding. \nRegistration is required.\nRegister Now
URL:https://www.cf.edu/event/internship-jumpstart-2/
LOCATION:Online
CATEGORIES:Business, Technology and Agricultural Sciences,Information Session
ATTACH;FMTTYPE=image/jpeg:https://www.cf.edu/wp-content/uploads/2025/07/Internship-Jumpstart.jpg
END:VEVENT
BEGIN:VEVENT
DTSTART;TZID=America/New_York:20251006T130000
DTEND;TZID=America/New_York:20251006T130000
DTSTAMP:20260423T085605
CREATED:20250708T182620Z
LAST-MODIFIED:20250708T182620Z
UID:10003518-1759755600-1759755600@www.cf.edu
SUMMARY:Virtual Nursing Information Session - ADN and Bridge Programs
DESCRIPTION:CF is conducting a virtual information session to learn more about the Associate Degree Nursing\, LPN and Paramedic Bridge Nursing programs through a Zoom presentation. Potential students must attend a session before applying to any of the programs. Sessions provide details about admissions criteria\, program requirements\, costs and more. \nThere is no waiting list for any of the Health Science programs. Some programs have part-time enrollment options.\nFor information about any of the programs or sessions email Peggy Recanzone at recanzop@cf.edu. \nRegistration is required for this event.\nRegister now
URL:https://www.cf.edu/event/virtual-nursing-information-session-adn-and-bridge-programs-6/
LOCATION:Online
CATEGORIES:Health Sciences,Information Session
ATTACH;FMTTYPE=image/jpeg:https://www.cf.edu/wp-content/uploads/2022/09/4011-web.jpg
END:VEVENT
BEGIN:VEVENT
DTSTART;TZID=America/New_York:20251006T150000
DTEND;TZID=America/New_York:20251006T150000
DTSTAMP:20260423T085605
CREATED:20250721T155915Z
LAST-MODIFIED:20250721T155915Z
UID:10003599-1759762800-1759762800@www.cf.edu
SUMMARY:Emergency Medical Services Information Session
DESCRIPTION:CF is conducting Emergency Medical Services (EMT & Paramedic) program information sessions live at the Ocala Campus\, Building 35 Room 105. It is recommended that potential students attend a session before applying to any of the programs. Sessions provide details about admissions criteria\, program requirements\, costs and more. \nThere is no waiting list for any of the Health Science programs. Some programs have part-time enrollment options. \nFor information about any of the programs or sessions email Peggy Recanzone at recanzop@cf.edu. \nRegister for this event. \n Fill out my online form. \n  \n 
URL:https://www.cf.edu/event/emergency-medical-services-information-session-49/
LOCATION:Ocala Campus\, 3001 SW College Rd\, Ocala\, FL\, 34474\, United States
CATEGORIES:Health Sciences,Information Session,Ocala Campus
ATTACH;FMTTYPE=image/jpeg:https://www.cf.edu/wp-content/uploads/2022/06/6J2A0759-edit-web.jpg
END:VEVENT
BEGIN:VEVENT
DTSTART;TZID=America/New_York:20251006T160000
DTEND;TZID=America/New_York:20251006T160000
DTSTAMP:20260423T085605
CREATED:20250715T151019Z
LAST-MODIFIED:20250715T151019Z
UID:10003536-1759766400-1759766400@www.cf.edu
SUMMARY:Virtual Physical Therapy Assistant Information Session
DESCRIPTION:CF is conducting a Virtual Physical Therapist Assistant program information session through a Zoom presentation. Potential students must attend a session before applying to the program. Sessions provide details about admissions criteria\, program requirements\, costs and more. \nThere is no waiting list for any of the Health Science programs. Some programs have part-time enrollment options. \nFor information about any of the programs or sessions email Peggy Recanzone at recanzop@cf.edu. \nRegister for the session
URL:https://www.cf.edu/event/virtual-physical-therapy-assistant-information-session-20/
LOCATION:Online
CATEGORIES:Health Sciences,Information Session
ATTACH;FMTTYPE=image/jpeg:https://www.cf.edu/wp-content/uploads/2023/12/6J2A1208-1-1.jpg
END:VEVENT
BEGIN:VEVENT
DTSTART;TZID=America/New_York:20251007T103000
DTEND;TZID=America/New_York:20251007T103000
DTSTAMP:20260423T085605
CREATED:20250721T135854Z
LAST-MODIFIED:20250721T135854Z
UID:10003592-1759833000-1759833000@www.cf.edu
SUMMARY:Virtual Fire Science Technology Information Session
DESCRIPTION:Learn more about the Fire Science Technology A.S. degree. At this virtual information session\, meet with the program manager regarding the degree\, program goals and expected curriculum. \nRegistration is required to attend. \nRegister Now
URL:https://www.cf.edu/event/virtual-fire-science-technology-information-session-23/
LOCATION:Online
CATEGORIES:Health Sciences,Information Session
ATTACH;FMTTYPE=image/jpeg:https://www.cf.edu/wp-content/uploads/2023/09/iStock-1482175379-copy2.jpg
END:VEVENT
BEGIN:VEVENT
DTSTART;TZID=America/New_York:20251007T160000
DTEND;TZID=America/New_York:20251007T170000
DTSTAMP:20260423T085605
CREATED:20250728T180126Z
LAST-MODIFIED:20250728T180126Z
UID:10003609-1759852800-1759856400@www.cf.edu
SUMMARY:Virtual Dual Enrollment Information Session
DESCRIPTION:Interested in Dual Enrollment or Collegiate Academy? Attend an information session to learn more about the program and the requirements\, plus meet with CF staff and learn how to apply. Qualified high school students may accelerate their college education through dual enrollment. Attendance at one information session is required for all incoming dual enrollment students. \nRegister to attend! \nRegister Now
URL:https://www.cf.edu/event/virtual-dual-enrollment-information-session-76/
LOCATION:Online
CATEGORIES:Dual Enrollment,Information Session
ATTACH;FMTTYPE=image/jpeg:https://www.cf.edu/wp-content/uploads/2022/01/career-readiness-lunch-n-learn-lake-superior-college-2-web.jpg
END:VEVENT
BEGIN:VEVENT
DTSTART;TZID=America/New_York:20251008T173000
DTEND;TZID=America/New_York:20251008T193000
DTSTAMP:20260423T085605
CREATED:20250820T143728Z
LAST-MODIFIED:20250822T144510Z
UID:10003630-1759944600-1759951800@www.cf.edu
SUMMARY:Virtual International Information Session: Apply to CF
DESCRIPTION:Interested in becoming an international student at the College of Central Florida? Join the CF International Department as they guide you through the F-1 process on Wednesday\, Oct. 8\, from 5:30-7:30 p.m.! This webinar will go through the steps necessary to enroll at CF\, financial aid\, ESL classes and more. At the end of the webinar\, the CF International Department will host a Q&A and answer as many questions as possible. \nRegister today! \nAll session times are in U.S. Eastern Standard Time Zone. Click to see a time zone converter.
URL:https://www.cf.edu/event/virtual-international-information-session-apply-to-cf/
LOCATION:Online
CATEGORIES:Admissions,Information Session,International
ATTACH;FMTTYPE=image/jpeg:https://www.cf.edu/wp-content/uploads/2022/04/Virtual-Information-Session-last.jpg
END:VEVENT
BEGIN:VEVENT
DTSTART;TZID=America/New_York:20251013T180000
DTEND;TZID=America/New_York:20251013T180000
DTSTAMP:20260423T085605
CREATED:20250918T131309Z
LAST-MODIFIED:20251013T174852Z
UID:10003707-1760378400-1760378400@www.cf.edu
SUMMARY:CANCELED: Emergency Medical Services Information Session
DESCRIPTION:This information sesson has been canceled. Thank you!
URL:https://www.cf.edu/event/emergency-medical-services-information-session-52/
LOCATION:Levy Campus\, 15390 N.W. Highway 19\, Chiefland\, 32626
CATEGORIES:Health Sciences,Information Session,Levy Campus
ATTACH;FMTTYPE=image/jpeg:https://www.cf.edu/wp-content/uploads/2022/06/6J2A0759-edit-web.jpg
END:VEVENT
BEGIN:VEVENT
DTSTART;TZID=America/New_York:20251015T123000
DTEND;TZID=America/New_York:20251015T133000
DTSTAMP:20260423T085605
CREATED:20250714T190959Z
LAST-MODIFIED:20250714T190959Z
UID:10003530-1760531400-1760535000@www.cf.edu
SUMMARY:Virtual Information Session for B.A.S. in Business and Organizational Management
DESCRIPTION:Join advisors\, administrators and faculty for an informational session about the Bachelor of Applied Science in Business and Organization Management. Learn about specialization options\, program design\, affordability and admissions. Registration is required for this session. \nRegister Now
URL:https://www.cf.edu/event/virtual-information-session-for-b-a-s-in-business-and-organizational-management-23/
LOCATION:Online
CATEGORIES:Business, Technology and Agricultural Sciences,Information Session
ATTACH;FMTTYPE=image/jpeg:https://www.cf.edu/wp-content/uploads/2024/12/BASINfoSessions.jpg
END:VEVENT
BEGIN:VEVENT
DTSTART;TZID=America/New_York:20251017T120000
DTEND;TZID=America/New_York:20251017T124500
DTSTAMP:20260423T085605
CREATED:20250910T181104Z
LAST-MODIFIED:20250910T181137Z
UID:10003702-1760702400-1760705100@www.cf.edu
SUMMARY:Virtual Dual Enrollment Information Session
DESCRIPTION:Interested in Dual Enrollment or Collegiate Academy? Attend an information session to learn more about the program and the requirements\, plus meet with CF staff and learn how to apply. Qualified high school students may accelerate their college education through dual enrollment. Attendance at one information session is required for all incoming dual enrollment students. \nRegister to attend! \nRegister Now
URL:https://www.cf.edu/event/virtual-dual-enrollment-information-session-85/
LOCATION:Online
CATEGORIES:Dual Enrollment,Information Session
ATTACH;FMTTYPE=image/jpeg:https://www.cf.edu/wp-content/uploads/2022/01/career-readiness-lunch-n-learn-lake-superior-college-2-web.jpg
END:VEVENT
BEGIN:VEVENT
DTSTART;TZID=America/New_York:20251020T123000
DTEND;TZID=America/New_York:20251020T134500
DTSTAMP:20260423T085605
CREATED:20251003T145918Z
LAST-MODIFIED:20251003T145952Z
UID:10003716-1760963400-1760967900@www.cf.edu
SUMMARY:Going Gator: Cookies and Conversations with the University of Florida
DESCRIPTION:Celebrate National Transfer Week with representatives from the University of Florida’s College of Liberal Arts and Sciences on Monday\, Oct. 20\, from 12:30 – 1:45 p.m. in Building 7\, room 111.  \nThis dynamic event is open to all College of Central Florida students\, faculty and staff. This event will feature: \n\nSpeed round presentations from UF students\, faculty and alumni showcasing research\, resources and majors across the college\nAn information session on emerging trends in workplace hiring and jobs of the future\, designed to help you navigate the evolving career landscape\nAnd cookies!
URL:https://www.cf.edu/event/going-gator-cookies-and-conversations-with-the-university-of-florida/
LOCATION:Ocala Campus\, 3001 SW College Rd\, Ocala\, FL\, 34474\, United States
CATEGORIES:Information Session,Ocala Campus,Student Life
ATTACH;FMTTYPE=image/jpeg:https://www.cf.edu/wp-content/uploads/2021/09/gator-uf-background.jpg
END:VEVENT
BEGIN:VEVENT
DTSTART;TZID=America/New_York:20251021T090000
DTEND;TZID=America/New_York:20251021T090000
DTSTAMP:20260423T085605
CREATED:20250707T172803Z
LAST-MODIFIED:20250731T132439Z
UID:10003502-1761037200-1761037200@www.cf.edu
SUMMARY:Virtual Diagnostic Medical Sonography Technology Information Session
DESCRIPTION:Learn more about CF’s anticipated Associate in Science Degree in Diagnostic Medical Sonography Technology. Admissions criteria\, program requirements\, costs and more will be covered. \nThere is no waiting list for any of the Health Science programs. Some programs have part-time enrollment options. \nFor information about any of the programs or sessions email Alondra Gonazalez at gonzalet@cf.edu. \nRegistration is required for this event.\nRegister Now
URL:https://www.cf.edu/event/virtual-diagnostic-medical-sonography-technology-information-session-25/
LOCATION:Online
CATEGORIES:Health Sciences,Information Session
ATTACH;FMTTYPE=image/jpeg:https://www.cf.edu/wp-content/uploads/2023/09/CCF_8643-edit-web.jpg
END:VEVENT
BEGIN:VEVENT
DTSTART;TZID=America/New_York:20251021T100000
DTEND;TZID=America/New_York:20251021T100000
DTSTAMP:20260423T085605
CREATED:20250708T183804Z
LAST-MODIFIED:20250708T183804Z
UID:10003523-1761040800-1761040800@www.cf.edu
SUMMARY:Virtual RN-BSN Information Session
DESCRIPTION:Learn more about admissions criteria\, program requirements\, costs and more. \nThere is no waiting list for any of the Health Science programs. Some programs have part-time enrollment options. \nFor information about any of the programs or sessions email Peggy Recanzone at recanzop@cf.edu. \nRegister Now
URL:https://www.cf.edu/event/virtual-rn-bsn-information-session-3/
LOCATION:Online
CATEGORIES:Health Sciences,Information Session
ATTACH;FMTTYPE=image/jpeg:https://www.cf.edu/wp-content/uploads/2022/09/4011-web.jpg
END:VEVENT
BEGIN:VEVENT
DTSTART;TZID=America/New_York:20251021T110000
DTEND;TZID=America/New_York:20251021T110000
DTSTAMP:20260423T085605
CREATED:20250707T173003Z
LAST-MODIFIED:20250731T132531Z
UID:10003503-1761044400-1761044400@www.cf.edu
SUMMARY:Virtual Respiratory Care Information Session
DESCRIPTION:Learn more about CF’s Associate in Science Degree in Respiratory Care. Admissions criteria\, program requirements\, costs and more will be covered. \nThere is no waiting list for any of the Health Science programs. Some programs have part-time enrollment options. \nFor information about any of the programs or sessions email Alondra Gonzalez at gonzalet@cf.edu. \nRegistration is required for this event.\nRegister Now
URL:https://www.cf.edu/event/virtual-respiratory-care-information-session-26/
LOCATION:Online
CATEGORIES:Health Sciences,Information Session
ATTACH;FMTTYPE=image/jpeg:https://www.cf.edu/wp-content/uploads/2022/11/iStock-1073909314-web.jpg
END:VEVENT
BEGIN:VEVENT
DTSTART;TZID=America/New_York:20251021T120000
DTEND;TZID=America/New_York:20251021T120000
DTSTAMP:20260423T085605
CREATED:20250707T181129Z
LAST-MODIFIED:20250707T181129Z
UID:10003511-1761048000-1761048000@www.cf.edu
SUMMARY:Virtual Surgical Services Information Session
DESCRIPTION:CF is conducting a Virtual Surgical Services program information session to help you learn about admissions criteria\, program requirements\, costs and more. Potential students must attend a session before applying to any of the programs. \nFor information about any of the programs or sessions email Peggy Recanzone at recanzop@cf.edu. \nRegister Now
URL:https://www.cf.edu/event/virtual-surgical-services-information-session-44/
LOCATION:Online
CATEGORIES:Health Sciences,Information Session
ATTACH;FMTTYPE=image/jpeg:https://www.cf.edu/wp-content/uploads/2023/07/3082.jpg
END:VEVENT
BEGIN:VEVENT
DTSTART;TZID=America/New_York:20251021T140000
DTEND;TZID=America/New_York:20251021T140000
DTSTAMP:20260423T085605
CREATED:20250707T173726Z
LAST-MODIFIED:20250731T132805Z
UID:10003504-1761055200-1761055200@www.cf.edu
SUMMARY:Virtual Cardiovascular Technology Information Session
DESCRIPTION:Learn more about CF’s anticipated Associate in Science Degree in Cardiovascular Technology (program accreditation pending). Admissions criteria\, program requirements\, costs and more will be covered. \nThere is no waiting list for any of the Health Science programs. Some programs have part-time enrollment options. \nFor information about any of the programs or sessions email Alondra Gonzalez at gonzalet@cf.edu. \nRegistration is required for this event.\nRegister Now
URL:https://www.cf.edu/event/virtual-cardiovascular-technology-information-session-17/
LOCATION:Online
CATEGORIES:Health Sciences,Information Session
ATTACH;FMTTYPE=image/jpeg:https://www.cf.edu/wp-content/uploads/2022/12/iStock-147426963-web-e1711390148646.jpg
END:VEVENT
BEGIN:VEVENT
DTSTART;TZID=America/New_York:20251021T160000
DTEND;TZID=America/New_York:20251021T170000
DTSTAMP:20260423T085605
CREATED:20250728T180244Z
LAST-MODIFIED:20250728T180244Z
UID:10003610-1761062400-1761066000@www.cf.edu
SUMMARY:Virtual Dual Enrollment Information Session
DESCRIPTION:Interested in Dual Enrollment or Collegiate Academy? Attend an information session to learn more about the program and the requirements\, plus meet with CF staff and learn how to apply. Qualified high school students may accelerate their college education through dual enrollment. Attendance at one information session is required for all incoming dual enrollment students. \nRegister to attend! \nRegister Now
URL:https://www.cf.edu/event/virtual-dual-enrollment-information-session-77/
LOCATION:Online
CATEGORIES:Dual Enrollment,Information Session
ATTACH;FMTTYPE=image/jpeg:https://www.cf.edu/wp-content/uploads/2022/01/career-readiness-lunch-n-learn-lake-superior-college-2-web.jpg
END:VEVENT
BEGIN:VEVENT
DTSTART;TZID=America/New_York:20251027T123000
DTEND;TZID=America/New_York:20251027T133000
DTSTAMP:20260423T085605
CREATED:20250723T181206Z
LAST-MODIFIED:20250723T181938Z
UID:10003604-1761568200-1761571800@www.cf.edu
SUMMARY:Career Connection: Exploring Human Resource Opportunities
DESCRIPTION:Join us for Career Connection: Exploring Human Resource Opportunities on Monday\, Oct. 27\, from 12:30-1:30 p.m. on Zoom. Discover the diverse career paths within human resources and gain insights from industry professionals. Don’t miss this chance to network and prepare for a successful future in HR! \nRegistration is required. Please click on the button below! \nRegister Now
URL:https://www.cf.edu/event/career-connection-exploring-human-resource-opportunities/
LOCATION:Online
CATEGORIES:Business, Technology and Agricultural Sciences,Information Session
ATTACH;FMTTYPE=image/jpeg:https://www.cf.edu/wp-content/uploads/2025/07/career-connection.jpg
END:VEVENT
BEGIN:VEVENT
DTSTART;TZID=America/New_York:20251028T103000
DTEND;TZID=America/New_York:20251028T103000
DTSTAMP:20260423T085605
CREATED:20250721T140030Z
LAST-MODIFIED:20250721T140030Z
UID:10003593-1761647400-1761647400@www.cf.edu
SUMMARY:Virtual Fire Science Technology Information Session
DESCRIPTION:Learn more about the Fire Science Technology A.S. degree. At this virtual information session\, meet with the program manager regarding the degree\, program goals and expected curriculum. \nRegistration is required to attend. \nRegister Now
URL:https://www.cf.edu/event/virtual-fire-science-technology-information-session-24/
LOCATION:Online
CATEGORIES:Health Sciences,Information Session
ATTACH;FMTTYPE=image/jpeg:https://www.cf.edu/wp-content/uploads/2023/09/iStock-1482175379-copy2.jpg
END:VEVENT
BEGIN:VEVENT
DTSTART;TZID=America/New_York:20251028T140000
DTEND;TZID=America/New_York:20251028T140000
DTSTAMP:20260423T085605
CREATED:20250716T151000Z
LAST-MODIFIED:20250716T151000Z
UID:10003565-1761660000-1761660000@www.cf.edu
SUMMARY:Virtual Radiography Information Session
DESCRIPTION:Learn more about the Radiography program and admission criteria. \nThere is no waiting list for any of the Health Science programs. Some programs have part-time enrollment options.\nFor information about any of the programs or sessions email Peggy Recanzone at recanzop@cf.edu. \nRegister Now
URL:https://www.cf.edu/event/virtual-radiography-information-session-41/
LOCATION:Online
CATEGORIES:Health Sciences,Information Session
ATTACH;FMTTYPE=image/jpeg:https://www.cf.edu/wp-content/uploads/2022/12/Radiography.00_00_53_17.Still013edit.jpg
END:VEVENT
BEGIN:VEVENT
DTSTART;TZID=America/New_York:20251029T140000
DTEND;TZID=America/New_York:20251029T144500
DTSTAMP:20260423T085605
CREATED:20250910T181251Z
LAST-MODIFIED:20250910T181251Z
UID:10003703-1761746400-1761749100@www.cf.edu
SUMMARY:Virtual Dual Enrollment Information Session
DESCRIPTION:Interested in Dual Enrollment or Collegiate Academy? Attend an information session to learn more about the program and the requirements\, plus meet with CF staff and learn how to apply. Qualified high school students may accelerate their college education through dual enrollment. Attendance at one information session is required for all incoming dual enrollment students. \nRegister to attend! \nRegister Now
URL:https://www.cf.edu/event/virtual-dual-enrollment-information-session-86/
LOCATION:Online
CATEGORIES:Dual Enrollment,Information Session
ATTACH;FMTTYPE=image/jpeg:https://www.cf.edu/wp-content/uploads/2022/01/career-readiness-lunch-n-learn-lake-superior-college-2-web.jpg
END:VEVENT
BEGIN:VEVENT
DTSTART;TZID=America/New_York:20251029T170000
DTEND;TZID=America/New_York:20251029T170000
DTSTAMP:20260423T085605
CREATED:20250717T185748Z
LAST-MODIFIED:20250717T185748Z
UID:10003585-1761757200-1761757200@www.cf.edu
SUMMARY:Why CF? Virtual Information Session
DESCRIPTION:Get a feel for what it’s like to be a CF Patriot in this 45-minute information session. You’ll find out about why CF should be your first choice for college and get a crash course in the application process. Plus\, all attendees will get a waiver allowing them to apply for free during the session! \nLet us know you’ll be there!\nRegister Now
URL:https://www.cf.edu/event/why-cf-virtual-information-session-34/
LOCATION:Online
CATEGORIES:Admissions,Information Session
ATTACH;FMTTYPE=image/jpeg:https://www.cf.edu/wp-content/uploads/2020/07/CFEvents-default-image.jpg
END:VEVENT
END:VCALENDAR