BEGIN:VCALENDAR
VERSION:2.0
PRODID:-//College Of Central Florida - ECPv6.10.1.1//NONSGML v1.0//EN
CALSCALE:GREGORIAN
METHOD:PUBLISH
X-ORIGINAL-URL:https://www.cf.edu
X-WR-CALDESC:Events for College Of Central Florida
REFRESH-INTERVAL;VALUE=DURATION:PT1H
X-Robots-Tag:noindex
X-PUBLISHED-TTL:PT1H
BEGIN:VTIMEZONE
TZID:America/New_York
BEGIN:DAYLIGHT
TZOFFSETFROM:-0500
TZOFFSETTO:-0400
TZNAME:EDT
DTSTART:20230312T070000
END:DAYLIGHT
BEGIN:STANDARD
TZOFFSETFROM:-0400
TZOFFSETTO:-0500
TZNAME:EST
DTSTART:20231105T060000
END:STANDARD
END:VTIMEZONE
BEGIN:VEVENT
DTSTART;TZID=America/New_York:20230713T090000
DTEND;TZID=America/New_York:20230713T100000
DTSTAMP:20260425T105752
CREATED:20230615T160436Z
LAST-MODIFIED:20230615T160436Z
UID:10002493-1689238800-1689242400@www.cf.edu
SUMMARY:Virtual Dental Assisting Information Session
DESCRIPTION:CF is conducting a Virtual Dental Assisting program information session through a Zoom presentation. Potential students must attend a session before applying to any of the programs. Sessions provide details about admissions criteria\, program requirements\, costs and more. Stay on and complete your CF general admission application and the $30 fee will be waived. \nThere is no waiting list for any of the Health Science programs. Some programs have part-time enrollment options.\nFor information about any of the programs or sessions email Peggy Recanzone at recanzop@cf.edu.
URL:https://www.cf.edu/event/virtual-dental-assisting-information-session-10/
LOCATION:Online
CATEGORIES:Health Sciences,Information Session
ATTACH;FMTTYPE=image/jpeg:https://www.cf.edu/wp-content/uploads/2020/10/Dental-Assisting-Classes.jpg
END:VEVENT
BEGIN:VEVENT
DTSTART;TZID=America/New_York:20230713T120000
DTEND;TZID=America/New_York:20230713T130000
DTSTAMP:20260425T105752
CREATED:20230411T165753Z
LAST-MODIFIED:20230411T165753Z
UID:10002420-1689249600-1689253200@www.cf.edu
SUMMARY:Virtual Surgical Services Information Session
DESCRIPTION:CF is conducting a Virtual Surgical Services program information session to help you learn about admissions criteria\, program requirements\, costs and more. Potential students must attend a session before applying to any of the programs. Attendees will receive a waiver for the $30 admissions application fee.   \nThere is no waiting list for any of the Health Science programs. Some programs have part-time enrollment options.\nFor information about any of the programs or sessions email Peggy Recanzone at recanzop@cf.edu.
URL:https://www.cf.edu/event/virtual-surgical-services-information-session-19/
LOCATION:Online
CATEGORIES:Health Sciences,Information Session
ATTACH;FMTTYPE=image/jpeg:https://www.cf.edu/wp-content/uploads/2022/11/6J2A1251-edit.jpg
END:VEVENT
BEGIN:VEVENT
DTSTART;TZID=America/New_York:20230713T173000
DTEND;TZID=America/New_York:20230713T193000
DTSTAMP:20260425T105752
CREATED:20230516T132852Z
LAST-MODIFIED:20230622T154340Z
UID:10002485-1689269400-1689276600@www.cf.edu
SUMMARY:Rompiendo Barreras Sesión informativa
DESCRIPTION:Si ha estado pensando en comenzar o continuar su educación\, únase a nosotros para nuestra sesión informativa “Rompiendo Barreras”. Estaremos presentando información\, vía Zoom\, sobre el proceso de admisión\, ayuda financiera\, asesoría\, clases de ESL e información para estudiantes internacionales. Adicionalmente\, puedes llenar la solicitud de forma gratuita\, verificar y/o enviar tus requisitos de admisión.
URL:https://www.cf.edu/event/breaking-barriers-information-session-2/
LOCATION:Online
CATEGORIES:Admissions,Hispanic,Information Session,International
ATTACH;FMTTYPE=image/jpeg:https://www.cf.edu/wp-content/uploads/2023/05/6J2A5487-edited2-web.jpg
END:VEVENT
END:VCALENDAR