BEGIN:VCALENDAR
VERSION:2.0
PRODID:-//College Of Central Florida - ECPv6.10.1.1//NONSGML v1.0//EN
CALSCALE:GREGORIAN
METHOD:PUBLISH
X-ORIGINAL-URL:https://www.cf.edu
X-WR-CALDESC:Events for College Of Central Florida
REFRESH-INTERVAL;VALUE=DURATION:PT1H
X-Robots-Tag:noindex
X-PUBLISHED-TTL:PT1H
BEGIN:VTIMEZONE
TZID:America/New_York
BEGIN:DAYLIGHT
TZOFFSETFROM:-0500
TZOFFSETTO:-0400
TZNAME:EDT
DTSTART:20230312T070000
END:DAYLIGHT
BEGIN:STANDARD
TZOFFSETFROM:-0400
TZOFFSETTO:-0500
TZNAME:EST
DTSTART:20231105T060000
END:STANDARD
END:VTIMEZONE
BEGIN:VEVENT
DTSTART;TZID=America/New_York:20231010T090000
DTEND;TZID=America/New_York:20231010T100000
DTSTAMP:20260423T170754
CREATED:20230720T145516Z
LAST-MODIFIED:20230720T145516Z
UID:10002563-1696928400-1696932000@www.cf.edu
SUMMARY:Nursing Information Session - BSN
DESCRIPTION:CF is conducting a virtual information session to learn more about the Bachelor of Science in Nursing program through a Zoom presentation. Stay on and complete your CF general admission application and the $30 fee will be waived. Sessions provide details about admissions criteria\, program requirements\, costs and more. \nThere is no waiting list for any of the Health Science programs. Some programs have part-time enrollment options.\nFor information about any of the programs or sessions email Peggy Recanzone at recanzop@cf.edu.
URL:https://www.cf.edu/event/nursing-information-session-bsn-5/
LOCATION:Online
CATEGORIES:Health Sciences,Information Session
ATTACH;FMTTYPE=image/jpeg:https://www.cf.edu/wp-content/uploads/2023/07/IMG_1147-edit-scaled.jpg
END:VEVENT
BEGIN:VEVENT
DTSTART;TZID=America/New_York:20231010T113000
DTEND;TZID=America/New_York:20231010T123000
DTSTAMP:20260423T170754
CREATED:20230720T144222Z
LAST-MODIFIED:20230720T144222Z
UID:10002559-1696937400-1696941000@www.cf.edu
SUMMARY:Nursing Information Session - ADN & Bridge Options
DESCRIPTION:CF is conducting a virtual information session to learn more about the Associate Degree Nursing\, LPN and Paramedic Bridge Nursing programs through a Zoom presentation. Stay on and complete your CF general admission application and the $30 fee will be waived. Potential students must attend a session before applying to any of the programs. Sessions provide details about admissions criteria\, program requirements\, costs and more. \nThere is no waiting list for any of the Health Science programs. Some programs have part-time enrollment options.\nFor information about any of the programs or sessions email Peggy Recanzone at recanzop@cf.edu.
URL:https://www.cf.edu/event/nursing-information-session-adn-bridge-options-9/
LOCATION:Online
CATEGORIES:Health Sciences,Information Session
ATTACH;FMTTYPE=image/jpeg:https://www.cf.edu/wp-content/uploads/2023/07/IMG_1147-edit-scaled.jpg
END:VEVENT
BEGIN:VEVENT
DTSTART;TZID=America/New_York:20231010T150000
DTEND;TZID=America/New_York:20231010T160000
DTSTAMP:20260423T170754
CREATED:20230720T140207Z
LAST-MODIFIED:20230720T140207Z
UID:10002548-1696950000-1696953600@www.cf.edu
SUMMARY:Virtual Dental Assisting Information Session
DESCRIPTION:CF is conducting a Virtual Dental Assisting program information session through a Zoom presentation. Potential students must attend a session before applying to any of the programs. Sessions provide details about admissions criteria\, program requirements\, costs and more. Stay on and complete your CF general admission application and the $30 fee will be waived. \nThere is no waiting list for any of the Health Science programs. Some programs have part-time enrollment options.\nFor information about any of the programs or sessions email Peggy Recanzone at recanzop@cf.edu.
URL:https://www.cf.edu/event/virtual-dental-assisting-information-session-11/
LOCATION:Online
CATEGORIES:Health Sciences,Information Session
ATTACH;FMTTYPE=image/jpeg:https://www.cf.edu/wp-content/uploads/2022/08/6J2A2399-edit-scaled.jpg
END:VEVENT
END:VCALENDAR