BEGIN:VCALENDAR
VERSION:2.0
PRODID:-//College Of Central Florida - ECPv6.10.1.1//NONSGML v1.0//EN
CALSCALE:GREGORIAN
METHOD:PUBLISH
X-ORIGINAL-URL:https://www.cf.edu
X-WR-CALDESC:Events for College Of Central Florida
REFRESH-INTERVAL;VALUE=DURATION:PT1H
X-Robots-Tag:noindex
X-PUBLISHED-TTL:PT1H
BEGIN:VTIMEZONE
TZID:America/New_York
BEGIN:DAYLIGHT
TZOFFSETFROM:-0500
TZOFFSETTO:-0400
TZNAME:EDT
DTSTART:20220313T070000
END:DAYLIGHT
BEGIN:STANDARD
TZOFFSETFROM:-0400
TZOFFSETTO:-0500
TZNAME:EST
DTSTART:20221106T060000
END:STANDARD
END:VTIMEZONE
BEGIN:VEVENT
DTSTART;TZID=America/New_York:20220602T150000
DTEND;TZID=America/New_York:20220602T160000
DTSTAMP:20260421T081911
CREATED:20220504T161558Z
LAST-MODIFIED:20220504T161558Z
UID:10001554-1654182000-1654185600@www.cf.edu
SUMMARY:Choosing the Right College - International Webinar
DESCRIPTION:Choosing the right college can be a difficult process. As a student\, there are numerous aspects you need to take into account such as cost\, location and degree. Join our international department for a conversation about strategies to make sure that you pick the right college that best fits you! Don’t forget to stay after the presentation for a Q&A session to ask an international college representative any questions you may have. \nRegister today! \nAll Sessions Times are in U.S. Eastern Standard Time Zone. Click to see time zone converter.
URL:https://www.cf.edu/event/choosing-the-right-college-international-webinar-2/
LOCATION:Online
CATEGORIES:Admissions,Information Session,International
ATTACH;FMTTYPE=image/jpeg:https://www.cf.edu/wp-content/uploads/2020/11/student-type_international.jpg
END:VEVENT
BEGIN:VEVENT
DTSTART;TZID=America/New_York:20220609T140000
DTEND;TZID=America/New_York:20220609T150000
DTSTAMP:20260421T081911
CREATED:20220504T161631Z
LAST-MODIFIED:20220504T161631Z
UID:10001555-1654783200-1654786800@www.cf.edu
SUMMARY:Chat with a CF International Student
DESCRIPTION:Curious what it’s like to be a CF International Student? Do you have any questions regarding life in Florida? Join us for our Q&A webinar session to chat directly with a current international student. Our goal is to answer questions that you may have about being a CF Patriot. \nRegister today! \nAll Sessions Times are in U.S. Eastern Standard Time Zone. Click to see time zone converter.
URL:https://www.cf.edu/event/chat-with-a-cf-international-student-3/
LOCATION:Online
CATEGORIES:Admissions,Information Session,International
ATTACH;FMTTYPE=image/jpeg:https://www.cf.edu/wp-content/uploads/2020/11/student-type_international.jpg
END:VEVENT
END:VCALENDAR