BEGIN:VCALENDAR
VERSION:2.0
PRODID:-//College Of Central Florida - ECPv6.10.1.1//NONSGML v1.0//EN
CALSCALE:GREGORIAN
METHOD:PUBLISH
X-WR-CALNAME:College Of Central Florida
X-ORIGINAL-URL:https://www.cf.edu
X-WR-CALDESC:Events for College Of Central Florida
REFRESH-INTERVAL;VALUE=DURATION:PT1H
X-Robots-Tag:noindex
X-PUBLISHED-TTL:PT1H
BEGIN:VTIMEZONE
TZID:America/New_York
BEGIN:DAYLIGHT
TZOFFSETFROM:-0500
TZOFFSETTO:-0400
TZNAME:EDT
DTSTART:20230312T070000
END:DAYLIGHT
BEGIN:STANDARD
TZOFFSETFROM:-0400
TZOFFSETTO:-0500
TZNAME:EST
DTSTART:20231105T060000
END:STANDARD
END:VTIMEZONE
BEGIN:VEVENT
DTSTART;TZID=America/New_York:20230213T123000
DTEND;TZID=America/New_York:20230213T133000
DTSTAMP:20260425T153649
CREATED:20230203T151020Z
LAST-MODIFIED:20230203T151020Z
UID:10002326-1676291400-1676295000@www.cf.edu
SUMMARY:No-mance Monday
DESCRIPTION:Join Levy SAB in the Student Lounge from 12:30 p.m. – 1:30 p.m. for some games\, crafts\, music\, chocolate fountain and more! \nNo sweetheart needed!
URL:https://www.cf.edu/event/no-mance-monday/
LOCATION:Levy Campus\, 15390 N.W. Highway 19\, Chiefland\, 32626
CATEGORIES:Levy Campus,Student Life
ATTACH;FMTTYPE=image/jpeg:https://www.cf.edu/wp-content/uploads/2023/02/doc03409320230203091344-scaled-e1675436952685.jpg
END:VEVENT
BEGIN:VEVENT
DTSTART;TZID=America/New_York:20230227T123000
DTEND;TZID=America/New_York:20230227T133000
DTSTAMP:20260425T153649
CREATED:20230217T193941Z
LAST-MODIFIED:20230217T193941Z
UID:10002341-1677501000-1677504600@www.cf.edu
SUMMARY:Levy Craft Day
DESCRIPTION:Feeling crafty?  \nThe Levy Campus Student Activity Board invites you to a Spring Craft Day on Monday\, Feb. 27\, 12:30-1:30 p.m. in the Levy Student Lounge. Come show off your inner artist with henna tattoos\, painting projects like clay pots and birdhouses. Plus enjoy some music and snacks!
URL:https://www.cf.edu/event/levy-craft-day/
LOCATION:Levy Campus\, 15390 N.W. Highway 19\, Chiefland\, 32626
CATEGORIES:Arts,Levy Campus,Student Life,Visual and Performing Arts
ATTACH;FMTTYPE=image/jpeg:https://www.cf.edu/wp-content/uploads/2020/07/CFEvents-default-image.jpg
END:VEVENT
END:VCALENDAR