BEGIN:VCALENDAR
VERSION:2.0
PRODID:-//College Of Central Florida - ECPv6.10.1.1//NONSGML v1.0//EN
CALSCALE:GREGORIAN
METHOD:PUBLISH
X-ORIGINAL-URL:https://www.cf.edu
X-WR-CALDESC:Events for College Of Central Florida
REFRESH-INTERVAL;VALUE=DURATION:PT1H
X-Robots-Tag:noindex
X-PUBLISHED-TTL:PT1H
BEGIN:VTIMEZONE
TZID:America/New_York
BEGIN:DAYLIGHT
TZOFFSETFROM:-0500
TZOFFSETTO:-0400
TZNAME:EDT
DTSTART:20250309T070000
END:DAYLIGHT
BEGIN:STANDARD
TZOFFSETFROM:-0400
TZOFFSETTO:-0500
TZNAME:EST
DTSTART:20251102T060000
END:STANDARD
END:VTIMEZONE
BEGIN:VEVENT
DTSTART;TZID=America/New_York:20250306T093000
DTEND;TZID=America/New_York:20250306T130000
DTSTAMP:20260422T172701
CREATED:20241206T204554Z
LAST-MODIFIED:20241210T160502Z
UID:10003292-1741253400-1741266000@www.cf.edu
SUMMARY:Welding Career Expo
DESCRIPTION:Are you a graduate or previous student of our Welding program\, or are you interested in enrolling in our Welding program? Want to learn about local job opportunities in this field? Join us at the Jack Wilkinson Levy Campus on Thursday\, March 6\, from 9:30 a.m.-1 p.m. for our Welding Career Expo! \nAt this event\, you can meet with employers and find out about the variety of job openings in the welding industry. Many of Florida’s top Welding companies and organizations will be there. You’ll have the opportunity to demonstrate your welding skills\, interview on the spot and make connections with potential employers. \nFor prospective Welding students\, this event is a great way to learn more about the field and see hands-on demonstrations. Let us know you’ll be there by filling out the form below. \n Fill out my online form. \n  \nTopics and concepts presented at this event are for discussion purposes only and are not intended to espouse\, promote\, advance\, inculcate\, or compel individuals to believe the topics or concepts presented therein. Nor do they constitute endorsement of such topics or concepts by the College of Central Florida\, its Board of Trustees\, or any of their officers\, employees\, or agents.
URL:https://www.cf.edu/event/welding-career-expo-4/
LOCATION:Levy Campus\, 15390 N.W. Highway 19\, Chiefland\, 32626
CATEGORIES:Levy Campus
ATTACH;FMTTYPE=image/jpeg:https://www.cf.edu/wp-content/uploads/2024/12/6405-edit-scaled.jpg
END:VEVENT
BEGIN:VEVENT
DTSTART;TZID=America/New_York:20250313T100000
DTEND;TZID=America/New_York:20250313T120000
DTSTAMP:20260422T172701
CREATED:20250106T154257Z
LAST-MODIFIED:20250311T160740Z
UID:10003338-1741860000-1741867200@www.cf.edu
SUMMARY:Levy Preview Day
DESCRIPTION:Join us for the Levy Campus Preview Day on Thursday\, March 13\, 10 a.m.-Noon\, to explore all facets of the College of Central Florida. This is your chance to learn about academic programs\, meet with representatives from student clubs and organizations\, find out about student services and get the answers to your questions about admissions and financial aid. While you’re touring the different departments and services\, enter for a chance to win free tuition for one 3-credit undergraduate class. We’ll also be waiving the $30 admissions application fee. \nWhether you’re a high school student or you’ve been out of school for a while\, let us help you plan your very own fun\, successful college experience! \n\n\nCome and preview the possibilites!\n\n\n\n\n\n\nLearn about academic programs and degrees\nMeet representatives of clubs and organizations\nFind out about services to help students succeed\n\n\n\n\n\n\nGet help with admissions and financial aid\nPlan your very own fun\, successful college experience\nComplete a survey and get a free t-shirt\n\n\n\n\nHave questions about this event? Contact CF admissions at admissions@cf.edu.
URL:https://www.cf.edu/event/levy-preview-day-3/
LOCATION:Levy Campus\, 15390 N.W. Highway 19\, Chiefland\, 32626
CATEGORIES:Admissions,Information Session,Levy Campus
ATTACH;FMTTYPE=image/png:https://www.cf.edu/wp-content/uploads/2025/01/PreviewNight-web-1920x1080-1.png
END:VEVENT
END:VCALENDAR