BEGIN:VCALENDAR
VERSION:2.0
PRODID:-//College Of Central Florida - ECPv6.10.1.1//NONSGML v1.0//EN
CALSCALE:GREGORIAN
METHOD:PUBLISH
X-WR-CALNAME:College Of Central Florida
X-ORIGINAL-URL:https://www.cf.edu
X-WR-CALDESC:Events for College Of Central Florida
REFRESH-INTERVAL;VALUE=DURATION:PT1H
X-Robots-Tag:noindex
X-PUBLISHED-TTL:PT1H
BEGIN:VTIMEZONE
TZID:America/New_York
BEGIN:DAYLIGHT
TZOFFSETFROM:-0500
TZOFFSETTO:-0400
TZNAME:EDT
DTSTART:20250309T070000
END:DAYLIGHT
BEGIN:STANDARD
TZOFFSETFROM:-0400
TZOFFSETTO:-0500
TZNAME:EST
DTSTART:20251102T060000
END:STANDARD
END:VTIMEZONE
BEGIN:VEVENT
DTSTART;TZID=America/New_York:20250401T180000
DTEND;TZID=America/New_York:20250401T200000
DTSTAMP:20260423T085841
CREATED:20250218T195741Z
LAST-MODIFIED:20250218T195813Z
UID:10003377-1743530400-1743537600@www.cf.edu
SUMMARY:FAFSA Workshop
DESCRIPTION:Need help filling out your Free Application for Federal Student Aid (FAFSA)? Stop by the FAFSA Workshop at CF’s Jack Wilkinson Levy Campus and get your questions answered in-person by our Financial Aid team. This workshop will take place Tuesday\, April 1\, 6 – 8 p.m.\, at the Levy Campus Conference Center Room 115. \nIt is recommended that you create your FSA ID at least three business days prior to attending this event. Create your ID  here.
URL:https://www.cf.edu/event/fafsa-workshop-11/
LOCATION:Levy Campus\, 15390 N.W. Highway 19\, Chiefland\, 32626
CATEGORIES:Admissions,FAFSA Workshop,Levy Campus
ATTACH;FMTTYPE=image/jpeg:https://www.cf.edu/wp-content/uploads/2024/05/Instructional-Strategies-and-Classroom-Management-Course-Flyer.jpg
END:VEVENT
BEGIN:VEVENT
DTSTART;TZID=America/New_York:20250407T180000
DTEND;TZID=America/New_York:20250407T190000
DTSTAMP:20260423T085841
CREATED:20241107T152326Z
LAST-MODIFIED:20241107T152326Z
UID:10003243-1744048800-1744052400@www.cf.edu
SUMMARY:Emergency Medical Services Information Session
DESCRIPTION:CF is conducting Emergency Medical Services (EMT & Paramedic) program information sessions live at the Levy Campus\, Room 202. It is recommended that potential students attend a session before applying to any of the programs. Sessions provide details about admissions criteria\, program requirements\, costs and more. \nThere is no waiting list for any of the Health Science programs. Some programs have part-time enrollment options. \nFor information about any of the programs or sessions email Peggy Recanzone at recanzop@cf.edu. \n Fill out my online form. \n  \n 
URL:https://www.cf.edu/event/emergency-medical-services-information-session-38/
LOCATION:Levy Campus\, 15390 N.W. Highway 19\, Chiefland\, 32626
CATEGORIES:Health Sciences,Information Session,Levy Campus
ATTACH;FMTTYPE=image/jpeg:https://www.cf.edu/wp-content/uploads/2022/06/6J2A0759-edit-web.jpg
END:VEVENT
END:VCALENDAR