BEGIN:VCALENDAR
VERSION:2.0
PRODID:-//College Of Central Florida - ECPv6.10.1.1//NONSGML v1.0//EN
CALSCALE:GREGORIAN
METHOD:PUBLISH
X-ORIGINAL-URL:https://www.cf.edu
X-WR-CALDESC:Events for College Of Central Florida
REFRESH-INTERVAL;VALUE=DURATION:PT1H
X-Robots-Tag:noindex
X-PUBLISHED-TTL:PT1H
BEGIN:VTIMEZONE
TZID:America/New_York
BEGIN:DAYLIGHT
TZOFFSETFROM:-0500
TZOFFSETTO:-0400
TZNAME:EDT
DTSTART:20210314T070000
END:DAYLIGHT
BEGIN:STANDARD
TZOFFSETFROM:-0400
TZOFFSETTO:-0500
TZNAME:EST
DTSTART:20211107T060000
END:STANDARD
END:VTIMEZONE
BEGIN:VEVENT
DTSTART;TZID=America/New_York:20210218T180000
DTEND;TZID=America/New_York:20210218T190000
DTSTAMP:20260419T180140
CREATED:20210201T213805Z
LAST-MODIFIED:20210519T122907Z
UID:10001088-1613671200-1613674800@www.cf.edu
SUMMARY:Levy County Dual Enrollment Information Session
DESCRIPTION:New dual enrollment students looking for information about the Levy Campus\, how to apply for dual enrollment\, registering for classes and more are invited to attend this upcoming virtual webinar\, facilitated over Zoom. \nFor more information contact Leah Gamble at gamblel@CF.edu.
URL:https://www.cf.edu/event/levy-county-dual-enrollment-information-session-2/
LOCATION:Online
CATEGORIES:Admissions,Information Session,Levy Campus
ATTACH;FMTTYPE=image/jpeg:https://www.cf.edu/wp-content/uploads/2020/07/CFEvents-default-image.jpg
END:VEVENT
END:VCALENDAR