BEGIN:VCALENDAR
VERSION:2.0
PRODID:-//College Of Central Florida - ECPv6.10.1.1//NONSGML v1.0//EN
CALSCALE:GREGORIAN
METHOD:PUBLISH
X-WR-CALNAME:College Of Central Florida
X-ORIGINAL-URL:https://www.cf.edu
X-WR-CALDESC:Events for College Of Central Florida
REFRESH-INTERVAL;VALUE=DURATION:PT1H
X-Robots-Tag:noindex
X-PUBLISHED-TTL:PT1H
BEGIN:VTIMEZONE
TZID:America/New_York
BEGIN:DAYLIGHT
TZOFFSETFROM:-0500
TZOFFSETTO:-0400
TZNAME:EDT
DTSTART:20250309T070000
END:DAYLIGHT
BEGIN:STANDARD
TZOFFSETFROM:-0400
TZOFFSETTO:-0500
TZNAME:EST
DTSTART:20251102T060000
END:STANDARD
END:VTIMEZONE
BEGIN:VEVENT
DTSTART;VALUE=DATE:20250113
DTEND;VALUE=DATE:20250117
DTSTAMP:20260419T115623
CREATED:20250107T153245Z
LAST-MODIFIED:20250107T153245Z
UID:10003340-1736726400-1737071999@www.cf.edu
SUMMARY:Levy Campus Club Rush
DESCRIPTION:Join the Levy Student Activities Board for Club Rush! SAB will be set up upstairs Jan. 13-16 with snacks\, goodybags and give aways! Stop by between classes to sign up for the student activities board\, start a new club\, sign up for the gym and more. See you there!
URL:https://www.cf.edu/event/levy-campus-club-rush-4/
LOCATION:Levy Campus\, 15390 N.W. Highway 19\, Chiefland\, 32626
CATEGORIES:Levy Campus,Student Life
ATTACH;FMTTYPE=image/jpeg:https://www.cf.edu/wp-content/uploads/2020/07/CFEvents-default-image.jpg
END:VEVENT
BEGIN:VEVENT
DTSTART;TZID=America/New_York:20250113T090000
DTEND;TZID=America/New_York:20250113T133000
DTSTAMP:20260419T115623
CREATED:20250107T153627Z
LAST-MODIFIED:20250107T153627Z
UID:10003341-1736758800-1736775000@www.cf.edu
SUMMARY:Levy Campus Blood Drive
DESCRIPTION:Give local. Save local.\nLifesouth Community Blood Center will be at the Levy Campus on Monday\, Jan. 13\, 9 a.m.-1:30 p.m. Stop by and donate blood to help save lives! All donors will receive a $20 eGift card. All donors will receive a recognition item and a free cholesterol screening. Donors must be 16 or older\, weigh at least 110 pounds and show photo I.D.
URL:https://www.cf.edu/event/levy-campus-blood-drive-4/
LOCATION:Levy Campus\, 15390 N.W. Highway 19\, Chiefland\, 32626
CATEGORIES:Levy Campus,Student Life
ATTACH;FMTTYPE=image/png:https://www.cf.edu/wp-content/uploads/2021/12/bus-generic.png
END:VEVENT
END:VCALENDAR