BEGIN:VCALENDAR
VERSION:2.0
PRODID:-//College Of Central Florida - ECPv6.10.1.1//NONSGML v1.0//EN
CALSCALE:GREGORIAN
METHOD:PUBLISH
X-WR-CALNAME:College Of Central Florida
X-ORIGINAL-URL:https://www.cf.edu
X-WR-CALDESC:Events for College Of Central Florida
REFRESH-INTERVAL;VALUE=DURATION:PT1H
X-Robots-Tag:noindex
X-PUBLISHED-TTL:PT1H
BEGIN:VTIMEZONE
TZID:America/New_York
BEGIN:DAYLIGHT
TZOFFSETFROM:-0500
TZOFFSETTO:-0400
TZNAME:EDT
DTSTART:20240310T070000
END:DAYLIGHT
BEGIN:STANDARD
TZOFFSETFROM:-0400
TZOFFSETTO:-0500
TZNAME:EST
DTSTART:20241103T060000
END:STANDARD
TZID:America/New_York
BEGIN:DAYLIGHT
TZOFFSETFROM:-0500
TZOFFSETTO:-0400
TZNAME:EDT
DTSTART:20240310T070000
END:DAYLIGHT
BEGIN:STANDARD
TZOFFSETFROM:-0400
TZOFFSETTO:-0500
TZNAME:EST
DTSTART:20241103T060000
END:STANDARD
END:VTIMEZONE
BEGIN:VEVENT
DTSTART;TZID=America/New_York:20241002T123000
DTEND;TZID=America/New_York:20241002T133000
DTSTAMP:20260422T063703
CREATED:20240923T175110Z
LAST-MODIFIED:20240923T175320Z
UID:10003134-1727872200-1727875800@www.cf.edu
SUMMARY:Scholarship Information Session
DESCRIPTION:Have questions about scholarships?  \nJoin us from 12:30 – 1:30 p.m. in Building 2 Room 117\, to learn all about the non-financial aid scholarship opportunities that can pay for your college. In this information session\, CF Honors Institute and Community of Scholars will provide an overview of the scholarships you can work for\, ask for and earn. \nThis information session is open to current students. \n 
URL:https://www.cf.edu/event/scholarship-information-session/
LOCATION:Ocala Campus\, 3001 SW College Rd\, Ocala\, FL\, 34474\, United States
CATEGORIES:Admissions,Information Session,Ocala Campus
ATTACH;FMTTYPE=image/jpeg:https://www.cf.edu/wp-content/uploads/2020/07/CFEvents-default-image.jpg
END:VEVENT
BEGIN:VEVENT
DTSTART;TZID=America/New_York:20241005T080000
DTEND;TZID=America/New_York:20241005T110000
DTSTAMP:20260422T063703
CREATED:20240906T192359Z
LAST-MODIFIED:20240906T192359Z
UID:10003115-1728115200-1728126000@www.cf.edu
SUMMARY:Wear Your Wings 5k
DESCRIPTION:CF students\, faculty\, staff and community members are invited to join us at the Wear Your Wings 5k on Saturday\, Oct. 5. \nThis annual walk honors and raises money for victims and survivors of domestic violence. \nThe walk begins and ends on the CF Ocala Campus with registration starting at 7 a.m. and the walk beginning at 8 a.m. \nClick HERE to register in advance or register at the event. Once registered\, you can join the CF team named “CF Pats”. \nShirts and finisher medals are guaranteed to the first 250 registrants. First place overall winners and top three finishers in each age group will be awarded as well. \nDon’t want to run\, but still want to support? Become a volunteer!  Sign up to volunteer here.  \n  \n 
URL:https://www.cf.edu/event/wear-your-wings-5k/
LOCATION:Ocala Campus\, 3001 SW College Rd\, Ocala\, FL\, 34474\, United States
CATEGORIES:Ocala Campus
ATTACH;FMTTYPE=image/png:https://www.cf.edu/wp-content/uploads/2022/09/walkofhope.png
END:VEVENT
BEGIN:VEVENT
DTSTART;TZID=America/New_York:20241008T180000
DTEND;TZID=America/New_York:20241008T210000
DTSTAMP:20260422T063703
CREATED:20240731T145656Z
LAST-MODIFIED:20241007T165908Z
UID:10003046-1728410400-1728421200@www.cf.edu
SUMMARY:Postponed: Ira Holmes Memorial Event
DESCRIPTION:This event has been postponed due to Hurricane Milton. Please check back later for more information.
URL:https://www.cf.edu/event/ira-holmes-memorial-event/
LOCATION:Ocala Campus\, 3001 SW College Rd\, Ocala\, FL\, 34474\, United States
CATEGORIES:Arts,Film Series,Ocala Campus,Visual and Performing Arts
ATTACH;FMTTYPE=image/jpeg:https://www.cf.edu/wp-content/uploads/2022/07/CFEvent-Film-Series.jpg
END:VEVENT
BEGIN:VEVENT
DTSTART;TZID=America/New_York:20241009T163000
DTEND;TZID=America/New_York:20241009T173000
DTSTAMP:20260422T063703
CREATED:20241001T160243Z
LAST-MODIFIED:20241007T165447Z
UID:10003144-1728491400-1728495000@www.cf.edu
SUMMARY:Rescheduled: CF Foundation Executive Committee Meeting
DESCRIPTION:This meeting will be rescheduled due to closures caused by Hurricane Milton.
URL:https://www.cf.edu/event/cf-foundation-executive-committee-meeting-20/
LOCATION:Ocala Campus\, 3001 SW College Rd\, Ocala\, FL\, 34474\, United States
CATEGORIES:CF Foundation,Ocala Campus
ATTACH;FMTTYPE=image/jpeg:https://www.cf.edu/wp-content/uploads/2020/07/CFEvents-default-image.jpg
END:VEVENT
BEGIN:VEVENT
DTSTART;TZID=America/New_York:20241014T130000
DTEND;TZID=America/New_York:20241014T130000
DTSTAMP:20260422T063703
CREATED:20241002T174206Z
LAST-MODIFIED:20241002T174237Z
UID:10003147-1728910800-1728910800@www.cf.edu
SUMMARY:Watch Party: The American Nurse
DESCRIPTION:To help celebrate a decade of nursing education through CF’s Bachelor of Science in Nursing degree program\, join us for a screening of “The American Nurse” on Monday\, Oct. 14\, at the Health Sciences building\, room 112. \nThis documentary\, shot by award-winning photographer and filmmaker\, Carolyn Jones\, explores the role of nurses in the U.S. healthcare system.  \nNo registration is required to attend and light snacks will be provided.
URL:https://www.cf.edu/event/watch-party-the-american-nurse/
LOCATION:Ocala Campus\, 3001 SW College Rd\, Ocala\, FL\, 34474\, United States
CATEGORIES:film,Health Sciences,Ocala Campus
ATTACH;FMTTYPE=image/jpeg:https://www.cf.edu/wp-content/uploads/2024/10/hq720.jpg
END:VEVENT
BEGIN:VEVENT
DTSTART;TZID=America/New_York:20241016T163000
DTEND;TZID=America/New_York:20241016T173000
DTSTAMP:20260422T063703
CREATED:20241001T160449Z
LAST-MODIFIED:20241001T160610Z
UID:10003145-1729096200-1729099800@www.cf.edu
SUMMARY:CF Foundation Board of Directors meeting
DESCRIPTION:The CF Foundation Board of Directors will meet Wednesday\, Oct. 16 at 4:30 p.m. to discuss general business. This meeting is open to the public. It will be held at the Ewers Century Center on the Ocala Campus in the Strategic Planning Room. \nTopics and concepts presented at this event are for discussion purposes only and are not intended to espouse\, promote\, advance\, inculcate\, or compel individuals to believe the topics or concepts presented therein. Nor do they constitute endorsement of such topics or concepts by the College of Central Florida\, its Board of Trustees\, or any of their officers\, employees\, or agents. \n 
URL:https://www.cf.edu/event/cf-foundation-board-of-directors-meeting-14/
LOCATION:Ocala Campus\, 3001 SW College Rd\, Ocala\, FL\, 34474\, United States
CATEGORIES:CF Foundation,Ocala Campus
ATTACH;FMTTYPE=image/jpeg:https://www.cf.edu/wp-content/uploads/2020/07/CFEvents-default-image.jpg
END:VEVENT
BEGIN:VEVENT
DTSTART;TZID=America/New_York:20241018T130000
DTEND;TZID=America/New_York:20241018T150000
DTSTAMP:20260422T063703
CREATED:20241002T133820Z
LAST-MODIFIED:20241002T134507Z
UID:10003146-1729256400-1729263600@www.cf.edu
SUMMARY:Evidence-Based Practice Nursing Research
DESCRIPTION:Join us Friday\, Oct. 18\, 1-3 p.m. at the Ewers Century Center on the Ocala Campus to learn about the latest in nursing research. View poster displays and ask students about their review of current literature. An interesting variety of topics will be covered as students present recommendations supported by evidence-based practice standards. \nRegistration is not required to attend this event.
URL:https://www.cf.edu/event/evidence-based-practice-nursing-research-6/
LOCATION:Ocala Campus\, 3001 SW College Rd\, Ocala\, FL\, 34474\, United States
CATEGORIES:Health Sciences,Ocala Campus
ATTACH;FMTTYPE=image/jpeg:https://www.cf.edu/wp-content/uploads/2024/10/nursing-ebp.jpg
END:VEVENT
BEGIN:VEVENT
DTSTART;TZID=America/New_York:20241022T173000
DTEND;TZID=America/New_York:20241022T190000
DTSTAMP:20260422T063703
CREATED:20240828T194244Z
LAST-MODIFIED:20241014T152914Z
UID:10003106-1729618200-1729623600@www.cf.edu
SUMMARY:Cybersecurity Career Chat
DESCRIPTION:Join CF’s Information Security Manager\, Jason Griffis\, at the Cybersecurity Career Chat on Tuesday\, Oct. 22\, from 5:30-7 p.m. to hear from a panel of local cybersecurity professionals about this growing field and how students can prepare for exciting future careers.  \nParticipating speakers include: \n\nWilliam Alexander\, Red Team Engineer\, Palo Alto Networks\nKelvin DeLeon\, Cybersecurity Analyst\, Lockheed Martin Corporation\nJacob Grubbs\, Information Systems Director\, American Panel Corporation\nChris Ramos\, Chief Information Officer\, City of Ocala\nBilly Rawls\, IT Director\, Marion County Sheriff’s Office\n\nPlease register in advance for this event. Food will be served and prizes will be awarded. Contact Osbornea@cf.edu with any questions. \nThis session will be held on the Ocala Campus in the Ewers Century Center. RSVP below! \n Fill out my online form. \n  \n 
URL:https://www.cf.edu/event/cybersecurity-career-chat/
LOCATION:Ocala Campus\, 3001 SW College Rd\, Ocala\, FL\, 34474\, United States
CATEGORIES:Business, Technology and Agricultural Sciences,Information Session,Ocala Campus
ATTACH;FMTTYPE=image/jpeg:https://www.cf.edu/wp-content/uploads/2024/08/Cybersecurity.jpg
END:VEVENT
BEGIN:VEVENT
DTSTART;TZID=America/New_York:20241024T193000
DTEND;TZID=America/New_York:20241024T193000
DTSTAMP:20260422T063703
CREATED:20240909T151325Z
LAST-MODIFIED:20240910T135013Z
UID:10003117-1729798200-1729798200@www.cf.edu
SUMMARY:CF Theatre Presents "Puffs: Or Seven Increasingly Eventful Years at a Certain School of Magic and Magic"
DESCRIPTION:Join us for a new take into the lives of certain witches and wizards at a certain school for magic\, “Puffs.” \nPerformances are scheduled from Thursday\, Oct. 24\, through Sunday\, Oct. 27. Thursday\, Friday and Saturday shows will be held at 7:30 p.m. and the Sunday show will start at 3 p.m. All shows will take place at the Dassance Fine Arts Center. Tickets are $12 for adults\, $6 for non-CF students\, and free for all CF students\, faculty and staff with valid CF I.D. You may purchase your tickets at cf.universitytickets.com or call 352-873-5810. \nTopics and concepts presented at this event are for discussion purposes only and are not intended to espouse\, promote\, advance\, inculcate\, or compel individuals to believe the topics or concepts presented therein. Nor do they constitute endorsement of such topics or concepts by the College of Central Florida\, its Board of Trustees\, or any of their officers\, employees\, or agents.
URL:https://www.cf.edu/event/cf-presents-puffs/
LOCATION:Ocala Campus\, 3001 SW College Rd\, Ocala\, FL\, 34474\, United States
CATEGORIES:Arts,Ocala Campus,Student Life,Visual and Performing Arts
ATTACH;FMTTYPE=image/jpeg:https://www.cf.edu/wp-content/uploads/2024/09/puffs.jpg
END:VEVENT
BEGIN:VEVENT
DTSTART;TZID=America/New_York:20241025T193000
DTEND;TZID=America/New_York:20241025T193000
DTSTAMP:20260422T063703
CREATED:20240909T151454Z
LAST-MODIFIED:20240910T135026Z
UID:10003120-1729884600-1729884600@www.cf.edu
SUMMARY:CF Theatre Presents "Puffs: Or Seven Increasingly Eventful Years at a Certain School of Magic and Magic"
DESCRIPTION:Join us for a new take into the lives of certain witches and wizards at a certain school for magic\, “Puffs.” \nPerformances are scheduled from Thursday\, Oct. 24\, through Sunday\, Oct. 27. Thursday\, Friday and Saturday shows will be held at 7:30 p.m. and the Sunday show will start at 3 p.m. All shows will take place at the Dassance Fine Arts Center. Tickets are $12 for adults\, $6 for non-CF students\, and free for all CF students\, faculty and staff with valid CF I.D. You may purchase your tickets at cf.universitytickets.com or call 352-873-5810. \nTopics and concepts presented at this event are for discussion purposes only and are not intended to espouse\, promote\, advance\, inculcate\, or compel individuals to believe the topics or concepts presented therein. Nor do they constitute endorsement of such topics or concepts by the College of Central Florida\, its Board of Trustees\, or any of their officers\, employees\, or agents.
URL:https://www.cf.edu/event/cf-presents-puffs-or-seven-increasingly-eventful-years-at-a-certain-school-of-magic-and-magic/
LOCATION:Ocala Campus\, 3001 SW College Rd\, Ocala\, FL\, 34474\, United States
CATEGORIES:Arts,Ocala Campus,Student Life,Visual and Performing Arts
ATTACH;FMTTYPE=image/jpeg:https://www.cf.edu/wp-content/uploads/2024/09/puffs.jpg
END:VEVENT
BEGIN:VEVENT
DTSTART;TZID=America/New_York:20241026T193000
DTEND;TZID=America/New_York:20241026T193000
DTSTAMP:20260422T063703
CREATED:20240909T151652Z
LAST-MODIFIED:20240910T135041Z
UID:10003121-1729971000-1729971000@www.cf.edu
SUMMARY:CF Theatre Presents "Puffs: Or Seven Increasingly Eventful Years at a Certain School of Magic and Magic"
DESCRIPTION:Join us for a new take into the lives of certain witches and wizards at a certain school for magic\, “Puffs.” \nPerformances are scheduled from Thursday\, Oct. 24\, through Sunday\, Oct. 27. Thursday\, Friday and Saturday shows will be held at 7:30 p.m. and the Sunday show will start at 3 p.m. All shows will take place at the Dassance Fine Arts Center. Tickets are $12 for adults\, $6 for non-CF students\, and free for all CF students\, faculty and staff with valid CF I.D. You may purchase your tickets at cf.universitytickets.com or call 352-873-5810. \nTopics and concepts presented at this event are for discussion purposes only and are not intended to espouse\, promote\, advance\, inculcate\, or compel individuals to believe the topics or concepts presented therein. Nor do they constitute endorsement of such topics or concepts by the College of Central Florida\, its Board of Trustees\, or any of their officers\, employees\, or agents.
URL:https://www.cf.edu/event/cf-presents-puffs-or-seven-increasingly-eventful-years-at-a-certain-school-of-magic-and-magic-2/
LOCATION:Ocala Campus\, 3001 SW College Rd\, Ocala\, FL\, 34474\, United States
CATEGORIES:Arts,Ocala Campus,Student Life,Visual and Performing Arts
ATTACH;FMTTYPE=image/jpeg:https://www.cf.edu/wp-content/uploads/2024/09/puffs.jpg
END:VEVENT
BEGIN:VEVENT
DTSTART;TZID=America/New_York:20241027T150000
DTEND;TZID=America/New_York:20241027T150000
DTSTAMP:20260422T063703
CREATED:20240909T151800Z
LAST-MODIFIED:20240910T135054Z
UID:10003122-1730041200-1730041200@www.cf.edu
SUMMARY:CF Theatre Presents "Puffs: Or Seven Increasingly Eventful Years at a Certain School of Magic and Magic"
DESCRIPTION:Join us for a new take into the lives of certain witches and wizards at a certain school for magic\, “Puffs.” \nPerformances are scheduled from Thursday\, Oct. 24\, through Sunday\, Oct. 27. Thursday\, Friday and Saturday shows will be held at 7:30 p.m. and the Sunday show will start at 3 p.m. All shows will take place at the Dassance Fine Arts Center. Tickets are $12 for adults\, $6 for non-CF students\, and free for all CF students\, faculty and staff with valid CF I.D. You may purchase your tickets at cf.universitytickets.com or call 352-873-5810. \nTopics and concepts presented at this event are for discussion purposes only and are not intended to espouse\, promote\, advance\, inculcate\, or compel individuals to believe the topics or concepts presented therein. Nor do they constitute endorsement of such topics or concepts by the College of Central Florida\, its Board of Trustees\, or any of their officers\, employees\, or agents.
URL:https://www.cf.edu/event/cf-presents-puffs-or-seven-increasingly-eventful-years-at-a-certain-school-of-magic-and-magic-3/
LOCATION:Ocala Campus\, 3001 SW College Rd\, Ocala\, FL\, 34474\, United States
CATEGORIES:Arts,Ocala Campus,Student Life,Visual and Performing Arts
ATTACH;FMTTYPE=image/jpeg:https://www.cf.edu/wp-content/uploads/2024/09/puffs.jpg
END:VEVENT
BEGIN:VEVENT
DTSTART;TZID=America/New_York:20241028T123000
DTEND;TZID=America/New_York:20241028T133000
DTSTAMP:20260422T063703
CREATED:20240809T143325Z
LAST-MODIFIED:20241002T191839Z
UID:10003093-1730118600-1730122200@www.cf.edu
SUMMARY:Career Chat: Logistics with R+L Global Logistics
DESCRIPTION:Join us for a Meet & Greet with the team from R+L Global Logistics\, Monday\, Oct. 28\, 12:30-1:30 p.m.\, to explore dynamic career opportunities in the fast-growing logistics industry!  \nLogistics is a complex process for moving goods all over the world and encompasses a variety of career tracks like transportation planning\, business operations\, warehousing\, inventory management\, sales\, marketing\, accounting\, IT\, customer service and more! \nAt this event\, students can network directly with industry professionals and learn more about opportunities with R+L Global Logistics\, a leading provider of international and domestic logistics services with 15 locations throughout the United States\, including Ocala. \nThe event will take place in the Ewers Century Center\, Room 107 and lunch will be provided. \nRSVP and save your spot below. For more information\, contact careerservices@cf.edu. \n Fill out my online form.
URL:https://www.cf.edu/event/meet-and-greet-with-rl-global-logistics-3/
LOCATION:Ocala Campus\, 3001 SW College Rd\, Ocala\, FL\, 34474\, United States
CATEGORIES:Business, Technology and Agricultural Sciences,Ocala Campus
ATTACH;FMTTYPE=image/jpeg:https://www.cf.edu/wp-content/uploads/2020/07/CFEvents-default-image.jpg
END:VEVENT
BEGIN:VEVENT
DTSTART;TZID=America/New_York:20241029T173000
DTEND;TZID=America/New_York:20241029T173000
DTSTAMP:20260422T063703
CREATED:20241016T194031Z
LAST-MODIFIED:20241016T194120Z
UID:10003149-1730223000-1730223000@www.cf.edu
SUMMARY:Ira Holmes Memorial Event
DESCRIPTION:Join us at 5:30 p.m. for a special room dedication and memorial reception honoring the CF Ira Holmes International Film Series founder\, the late Ira Holmes. Following an introduction by CF president Dr. Henningsen\, attendees will have the opportunity to share their memories of Ira before the film screening. Light refreshments will be served. We will end the night and begin the official 2024-2025 season with a screening of a film Ira Holmes selected as a message of hope before his passing on Sunday\, June 9\, 2024. Please RSVP below. \nAll films will be shown Tuesdays at 2 p.m. at the Appleton Museum of Art\, 4333 E. Silver Springs Blvd.\, Ocala\, and at 7 p.m. at the College of Central Florida\, 3001 S.W. College Road\, Building 8\, Room 110\, unless otherwise noted. Films at the Ocala Campus are free and open to the public. Films at the Appleton are free to all museum and film series members; nonmembers pay museum admission. Films may contain mature content. \nAbout the Film\n“The Seventh Seal”(NR\, Sweden\, 1957\, 1 hour\, 36 minutes) \nDisillusioned and exhausted after a decade of battling in the Crusades\, a knight (Max von Sydow) encounters Death on a desolate beach and challenges him to a fateful game of chess. Much studied\, imitated\, even parodied\, but never outdone\, Bergman’s stunning allegory of man’s search for meaning\, The Seventh Seal (Det sjunde inseglet)\, was one of the benchmark foreign imports of America’s 1950s art-house heyday\, pushing cinema’s boundaries and ushering in a new era of moviegoing. \nFor a full series list and more information on the Ira Holmes International Film Series\, contact Wendy Adams at 352-873-5800\, ext. 1546\, or visit www.CF.edu/filmseries. \n Fill out my online form.
URL:https://www.cf.edu/event/ira-holmes-memorial-event-2/
LOCATION:Ocala Campus\, 3001 SW College Rd\, Ocala\, FL\, 34474\, United States
CATEGORIES:Arts,Film Series,Ocala Campus,Visual and Performing Arts
ATTACH;FMTTYPE=image/jpeg:https://www.cf.edu/wp-content/uploads/2022/07/CFEvent-Film-Series.jpg
END:VEVENT
BEGIN:VEVENT
DTSTART;TZID=America/New_York:20241030T123000
DTEND;TZID=America/New_York:20241030T131500
DTSTAMP:20260422T063703
CREATED:20231030T155116Z
LAST-MODIFIED:20240403T143451Z
UID:10002673-1730291400-1730294100@www.cf.edu
SUMMARY:Breast Cancer Awareness Event
DESCRIPTION:Think pink! The Student Activities Board will be holding an event for breast cancer awareness on Monday\, Oct. 30\, 12:30 p.m. at the Bedford Plaza. Join us to win fun prizes and enjoy yummy pink snacks! Also\, keep an eye out for pink flamingos around campus during the month! \nTopics and concepts presented at this event are for discussion purposes only and are not intended to espouse\, promote\, advance\, inculcate\, or compel individuals to believe the topics or concepts presented therein. Nor do they constitute endorsement of such topics or concepts by the College of Central Florida\, its Board of Trustees\, or any of their officers\, employees\, or agents.
URL:https://www.cf.edu/event/breast-cancer-awareness-event/
LOCATION:Ocala Campus\, 3001 SW College Rd\, Ocala\, FL\, 34474\, United States
CATEGORIES:Ocala Campus,Student Life
ATTACH;FMTTYPE=image/jpeg:https://www.cf.edu/wp-content/uploads/2020/07/CFEvents-default-image.jpg
END:VEVENT
BEGIN:VEVENT
DTSTART;TZID=America/New_York:20241030T180000
DTEND;TZID=America/New_York:20241030T180000
DTSTAMP:20260422T063703
CREATED:20240911T191751Z
LAST-MODIFIED:20240911T194355Z
UID:10003123-1730311200-1730311200@www.cf.edu
SUMMARY:10th Anniversary: Bachelor of Science in Nursing
DESCRIPTION:Join us in celebrating a decade of educating quality and compassionate nurses through CF’s Bachelor of Science in Nursing degree program on Wednesday\, Oct. 30\, at 6 p.m. at the Dassance Fine Arts Center. \nThe event will feature award-winning photographer and filmmaker\, Carolyn Jones\, who created the book and documentary film “The American Nurse” and will present “The American Nurse: Moving the Needle on the Most Important Issues of Our Time”. Learn more about the role of nurses in the U.S. health care system as Jones shares inspiring stories of nurses from across the country who are helping to find nurse-led solutions to the nation’s maternal mortality crisis. \nThis event is free and open to the public. \n Fill out my online form.
URL:https://www.cf.edu/event/rn-to-bsn-10th-anniversary/
LOCATION:Ocala Campus\, 3001 SW College Rd\, Ocala\, FL\, 34474\, United States
CATEGORIES:Health Sciences,Ocala Campus
ATTACH;FMTTYPE=image/jpeg:https://www.cf.edu/wp-content/uploads/2024/09/CarolynJonesAndPoster-e1726083824862.jpg
END:VEVENT
END:VCALENDAR