BEGIN:VCALENDAR
VERSION:2.0
PRODID:-//College Of Central Florida - ECPv6.10.1.1//NONSGML v1.0//EN
CALSCALE:GREGORIAN
METHOD:PUBLISH
X-WR-CALNAME:College Of Central Florida
X-ORIGINAL-URL:https://www.cf.edu
X-WR-CALDESC:Events for College Of Central Florida
REFRESH-INTERVAL;VALUE=DURATION:PT1H
X-Robots-Tag:noindex
X-PUBLISHED-TTL:PT1H
BEGIN:VTIMEZONE
TZID:America/New_York
BEGIN:DAYLIGHT
TZOFFSETFROM:-0500
TZOFFSETTO:-0400
TZNAME:EDT
DTSTART:20220313T070000
END:DAYLIGHT
BEGIN:STANDARD
TZOFFSETFROM:-0400
TZOFFSETTO:-0500
TZNAME:EST
DTSTART:20221106T060000
END:STANDARD
END:VTIMEZONE
BEGIN:VEVENT
DTSTART;TZID=America/New_York:20221209T080000
DTEND;TZID=America/New_York:20221209T100000
DTSTAMP:20260424T194156
CREATED:20221205T212809Z
LAST-MODIFIED:20221208T130803Z
UID:10001835-1670572800-1670580000@www.cf.edu
SUMMARY:Farm Share
DESCRIPTION:The College of Central Florida is hosting a Farm Share food distribution for the community on Friday\, Dec. 9\, at 8 a.m. Attendees from the community will be entering the Ocala Campus from the main entrance on State Road 200\, driving through the Ewers Century Center parking lot\, Lots 1 and 2\, and exiting to Southwest 20th Street. \nThe following parking lots will be closed the morning of Friday\, Dec. 9: 40 East\, 40 West\, 1\, 2\, 4 East and 4 West. Parking lot 4 will be reserved for volunteers. \nThis food distribution is being hosted in partnership with local officials and Farm Share. Farm Share is an equal opportunity nonprofit provider which distributes more than 88 million pounds of nutritious food throughout Florida each year.
URL:https://www.cf.edu/event/farm-share/2022-12-09/
LOCATION:Ocala Campus\, 3001 SW College Rd\, Ocala\, FL\, 34474\, United States
CATEGORIES:Ocala Campus
ATTACH;FMTTYPE=image/jpeg:https://www.cf.edu/wp-content/uploads/2022/12/Farm-Share-12.9.22.jpg
END:VEVENT
END:VCALENDAR