BEGIN:VCALENDAR
VERSION:2.0
PRODID:-//College Of Central Florida - ECPv6.10.1.1//NONSGML v1.0//EN
CALSCALE:GREGORIAN
METHOD:PUBLISH
X-WR-CALNAME:College Of Central Florida
X-ORIGINAL-URL:https://www.cf.edu
X-WR-CALDESC:Events for College Of Central Florida
REFRESH-INTERVAL;VALUE=DURATION:PT1H
X-Robots-Tag:noindex
X-PUBLISHED-TTL:PT1H
BEGIN:VTIMEZONE
TZID:America/New_York
BEGIN:DAYLIGHT
TZOFFSETFROM:-0500
TZOFFSETTO:-0400
TZNAME:EDT
DTSTART:20230312T070000
END:DAYLIGHT
BEGIN:STANDARD
TZOFFSETFROM:-0400
TZOFFSETTO:-0500
TZNAME:EST
DTSTART:20231105T060000
END:STANDARD
END:VTIMEZONE
BEGIN:VEVENT
DTSTART;TZID=America/New_York:20230213T100000
DTEND;TZID=America/New_York:20230309T160000
DTSTAMP:20260424T074646
CREATED:20230213T181123Z
LAST-MODIFIED:20230213T182321Z
UID:10002333-1676282400-1678377600@www.cf.edu
SUMMARY:"It's Colored Pencil" Exhibition
DESCRIPTION:The College of Central Florida will present “It’s Colored Pencil” in partnership with the Colored Pencil Society of America. Sponsored by CPSA District Chapter 113 in Gainesville\, this Webber Gallery exhibition will showcase fine artwork of all styles and subjects completed in colored pencil. \n“It’s Colored Pencil” will open Monday\, Feb. 13-Thursday\, March 9. A free opening reception will be held on Friday\, Feb. 17\, from 5-7 p.m. The Webber Gallery is located at the CF Ocala Campus\, 3001 S.W. College Road. Hours are 10 a.m.-4 p.m. Monday-Thursday and admission is free. For more information\, call 352-854-2322\, ext. 1664\, or visit CF.edu/Webber.
URL:https://www.cf.edu/event/its-colored-pencil-exhibition/
LOCATION:Ocala Campus\, 3001 SW College Rd\, Ocala\, FL\, 34474\, United States
CATEGORIES:Arts,Ocala Campus,Visual and Performing Arts
ATTACH;FMTTYPE=image/jpeg:https://www.cf.edu/wp-content/uploads/2023/02/Serenity-by-Suzanne-Marcil.jpg
END:VEVENT
BEGIN:VEVENT
DTSTART;TZID=America/New_York:20230301T123000
DTEND;TZID=America/New_York:20230301T133000
DTSTAMP:20260424T074646
CREATED:20230224T173519Z
LAST-MODIFIED:20230224T173519Z
UID:10002348-1677673800-1677677400@www.cf.edu
SUMMARY:Women's History Open Mic
DESCRIPTION:Join the Student Activities Board in the Learning Resources Center (Building 3) for a Women’s History open mic event at 12:30 p.m. on Wednesday\, March 1. \nStudents are encouraged to share their art\, read poems\, sing and otherwise express themselves. $10 Chick-Fil-A gift cards will be give away to those that share. Cliff’s Café will also provide a slice of pie in honor of Pi Day and hot tea/coffee for the first 100 students.\nThis open mic will feature former SAB Member and published poet Jessyca Thibault who will share some of her poetry. Some of her books will be given away as prizes.
URL:https://www.cf.edu/event/womens-history-open-mic/
LOCATION:Ocala Campus\, 3001 SW College Rd\, Ocala\, FL\, 34474\, United States
CATEGORIES:Ocala Campus,Student Life
ATTACH;FMTTYPE=image/jpeg:https://www.cf.edu/wp-content/uploads/2020/07/CFEvents-default-image.jpg
END:VEVENT
BEGIN:VEVENT
DTSTART;TZID=America/New_York:20230301T180000
DTEND;TZID=America/New_York:20230301T193000
DTSTAMP:20260424T074646
CREATED:20230210T150906Z
LAST-MODIFIED:20230221T133951Z
UID:10002332-1677693600-1677699000@www.cf.edu
SUMMARY:CF Road Scholars: Study Abroad Ireland Information Session
DESCRIPTION:Come to the Ocala campus and learn more about the College of Central Florida’ educational trip to Ireland. Student and community members are welcome to travel with us. Trip highlights include: literary pub tour\, Book of Kells\, Cliffs of Moher and more. Details about the program and how to join will be discussed. \nThis session will be held Wednesday\, March 1\, at 6 p.m. on the Ocala campus\, Building 8\, Room 110. \nLearn more about the CF Road Scholars program here.
URL:https://www.cf.edu/event/cf-road-scholars-study-abroad-ireland-information-session-2/
LOCATION:Ocala Campus\, 3001 SW College Rd\, Ocala\, FL\, 34474\, United States
CATEGORIES:Information Session,Ocala Campus
ATTACH;FMTTYPE=image/jpeg:https://www.cf.edu/wp-content/uploads/2022/10/dublin-ireland-city.jpg
END:VEVENT
END:VCALENDAR