BEGIN:VCALENDAR
VERSION:2.0
PRODID:-//College Of Central Florida - ECPv6.10.1.1//NONSGML v1.0//EN
CALSCALE:GREGORIAN
METHOD:PUBLISH
X-WR-CALNAME:College Of Central Florida
X-ORIGINAL-URL:https://www.cf.edu
X-WR-CALDESC:Events for College Of Central Florida
REFRESH-INTERVAL;VALUE=DURATION:PT1H
X-Robots-Tag:noindex
X-PUBLISHED-TTL:PT1H
BEGIN:VTIMEZONE
TZID:America/New_York
BEGIN:DAYLIGHT
TZOFFSETFROM:-0500
TZOFFSETTO:-0400
TZNAME:EDT
DTSTART:20230312T070000
END:DAYLIGHT
BEGIN:STANDARD
TZOFFSETFROM:-0400
TZOFFSETTO:-0500
TZNAME:EST
DTSTART:20231105T060000
END:STANDARD
END:VTIMEZONE
BEGIN:VEVENT
DTSTART;TZID=America/New_York:20230921T100000
DTEND;TZID=America/New_York:20230921T110000
DTSTAMP:20260424T180731
CREATED:20230912T151545Z
LAST-MODIFIED:20230915T155313Z
UID:10002640-1695290400-1695294000@www.cf.edu
SUMMARY:Center for Nursing Groundbreaking
DESCRIPTION:The College of Central Florida invites the community to a groundbreaking for the CF Center for Nursing at the CF Ocala Campus\, 3001 S.W. College Road\, on Thursday\, Sept. 21\, at 10 a.m. The Ocala Metro Chamber & Economic Partnership will join college officials to break ground for the new building. \nInfrastructure is in place and construction will soon begin on the $20 million capital expansion project\, with funding provided by the Florida Legislature\, Marion County Hospital District and Marion County Commission. The first classes are expected to be offered in the building in January 2025. \nFill out my online form.
URL:https://www.cf.edu/event/center-for-nursing-groundbreaking/
LOCATION:Ocala Campus\, 3001 SW College Rd\, Ocala\, FL\, 34474\, United States
CATEGORIES:Health Sciences,Ocala Campus
ATTACH;FMTTYPE=image/jpeg:https://www.cf.edu/wp-content/uploads/2023/09/center-for-nursing-mockup.jpg
END:VEVENT
END:VCALENDAR