BEGIN:VCALENDAR
VERSION:2.0
PRODID:-//College Of Central Florida - ECPv6.10.1.1//NONSGML v1.0//EN
CALSCALE:GREGORIAN
METHOD:PUBLISH
X-WR-CALNAME:College Of Central Florida
X-ORIGINAL-URL:https://www.cf.edu
X-WR-CALDESC:Events for College Of Central Florida
REFRESH-INTERVAL;VALUE=DURATION:PT1H
X-Robots-Tag:noindex
X-PUBLISHED-TTL:PT1H
BEGIN:VTIMEZONE
TZID:America/New_York
BEGIN:DAYLIGHT
TZOFFSETFROM:-0500
TZOFFSETTO:-0400
TZNAME:EDT
DTSTART:20230312T070000
END:DAYLIGHT
BEGIN:STANDARD
TZOFFSETFROM:-0400
TZOFFSETTO:-0500
TZNAME:EST
DTSTART:20231105T060000
END:STANDARD
END:VTIMEZONE
BEGIN:VEVENT
DTSTART;TZID=America/New_York:20231113T123000
DTEND;TZID=America/New_York:20231113T133000
DTSTAMP:20260419T145350
CREATED:20230831T210156Z
LAST-MODIFIED:20230901T200513Z
UID:10002620-1699878600-1699882200@www.cf.edu
SUMMARY:Information Session for B.A.S. in Business and Organizational Management
DESCRIPTION:Join us live for this MEGA Monday event on Monday\, Nov. 13\, at 12:30 p.m. in the Ocala Campus Klein Center! Advisors\, administrators and faculty will all be there to help you learn about bachelor’s degree specializations in Accounting\, Agribusiness\, Equine Studies\, Management Information Systems\, Health Care Management\, Human Resources\, Public Safety Administration\, and Logistics and Supply Chain Management. Find out about program design\, affordability and the admissions process. \nPizza will be served. To ensure we have enough for everyone\, please RSVP below: \n Fill out my online form.
URL:https://www.cf.edu/event/information-session-for-b-a-s-in-business-and-organizational-management-7/
LOCATION:Ocala Campus\, 3001 SW College Rd\, Ocala\, FL\, 34474\, United States
CATEGORIES:Business, Technology and Agricultural Sciences,Information Session,Ocala Campus
ATTACH;FMTTYPE=image/jpeg:https://www.cf.edu/wp-content/uploads/2020/07/CFEvents-default-image.jpg
END:VEVENT
BEGIN:VEVENT
DTSTART;TZID=America/New_York:20231113T123000
DTEND;TZID=America/New_York:20231113T133000
DTSTAMP:20260419T145350
CREATED:20231030T154955Z
LAST-MODIFIED:20231030T154955Z
UID:10002705-1699878600-1699882200@www.cf.edu
SUMMARY:MEGA Monday: Supporting Mental Health
DESCRIPTION:Join advisors\, administrators and faculty in the Stearns Learning Resources Center at the Ocala Campus for a MEGA Monday event on Monday\, Nov. 13\, 12:30-1:30 p.m. \n\nLearn about Mental Health Categories: Understand the various aspects of mental health and gain insights into its different categories.\nImpact on Learning\, Socialization\, and Quality of Life: Explore the profound impact mental health has on learning\, social interactions\, and overall quality of life.\nBasics of Cognitive Behavior Therapy (CBT): Delve into the fundamental of Cognitive Behavior Therapy\, including the exploration of the 10 cognitive distortions.\n\nThis event is free and open to the public.
URL:https://www.cf.edu/event/mega-monday-supporting-mental-health/
LOCATION:Ocala Campus\, 3001 SW College Rd\, Ocala\, FL\, 34474\, United States
CATEGORIES:Ocala Campus,Student Life
ATTACH;FMTTYPE=image/jpeg:https://www.cf.edu/wp-content/uploads/2022/07/mega-mondays-logo-web.jpg
END:VEVENT
BEGIN:VEVENT
DTSTART;TZID=America/New_York:20231113T140000
DTEND;TZID=America/New_York:20231113T160000
DTSTAMP:20260419T145350
CREATED:20230831T205553Z
LAST-MODIFIED:20230905T201843Z
UID:10002618-1699884000-1699891200@www.cf.edu
SUMMARY:Talent Center Open House
DESCRIPTION:Students are invited to a Talent Center open house at the Ocala Campus\, Enterprise Center (Building 42)\, Suite 101 on Monday\, Nov. 13\, from 2-4 p.m. Stop by and the Talent Center Staff can help you prepare for getting your dream job: \n\nGet assistance with creating an effective LinkedIn profile\nBuild your resume or have an existing resume critiqued\nHave a professional photo taken\nGet connected with HandShake\, CF’s internship and job portal\n\nDon’t miss this opportunity to prepare for your future career!
URL:https://www.cf.edu/event/talent-center-open-house-2/
LOCATION:Ocala Campus\, 3001 SW College Rd\, Ocala\, FL\, 34474\, United States
CATEGORIES:Business, Technology and Agricultural Sciences,Ocala Campus
ATTACH;FMTTYPE=image/png:https://www.cf.edu/wp-content/uploads/2023/08/job-interview.png
END:VEVENT
END:VCALENDAR