BEGIN:VCALENDAR
VERSION:2.0
PRODID:-//College Of Central Florida - ECPv6.10.1.1//NONSGML v1.0//EN
CALSCALE:GREGORIAN
METHOD:PUBLISH
X-ORIGINAL-URL:https://www.cf.edu
X-WR-CALDESC:Events for College Of Central Florida
REFRESH-INTERVAL;VALUE=DURATION:PT1H
X-Robots-Tag:noindex
X-PUBLISHED-TTL:PT1H
BEGIN:VTIMEZONE
TZID:America/New_York
BEGIN:DAYLIGHT
TZOFFSETFROM:-0500
TZOFFSETTO:-0400
TZNAME:EDT
DTSTART:20210314T070000
END:DAYLIGHT
BEGIN:STANDARD
TZOFFSETFROM:-0400
TZOFFSETTO:-0500
TZNAME:EST
DTSTART:20211107T060000
END:STANDARD
END:VTIMEZONE
BEGIN:VEVENT
DTSTART;TZID=America/New_York:20210112T180000
DTEND;TZID=America/New_York:20210112T190000
DTSTAMP:20260425T235238
CREATED:20201214T162610Z
LAST-MODIFIED:20201214T162610Z
UID:10001001-1610474400-1610478000@www.cf.edu
SUMMARY:Tuesday Game Night - Show Us Your Pets Social & Famous Pets Trivia
DESCRIPTION:Welcome spring semester! We would love to meet you and your pet(s)! Join us for this social event and show off your dogs\, cats\, birds\, bunnies – bring them all! We will also play some Famous Pets Trivia using Zoom and Kahoot! Currently enrolled CF students will be eligible for prizes.
URL:https://www.cf.edu/event/tuesday-game-night-show-us-your-pets-social-famous-pets-trivia/
LOCATION:FL
CATEGORIES:Student Life
ATTACH;FMTTYPE=image/jpeg:https://www.cf.edu/wp-content/uploads/2020/07/CFEvents-default-image.jpg
END:VEVENT
BEGIN:VEVENT
DTSTART;TZID=America/New_York:20210113T123000
DTEND;TZID=America/New_York:20210113T140000
DTSTAMP:20260425T235238
CREATED:20201214T162907Z
LAST-MODIFIED:20210107T020745Z
UID:10001003-1610541000-1610546400@www.cf.edu
SUMMARY:Club Rush
DESCRIPTION:Want to join a CF student club or organization? Join us for this exciting Club Rush experience! Students will connect with clubs from the Ocala\, Citrus and Levy campuses. Students will be able to self-select Break Out Rooms\, so be sure to update your Zoom app to the latest version.
URL:https://www.cf.edu/event/club-rush/
LOCATION:FL
CATEGORIES:Student Life
ATTACH;FMTTYPE=image/jpeg:https://www.cf.edu/wp-content/uploads/2020/07/CFEvents-default-image.jpg
END:VEVENT
BEGIN:VEVENT
DTSTART;TZID=America/New_York:20210119T180000
DTEND;TZID=America/New_York:20210119T190000
DTSTAMP:20260425T235238
CREATED:20201214T163445Z
LAST-MODIFIED:20201214T163445Z
UID:10001005-1611079200-1611082800@www.cf.edu
SUMMARY:Tuesday Game Night - MLK Trivia
DESCRIPTION:Join us for Trivia that will celebrate the life and achievements of civil rights activist\, Dr. Martin Luther King Jr. We will use Zoom and Kahoot! Currently enrolled students will be eligible for prizes.
URL:https://www.cf.edu/event/tuesday-game-night-mlk-trivia/
LOCATION:FL
CATEGORIES:Student Life
ATTACH;FMTTYPE=image/jpeg:https://www.cf.edu/wp-content/uploads/2020/07/CFEvents-default-image.jpg
END:VEVENT
BEGIN:VEVENT
DTSTART;TZID=America/New_York:20210120T124500
DTEND;TZID=America/New_York:20210120T134500
DTSTAMP:20260425T235238
CREATED:20201214T164137Z
LAST-MODIFIED:20210113T213022Z
UID:10001031-1611146700-1611150300@www.cf.edu
SUMMARY:T-shirt Cutting with the Appleton
DESCRIPTION:With just a pair of scissors\, learn how to transform a T-shirt into a fashion star with cuts and braids. Grab a T-shirt and a pair of scissors and join us for the online instruction to see what you can create.
URL:https://www.cf.edu/event/t-shirt-cutting-with-the-appleton/
LOCATION:FL
CATEGORIES:Student Life
ATTACH;FMTTYPE=image/jpeg:https://www.cf.edu/wp-content/uploads/2020/07/CFEvents-default-image.jpg
END:VEVENT
END:VCALENDAR