BEGIN:VCALENDAR
VERSION:2.0
PRODID:-//College Of Central Florida - ECPv6.10.1.1//NONSGML v1.0//EN
CALSCALE:GREGORIAN
METHOD:PUBLISH
X-ORIGINAL-URL:https://www.cf.edu
X-WR-CALDESC:Events for College Of Central Florida
REFRESH-INTERVAL;VALUE=DURATION:PT1H
X-Robots-Tag:noindex
X-PUBLISHED-TTL:PT1H
BEGIN:VTIMEZONE
TZID:America/New_York
BEGIN:DAYLIGHT
TZOFFSETFROM:-0500
TZOFFSETTO:-0400
TZNAME:EDT
DTSTART:20210314T070000
END:DAYLIGHT
BEGIN:STANDARD
TZOFFSETFROM:-0400
TZOFFSETTO:-0500
TZNAME:EST
DTSTART:20211107T060000
END:STANDARD
END:VTIMEZONE
BEGIN:VEVENT
DTSTART;TZID=America/New_York:20210303T124500
DTEND;TZID=America/New_York:20210303T134500
DTSTAMP:20260423T181409
CREATED:20210204T213032Z
LAST-MODIFIED:20210204T213032Z
UID:10001091-1614775500-1614779100@www.cf.edu
SUMMARY:Students VS Staff - Scattergories Challenge
DESCRIPTION:Ready? Roll! Write! Team up for this fun fast-paced game of categories! Brush up on your vocabulary and join us for this fun event! To add a TWIST – it will be CF students VS CF staff! \nRegister in advance for this meeting. After registering\, you will receive a confirmation email containing information about joining the meeting.
URL:https://www.cf.edu/event/students-vs-staff-scattergories-challenge/
LOCATION:FL
CATEGORIES:Student Life
ATTACH;FMTTYPE=image/jpeg:https://www.cf.edu/wp-content/uploads/2020/07/CFEvents-default-image.jpg
END:VEVENT
BEGIN:VEVENT
DTSTART;TZID=America/New_York:20210308T123000
DTEND;TZID=America/New_York:20210308T140000
DTSTAMP:20260423T181409
CREATED:20210304T153620Z
LAST-MODIFIED:20210304T153704Z
UID:10001111-1615206600-1615212000@www.cf.edu
SUMMARY:Mega Monday: Music and Wellness: Self Care Strategies for Everyone!
DESCRIPTION:You deserve to feel good.\nBy the end of this interactive program\, Jim’s aim is to show you exactly how to do it using the power of rhythm and sound.\nDiscover musical solutions to relieve anxiety\, improve mood\, deepen sleep\, and increase mental focus — all by using beginner-friendly evidence-based techniques. Everyone is welcome. Musical ability or skill is NOT required! \nExpect a fast-paced and enjoyable virtual experience delivered via ZOOM! \nPlus all attendees get a free Anxiety First-Aid exercise guide. \nAbout the Presenter:\nJim Donovan M.Ed. is a professional musician\, trainer\, Assistant Professor and Director of Music and Wellness at Saint Francis University and TEDx speaker. His TEDx Talk “How to Trick Your Brain Into Falling Asleep” has been viewed over 4 million times to date. \nDonovan performs with his band Sun King Warriors and was a founding member of the multi-platinum band Rusted Root. There he co-wrote the song “Send Me on My Way” featured in the movies “Ice Age”\, “Matilda” and the Netflix Film “Holiday in the Wild”. \nIt also became the first song on Mars where it “woke up” NASA’s Mars Rover. \nHaving presented over 3000+ rhythm and sound-based programs since 1999\, Donovan works internationally facilitating music and wellness events with a wide variety of populations including corporate\, university\, people with disabilities\, and people recovering from addiction.\nhttps://www.donovanhealth.com/\nhttps://www.instagram.com/jim_donovan_sound_health \nRegister in advance for this meeting. After registering\, you will receive a confirmation email containing information about joining the meeting.
URL:https://www.cf.edu/event/mega-monday-music-and-wellness-self-care-strategies-for-everyone/
LOCATION:FL
CATEGORIES:Student Life,Visual and Performing Arts
ATTACH;FMTTYPE=image/png:https://www.cf.edu/wp-content/uploads/2021/03/music-wellness-event-jim-donovan.png
END:VEVENT
BEGIN:VEVENT
DTSTART;TZID=America/New_York:20210309T180000
DTEND;TZID=America/New_York:20210309T190000
DTSTAMP:20260423T181409
CREATED:20210209T173559Z
LAST-MODIFIED:20210209T173559Z
UID:10001097-1615312800-1615316400@www.cf.edu
SUMMARY:Tuesday Game Night - Broken Picturephone
DESCRIPTION:Do you like to play the game Telephone? Do you like to draw? Join us for this live creative game that combines these two things in Broken Picturephone. You and other participants will create books of drawings and phrases\, one page at a time\, only being able to see one previous page. Then\, everyone experiences each full book together! Hosted by CF student Andres Trias Labellarte\, this game will bring out your inner artist and jokester! There will be prizes for currently enrolled CF students. \nRegister in advance for this meeting. After registering\, you will receive a confirmation email containing information about joining the meeting.
URL:https://www.cf.edu/event/tuesday-game-night-broken-picturephone/
LOCATION:FL
CATEGORIES:Student Life
ATTACH;FMTTYPE=image/jpeg:https://www.cf.edu/wp-content/uploads/2020/07/CFEvents-default-image.jpg
END:VEVENT
BEGIN:VEVENT
DTSTART;TZID=America/New_York:20210310T124500
DTEND;TZID=America/New_York:20210310T134500
DTSTAMP:20260423T181409
CREATED:20210208T192354Z
LAST-MODIFIED:20210208T192354Z
UID:10001095-1615380300-1615383900@www.cf.edu
SUMMARY:Book Discussion - "So You Want to Talk About Race" by Ijeoma Oluo
DESCRIPTION:This New York Times bestseller has been featured recently on our CF Speaks podcast. Join us for this candid discussion where we will talk about the podcasts and the powerful messages found in this book. \nCF students: To get your FREE copy of the book to participate in this discussion: \n\nCitrus Campus: email Kaitlyn Kirby at kirbyk@cf.edu\nLevy Campus: email Kat Davis at davisk@cf.edu\nOcala Campus: email Marjorie McGee at mcgeem@cf.edu\n\nBooks are limited to the first 60 students. \nAfter registering\, you will receive a confirmation email containing information about joining the meeting.
URL:https://www.cf.edu/event/book-discussion-so-you-want-to-talk-about-race-by-ijeoma-oluo/
LOCATION:FL
CATEGORIES:Student Life
ATTACH;FMTTYPE=image/jpeg:https://www.cf.edu/wp-content/uploads/2020/07/CFEvents-default-image.jpg
END:VEVENT
BEGIN:VEVENT
DTSTART;TZID=America/New_York:20210312T090000
DTEND;TZID=America/New_York:20210312T150000
DTSTAMP:20260423T181409
CREATED:20210223T161434Z
LAST-MODIFIED:20210223T161434Z
UID:10001104-1615539600-1615561200@www.cf.edu
SUMMARY:Drive Away Food Day
DESCRIPTION:The Patriot Pantry invites CF students to participate in a food drive on Friday\, March 12.\nWalk up or drive through to pick up food donations 9 a.m.-3 p.m. in the parking lot behind the Learning Resources Center at the Ocala Campus. Students should bring their CF ID to the food pickup. \nSpecial thanks to Mr. and Mrs. Bonnie Fleck for their generous support to the CF food pantry\, as well as the many donors who helped to make this event possible\, including the CF Foundation\, CF faculty and staff\, and PTK student leaders.
URL:https://www.cf.edu/event/drive-away-food-day/
LOCATION:Ocala Campus\, 3001 SW College Rd\, Ocala\, FL\, 34474\, United States
CATEGORIES:Student Life
ATTACH;FMTTYPE=image/jpeg:https://www.cf.edu/wp-content/uploads/2020/07/CFEvents-default-image.jpg
END:VEVENT
BEGIN:VEVENT
DTSTART;TZID=America/New_York:20210323T180000
DTEND;TZID=America/New_York:20210323T190000
DTSTAMP:20260423T181409
CREATED:20210224T185129Z
LAST-MODIFIED:20210224T185129Z
UID:10001106-1616522400-1616526000@www.cf.edu
SUMMARY:CF STEM Club Trivia
DESCRIPTION:The CF STEM Club is having a trivia night hosted along with Student Life. Come test your knowledge or learn some new facts about famous scientists\, technologists\, engineers\, mathematicians and inventors\, important discoveries and more! Prizes for currently enrolled CF students will be Amazon gift cards. \nRegister in advance for this meeting. After registering\, you will receive a confirmation email containing information about joining the meeting.
URL:https://www.cf.edu/event/cf-stem-club-trivia/
LOCATION:FL
CATEGORIES:Student Life
ATTACH;FMTTYPE=image/jpeg:https://www.cf.edu/wp-content/uploads/2020/07/CFEvents-default-image.jpg
END:VEVENT
BEGIN:VEVENT
DTSTART;TZID=America/New_York:20210324T124500
DTEND;TZID=America/New_York:20210324T134500
DTSTAMP:20260423T181409
CREATED:20210204T213221Z
LAST-MODIFIED:20210204T213221Z
UID:10001092-1616589900-1616593500@www.cf.edu
SUMMARY:Henna Tattoos at Home with the Appleton
DESCRIPTION:Join us for this multicultural event and learn how to create intricate and beautiful henna designs on yourself or a friend. GiGi from the Appleton Museum of Art will provide step by step instructions and guide you as you work on your creation. Learn the tips and tricks to create your own henna masterpieces as well as important safety precautions. Art kits containing all supplies needed will be distributed on all three campuses prior to the event. Tune into the live zoom instruction for decorating inspiration and techniques. \nRegister in advance for this meeting. After registering\, you will receive a confirmation email containing information about joining the meeting.
URL:https://www.cf.edu/event/henna-tattoos-at-home-with-the-appleton/
LOCATION:FL
CATEGORIES:Student Life
ATTACH;FMTTYPE=image/jpeg:https://www.cf.edu/wp-content/uploads/2020/07/CFEvents-default-image.jpg
END:VEVENT
BEGIN:VEVENT
DTSTART;TZID=America/New_York:20210330T180000
DTEND;TZID=America/New_York:20210330T190000
DTSTAMP:20260423T181409
CREATED:20210205T200353Z
LAST-MODIFIED:20210205T200353Z
UID:10001093-1617127200-1617130800@www.cf.edu
SUMMARY:Women in Music Bingo
DESCRIPTION:In celebration of Women’s History Month\, play our Music BINGO featuring the top women in music throughout time. We will play a snippet of a song and you’ll guess the name of the song and mark it on your virtual BINGO card. The first person to meet the qualifiers and yell out “BINGO!” wins! A link to the BINGO card will be provided when you log into Zoom. CF students and staff are eligible for prizes. \nRegister in advance for this meeting. After registering\, you will receive a confirmation email containing information about joining the meeting.
URL:https://www.cf.edu/event/women-in-music-bingo/
LOCATION:FL
CATEGORIES:Student Life
ATTACH;FMTTYPE=image/jpeg:https://www.cf.edu/wp-content/uploads/2020/07/CFEvents-default-image.jpg
END:VEVENT
END:VCALENDAR