BEGIN:VCALENDAR
VERSION:2.0
PRODID:-//College Of Central Florida - ECPv6.10.1.1//NONSGML v1.0//EN
CALSCALE:GREGORIAN
METHOD:PUBLISH
X-ORIGINAL-URL:https://www.cf.edu
X-WR-CALDESC:Events for College Of Central Florida
REFRESH-INTERVAL;VALUE=DURATION:PT1H
X-Robots-Tag:noindex
X-PUBLISHED-TTL:PT1H
BEGIN:VTIMEZONE
TZID:America/New_York
BEGIN:DAYLIGHT
TZOFFSETFROM:-0500
TZOFFSETTO:-0400
TZNAME:EDT
DTSTART:20210314T070000
END:DAYLIGHT
BEGIN:STANDARD
TZOFFSETFROM:-0400
TZOFFSETTO:-0500
TZNAME:EST
DTSTART:20211107T060000
END:STANDARD
END:VTIMEZONE
BEGIN:VEVENT
DTSTART;TZID=America/New_York:20210714T123000
DTEND;TZID=America/New_York:20210714T133000
DTSTAMP:20260422T205941
CREATED:20210624T182223Z
LAST-MODIFIED:20210624T182223Z
UID:10001194-1626265800-1626269400@www.cf.edu
SUMMARY:Embrace Your Story Discussion with Baycare
DESCRIPTION:Everyone has a story to tell. Learn how to embrace your own story as well as how to reach your full potential as it relates to health and wellness. Join us for this inspiring session hosted by Baycare. \nAfter registering\, you will receive a confirmation email containing information about joining the meeting.
URL:https://www.cf.edu/event/embrace-your-story-discussion-with-baycare-2/
LOCATION:Online
CATEGORIES:Student Life
ATTACH;FMTTYPE=image/png:https://www.cf.edu/wp-content/uploads/2021/06/Embrace-3.png
END:VEVENT
BEGIN:VEVENT
DTSTART;TZID=America/New_York:20210720T180000
DTEND;TZID=America/New_York:20210720T190000
DTSTAMP:20260422T205941
CREATED:20210630T122614Z
LAST-MODIFIED:20210630T122614Z
UID:10001196-1626804000-1626807600@www.cf.edu
SUMMARY:Tuesday Game Night - Jeopardy!
DESCRIPTION:Join us for a night of Summer themed Jeopardy! America’s favorite quiz show! There will be prizes for currently enrolled CF students – but all are invited to join us. Are you ready? \nRegister in advance for this meeting. After registering\, you will receive a confirmation email containing information about joining the meeting.
URL:https://www.cf.edu/event/tuesday-game-night-jeopardy/
LOCATION:Online
CATEGORIES:Student Life
ATTACH;FMTTYPE=image/jpeg:https://www.cf.edu/wp-content/uploads/2021/06/Jeopardy-2.jpg
END:VEVENT
BEGIN:VEVENT
DTSTART;TZID=America/New_York:20210721T123000
DTEND;TZID=America/New_York:20210721T133000
DTSTAMP:20260422T205941
CREATED:20210614T122528Z
LAST-MODIFIED:20210614T122528Z
UID:10001193-1626870600-1626874200@www.cf.edu
SUMMARY:Yoga Nidra Relaxation Session
DESCRIPTION:Students are invited to join some relaxing yoga facilitated by CF Associate Professor of Communications and Teacher Education\, Lori Witkowich. \nYoga Nidra is a transformative guided meditation practice for deep relaxation. It facilitates the release of negative emotions and thought patterns\, calms the nervous system\, and develops an inner sanctuary of well-being that serves as a base from which you are more able to calmly respond to the circumstances you encounter in your daily life. Simply\, relax and let go! \nSuggestions for success:\n*Be sure to be in a quiet place where you will not be disturbed (silence phones\, etc.)\n*You can either sit or lie down\n*Get supremely comfortable (perhaps a blanket\, eye pillow\, etc.)\n*Relax\n*Enjoy! \nAfter registering\, you will receive a confirmation email containing information about joining the meeting.
URL:https://www.cf.edu/event/yoga-nidra-relaxation-session-3/
LOCATION:Online
CATEGORIES:Student Life
ATTACH;FMTTYPE=image/jpeg:https://www.cf.edu/wp-content/uploads/2021/05/Yoga-Nidra-1.jpg
END:VEVENT
BEGIN:VEVENT
DTSTART;TZID=America/New_York:20210728T123000
DTEND;TZID=America/New_York:20210728T133000
DTSTAMP:20260422T205941
CREATED:20210610T155358Z
LAST-MODIFIED:20210610T155358Z
UID:10001192-1627475400-1627479000@www.cf.edu
SUMMARY:Book Discussion: "How to be an Antiracist" by Ibram X. Kendi
DESCRIPTION:Join us this summer as we read and discuss this 2019 New York Times bestseller. Books can be picked up now on each campus\, and a candid discussion on the book will take place virtually on July 28 at 12:30 p.m. \nCF students can get a FREE copy of the book to participate in this discussion: \n\nCitrus Campus: email Sonya Warden at wardens@cf.edu\nLevy Campus: email Kat Davis at davisk@cf.edu\nOcala Campus: email Marjorie McGee at mcgeem@cf.edu\n\nBooks are limited to the first 60 students. \nRegister for the discussion in advance. After registering\, you will receive a confirmation email containing information about joining the meeting.
URL:https://www.cf.edu/event/book-discussion-how-to-be-an-antiracist-by-ibram-x-kendi/
LOCATION:Online
CATEGORIES:Student Life
ATTACH;FMTTYPE=image/jpeg:https://www.cf.edu/wp-content/uploads/2021/06/Ibram-e1623340362183.jpg
END:VEVENT
END:VCALENDAR