BEGIN:VCALENDAR
VERSION:2.0
PRODID:-//College Of Central Florida - ECPv6.10.1.1//NONSGML v1.0//EN
CALSCALE:GREGORIAN
METHOD:PUBLISH
X-WR-CALNAME:College Of Central Florida
X-ORIGINAL-URL:https://www.cf.edu
X-WR-CALDESC:Events for College Of Central Florida
REFRESH-INTERVAL;VALUE=DURATION:PT1H
X-Robots-Tag:noindex
X-PUBLISHED-TTL:PT1H
BEGIN:VTIMEZONE
TZID:America/New_York
BEGIN:DAYLIGHT
TZOFFSETFROM:-0500
TZOFFSETTO:-0400
TZNAME:EDT
DTSTART:20210314T070000
END:DAYLIGHT
BEGIN:STANDARD
TZOFFSETFROM:-0400
TZOFFSETTO:-0500
TZNAME:EST
DTSTART:20211107T060000
END:STANDARD
END:VTIMEZONE
BEGIN:VEVENT
DTSTART;TZID=America/New_York:20210202T183000
DTEND;TZID=America/New_York:20210202T190000
DTSTAMP:20260425T105332
CREATED:20210107T194527Z
LAST-MODIFIED:20210107T194527Z
UID:10001021-1612290600-1612292400@www.cf.edu
SUMMARY:Tuesday Game Night - Skribbl
DESCRIPTION:Think you can draw? What about guessing what others are drawing? Join us for a fast paced game of Skribbl online! When its your turn to draw\, you will have to choose a word from three options and visualize that word in 80 seconds\, alternatively when somebody else is drawing you have to type your guess into the chat to gain points!\nCurrently enrolled CF students will be eligible for prizes but all are welcome to join in and play!
URL:https://www.cf.edu/event/tuesday-game-night-skribbl/
LOCATION:FL
CATEGORIES:Student Life
ATTACH;FMTTYPE=image/jpeg:https://www.cf.edu/wp-content/uploads/2020/07/CFEvents-default-image.jpg
END:VEVENT
END:VCALENDAR