BEGIN:VCALENDAR
VERSION:2.0
PRODID:-//College Of Central Florida - ECPv6.10.1.1//NONSGML v1.0//EN
CALSCALE:GREGORIAN
METHOD:PUBLISH
X-ORIGINAL-URL:https://www.cf.edu
X-WR-CALDESC:Events for College Of Central Florida
REFRESH-INTERVAL;VALUE=DURATION:PT1H
X-Robots-Tag:noindex
X-PUBLISHED-TTL:PT1H
BEGIN:VTIMEZONE
TZID:America/New_York
BEGIN:DAYLIGHT
TZOFFSETFROM:-0500
TZOFFSETTO:-0400
TZNAME:EDT
DTSTART:20210314T070000
END:DAYLIGHT
BEGIN:STANDARD
TZOFFSETFROM:-0400
TZOFFSETTO:-0500
TZNAME:EST
DTSTART:20211107T060000
END:STANDARD
END:VTIMEZONE
BEGIN:VEVENT
DTSTART;TZID=America/New_York:20210203T123000
DTEND;TZID=America/New_York:20210203T133000
DTSTAMP:20260425T110004
CREATED:20210107T194833Z
LAST-MODIFIED:20210119T212727Z
UID:10001039-1612355400-1612359000@www.cf.edu
SUMMARY:Police Training and the Social Justice Movement
DESCRIPTION:Join us for a conversation with Dr. Charles “Mac” McIntosh\, CF’s Dean of Criminal Justice and Public Service. \nGovernor Ron DeSantis appointed Dr. Charles “Mac” McIntosh to serve on the Florida Criminal Justice Standards and Training Commission. The committee’s mission is to ensure that all citizens of Florida are served by criminal justice officers who are ethical\, qualified\, and well-trained. In this session\, SAB President Jackeria Beard will interview Dr. McIntosh on the current social justice movement\, law enforcement training practices\, and his recent appointment to the Criminal Justice\nStandards and Training Commission.
URL:https://www.cf.edu/event/police-training-and-the-social-justice-movement/
LOCATION:FL
CATEGORIES:Student Life
ATTACH;FMTTYPE=image/jpeg:https://www.cf.edu/wp-content/uploads/2020/07/CFEvents-default-image.jpg
END:VEVENT
END:VCALENDAR