BEGIN:VCALENDAR
VERSION:2.0
PRODID:-//College Of Central Florida - ECPv6.10.1.1//NONSGML v1.0//EN
CALSCALE:GREGORIAN
METHOD:PUBLISH
X-WR-CALNAME:College Of Central Florida
X-ORIGINAL-URL:https://www.cf.edu
X-WR-CALDESC:Events for College Of Central Florida
REFRESH-INTERVAL;VALUE=DURATION:PT1H
X-Robots-Tag:noindex
X-PUBLISHED-TTL:PT1H
BEGIN:VTIMEZONE
TZID:America/New_York
BEGIN:DAYLIGHT
TZOFFSETFROM:-0500
TZOFFSETTO:-0400
TZNAME:EDT
DTSTART:20210314T070000
END:DAYLIGHT
BEGIN:STANDARD
TZOFFSETFROM:-0400
TZOFFSETTO:-0500
TZNAME:EST
DTSTART:20211107T060000
END:STANDARD
END:VTIMEZONE
BEGIN:VEVENT
DTSTART;TZID=America/New_York:20210210T124500
DTEND;TZID=America/New_York:20210210T133000
DTSTAMP:20260425T235324
CREATED:20210119T212629Z
LAST-MODIFIED:20210119T212629Z
UID:10001079-1612961100-1612963800@www.cf.edu
SUMMARY:Student Life Trivia Night: Black Music Influencers
DESCRIPTION:Join the Office of Student Life to find out how much you know about some of the most influential black musical artists in all genres on Wednesday\, Feb. 10\, from 12:45-1:45 p.m.\, online. Learn about the powerful impact Black culture has had in the music industry throughout history. Hosted by Jackeria Beard\, Student Advisory Board Ocala Campus president. This trivia will us Zoom and Kahoot!. Currently enrolled CF students will be eligible for prizes. \nAfter registering\, you will receive a confirmation email containing information about joining the meeting.
URL:https://www.cf.edu/event/student-life-trivia-night-black-music-influencers/
LOCATION:FL
CATEGORIES:Student Life
ATTACH;FMTTYPE=image/jpeg:https://www.cf.edu/wp-content/uploads/2020/07/CFEvents-default-image.jpg
END:VEVENT
END:VCALENDAR