BEGIN:VCALENDAR
VERSION:2.0
PRODID:-//College Of Central Florida - ECPv6.10.1.1//NONSGML v1.0//EN
CALSCALE:GREGORIAN
METHOD:PUBLISH
X-ORIGINAL-URL:https://www.cf.edu
X-WR-CALDESC:Events for College Of Central Florida
REFRESH-INTERVAL;VALUE=DURATION:PT1H
X-Robots-Tag:noindex
X-PUBLISHED-TTL:PT1H
BEGIN:VTIMEZONE
TZID:America/New_York
BEGIN:DAYLIGHT
TZOFFSETFROM:-0500
TZOFFSETTO:-0400
TZNAME:EDT
DTSTART:20210314T070000
END:DAYLIGHT
BEGIN:STANDARD
TZOFFSETFROM:-0400
TZOFFSETTO:-0500
TZNAME:EST
DTSTART:20211107T060000
END:STANDARD
END:VTIMEZONE
BEGIN:VEVENT
DTSTART;TZID=America/New_York:20210215T123000
DTEND;TZID=America/New_York:20210215T140000
DTSTAMP:20260425T072135
CREATED:20210107T201817Z
LAST-MODIFIED:20210119T212807Z
UID:10001044-1613392200-1613397600@www.cf.edu
SUMMARY:International touring artist and speaker Kane Smego
DESCRIPTION:Stories for Change: Drawing on his experiences as an international touring artist and youth educator\, and his experiences growing up in the American South\, this dynamic talk and performance focuses on issues of race\, gender\, community building\, and the stories that we all carry. From the backwoods of Alaska to a hip hop festival in Zimbabwe\, Kane takes listeners on a journey exploring the role that our layered identities\, experiences\, and stories play in leadership\, relationships building\, and community engagement.
URL:https://www.cf.edu/event/international-touring-artist-and-speaker-kane-smego/
LOCATION:FL
CATEGORIES:Student Life
ATTACH;FMTTYPE=image/jpeg:https://www.cf.edu/wp-content/uploads/2020/07/CFEvents-default-image.jpg
END:VEVENT
END:VCALENDAR