BEGIN:VCALENDAR
VERSION:2.0
PRODID:-//College Of Central Florida - ECPv6.10.1.1//NONSGML v1.0//EN
CALSCALE:GREGORIAN
METHOD:PUBLISH
X-WR-CALNAME:College Of Central Florida
X-ORIGINAL-URL:https://www.cf.edu
X-WR-CALDESC:Events for College Of Central Florida
REFRESH-INTERVAL;VALUE=DURATION:PT1H
X-Robots-Tag:noindex
X-PUBLISHED-TTL:PT1H
BEGIN:VTIMEZONE
TZID:America/New_York
BEGIN:DAYLIGHT
TZOFFSETFROM:-0500
TZOFFSETTO:-0400
TZNAME:EDT
DTSTART:20210314T070000
END:DAYLIGHT
BEGIN:STANDARD
TZOFFSETFROM:-0400
TZOFFSETTO:-0500
TZNAME:EST
DTSTART:20211107T060000
END:STANDARD
END:VTIMEZONE
BEGIN:VEVENT
DTSTART;TZID=America/New_York:20210309T180000
DTEND;TZID=America/New_York:20210309T190000
DTSTAMP:20260424T052045
CREATED:20210209T173559Z
LAST-MODIFIED:20210209T173559Z
UID:10001097-1615312800-1615316400@www.cf.edu
SUMMARY:Tuesday Game Night - Broken Picturephone
DESCRIPTION:Do you like to play the game Telephone? Do you like to draw? Join us for this live creative game that combines these two things in Broken Picturephone. You and other participants will create books of drawings and phrases\, one page at a time\, only being able to see one previous page. Then\, everyone experiences each full book together! Hosted by CF student Andres Trias Labellarte\, this game will bring out your inner artist and jokester! There will be prizes for currently enrolled CF students. \nRegister in advance for this meeting. After registering\, you will receive a confirmation email containing information about joining the meeting.
URL:https://www.cf.edu/event/tuesday-game-night-broken-picturephone/
LOCATION:FL
CATEGORIES:Student Life
ATTACH;FMTTYPE=image/jpeg:https://www.cf.edu/wp-content/uploads/2020/07/CFEvents-default-image.jpg
END:VEVENT
END:VCALENDAR