BEGIN:VCALENDAR
VERSION:2.0
PRODID:-//College Of Central Florida - ECPv6.10.1.1//NONSGML v1.0//EN
CALSCALE:GREGORIAN
METHOD:PUBLISH
X-WR-CALNAME:College Of Central Florida
X-ORIGINAL-URL:https://www.cf.edu
X-WR-CALDESC:Events for College Of Central Florida
REFRESH-INTERVAL;VALUE=DURATION:PT1H
X-Robots-Tag:noindex
X-PUBLISHED-TTL:PT1H
BEGIN:VTIMEZONE
TZID:America/New_York
BEGIN:DAYLIGHT
TZOFFSETFROM:-0500
TZOFFSETTO:-0400
TZNAME:EDT
DTSTART:20210314T070000
END:DAYLIGHT
BEGIN:STANDARD
TZOFFSETFROM:-0400
TZOFFSETTO:-0500
TZNAME:EST
DTSTART:20211107T060000
END:STANDARD
END:VTIMEZONE
BEGIN:VEVENT
DTSTART;TZID=America/New_York:20210310T124500
DTEND;TZID=America/New_York:20210310T134500
DTSTAMP:20260424T052019
CREATED:20210208T192354Z
LAST-MODIFIED:20210208T192354Z
UID:10001095-1615380300-1615383900@www.cf.edu
SUMMARY:Book Discussion - "So You Want to Talk About Race" by Ijeoma Oluo
DESCRIPTION:This New York Times bestseller has been featured recently on our CF Speaks podcast. Join us for this candid discussion where we will talk about the podcasts and the powerful messages found in this book. \nCF students: To get your FREE copy of the book to participate in this discussion: \n\nCitrus Campus: email Kaitlyn Kirby at kirbyk@cf.edu\nLevy Campus: email Kat Davis at davisk@cf.edu\nOcala Campus: email Marjorie McGee at mcgeem@cf.edu\n\nBooks are limited to the first 60 students. \nAfter registering\, you will receive a confirmation email containing information about joining the meeting.
URL:https://www.cf.edu/event/book-discussion-so-you-want-to-talk-about-race-by-ijeoma-oluo/
LOCATION:FL
CATEGORIES:Student Life
ATTACH;FMTTYPE=image/jpeg:https://www.cf.edu/wp-content/uploads/2020/07/CFEvents-default-image.jpg
END:VEVENT
END:VCALENDAR