BEGIN:VCALENDAR
VERSION:2.0
PRODID:-//College Of Central Florida - ECPv6.10.1.1//NONSGML v1.0//EN
CALSCALE:GREGORIAN
METHOD:PUBLISH
X-WR-CALNAME:College Of Central Florida
X-ORIGINAL-URL:https://www.cf.edu
X-WR-CALDESC:Events for College Of Central Florida
REFRESH-INTERVAL;VALUE=DURATION:PT1H
X-Robots-Tag:noindex
X-PUBLISHED-TTL:PT1H
BEGIN:VTIMEZONE
TZID:America/New_York
BEGIN:DAYLIGHT
TZOFFSETFROM:-0500
TZOFFSETTO:-0400
TZNAME:EDT
DTSTART:20210314T070000
END:DAYLIGHT
BEGIN:STANDARD
TZOFFSETFROM:-0400
TZOFFSETTO:-0500
TZNAME:EST
DTSTART:20211107T060000
END:STANDARD
END:VTIMEZONE
BEGIN:VEVENT
DTSTART;TZID=America/New_York:20210405T123000
DTEND;TZID=America/New_York:20210405T133000
DTSTAMP:20260423T181358
CREATED:20210407T134110Z
LAST-MODIFIED:20210407T134110Z
UID:10001136-1617625800-1617629400@www.cf.edu
SUMMARY:Student Life: National Library Week "Speakers and Trivia"
DESCRIPTION:Join the CF Library as they celebrate with two online events on “Politics and How it Works and How You Fit In.” Explore this topic with Dr. Judithanne Scourfield McLauchlan\, founding director for Center for Civic Engagement and associate professor of Political Science at the University of South Florida. \nWednesday\, April 7\, at 12:30 p.m. hear about “The Supreme Court at Work: a Behind-the-Scenes Tour.” \nPrize drawings will be held for both programs and for the Supreme Court Trivia Quiz. \n 
URL:https://www.cf.edu/event/student-life-national-library-week-speakers-and-trivia/
LOCATION:FL
CATEGORIES:Student Life
ATTACH;FMTTYPE=image/png:https://www.cf.edu/wp-content/uploads/2021/04/National-Library-Week.png
END:VEVENT
BEGIN:VEVENT
DTSTART;TZID=America/New_York:20210405T123000
DTEND;TZID=America/New_York:20210405T133000
DTSTAMP:20260423T181358
CREATED:20210407T134136Z
LAST-MODIFIED:20210407T134136Z
UID:10001137-1617625800-1617629400@www.cf.edu
SUMMARY:Student Life: National Library Week "Speakers and Trivia"
DESCRIPTION:Join the CF Library as they celebrate with two online events on “Politics and How it Works and How You Fit In.” Explore this topic with Dr. Judithanne Scourfield McLauchlan\, founding director for Center for Civic Engagement and associate professor of Political Science at the University of South Florida. \nMonday\, April 5\, at 12:30 p.m. Hear “Politics is Not a Spectator Sport: How to be an Active and Effective Citizen.” This is a MEGA Monday event.
URL:https://www.cf.edu/event/student-life-national-library-week-speakers-and-trivia-2/
LOCATION:FL
CATEGORIES:Student Life
ATTACH;FMTTYPE=image/png:https://www.cf.edu/wp-content/uploads/2021/04/National-Library-Week.png
END:VEVENT
END:VCALENDAR