BEGIN:VCALENDAR
VERSION:2.0
PRODID:-//College Of Central Florida - ECPv6.10.1.1//NONSGML v1.0//EN
CALSCALE:GREGORIAN
METHOD:PUBLISH
X-WR-CALNAME:College Of Central Florida
X-ORIGINAL-URL:https://www.cf.edu
X-WR-CALDESC:Events for College Of Central Florida
REFRESH-INTERVAL;VALUE=DURATION:PT1H
X-Robots-Tag:noindex
X-PUBLISHED-TTL:PT1H
BEGIN:VTIMEZONE
TZID:America/New_York
BEGIN:DAYLIGHT
TZOFFSETFROM:-0500
TZOFFSETTO:-0400
TZNAME:EDT
DTSTART:20210314T070000
END:DAYLIGHT
BEGIN:STANDARD
TZOFFSETFROM:-0400
TZOFFSETTO:-0500
TZNAME:EST
DTSTART:20211107T060000
END:STANDARD
END:VTIMEZONE
BEGIN:VEVENT
DTSTART;TZID=America/New_York:20210412T123000
DTEND;TZID=America/New_York:20210412T134500
DTSTAMP:20260424T052024
CREATED:20210407T134014Z
LAST-MODIFIED:20210407T134014Z
UID:10001134-1618230600-1618235100@www.cf.edu
SUMMARY:Mega Monday: Homemade Hand Scrub
DESCRIPTION:Join the Office of Service\, Civic and Community Engagement for MEGA Monday and learn how to create homemade hand scrub. This workshop is designed to raise awareness on the importance of washing\, sanitizing and scrubbing your hands to prevent the spread of germs and keep yourself safe during the pandemic. Learn how to make homemade moisturizing hand scrub to give as gifts while keeping yourself safe from germs. \nJoin this Zoom meeting at Meeting ID: 945 1279 1474 Passcode 285638 \nParticipants can pick up their kit in the Humanities and Social Science Building 8\, Room 106E from 10 a.m.-3 p.m. Email Dr. Chris Knierim to let her know you are interested in participating.
URL:https://www.cf.edu/event/mega-monday-homemade-hand-scrub/
LOCATION:Online
CATEGORIES:Student Life
ATTACH;FMTTYPE=image/jpeg:https://www.cf.edu/wp-content/uploads/2021/04/Mega-Monday.jpg
END:VEVENT
END:VCALENDAR