BEGIN:VCALENDAR
VERSION:2.0
PRODID:-//College Of Central Florida - ECPv6.10.1.1//NONSGML v1.0//EN
CALSCALE:GREGORIAN
METHOD:PUBLISH
X-WR-CALNAME:College Of Central Florida
X-ORIGINAL-URL:https://www.cf.edu
X-WR-CALDESC:Events for College Of Central Florida
REFRESH-INTERVAL;VALUE=DURATION:PT1H
X-Robots-Tag:noindex
X-PUBLISHED-TTL:PT1H
BEGIN:VTIMEZONE
TZID:America/New_York
BEGIN:DAYLIGHT
TZOFFSETFROM:-0500
TZOFFSETTO:-0400
TZNAME:EDT
DTSTART:20210314T070000
END:DAYLIGHT
BEGIN:STANDARD
TZOFFSETFROM:-0400
TZOFFSETTO:-0500
TZNAME:EST
DTSTART:20211107T060000
END:STANDARD
END:VTIMEZONE
BEGIN:VEVENT
DTSTART;TZID=America/New_York:20210512T123000
DTEND;TZID=America/New_York:20210512T133000
DTSTAMP:20260424T074645
CREATED:20210426T172526Z
LAST-MODIFIED:20210426T173230Z
UID:10001164-1620822600-1620826200@www.cf.edu
SUMMARY:Movement Snacks with Baycare
DESCRIPTION:Exercise is optional\, but movement is mandatory! This session with get your out of your chair for a much-needed break. Learn easy ways to incorporate quality movement throughout your day to impact your overall health and wellness. Open to all CF students and staff. \nAfter registering\, you will receive a confirmation email containing information about joining the meeting.
URL:https://www.cf.edu/event/movement-snacks-with-baycare/
LOCATION:Online
CATEGORIES:Student Life
ATTACH;FMTTYPE=image/png:https://www.cf.edu/wp-content/uploads/2021/04/Movement-Snacks.png
END:VEVENT
END:VCALENDAR