BEGIN:VCALENDAR
VERSION:2.0
PRODID:-//College Of Central Florida - ECPv6.10.1.1//NONSGML v1.0//EN
CALSCALE:GREGORIAN
METHOD:PUBLISH
X-WR-CALNAME:College Of Central Florida
X-ORIGINAL-URL:https://www.cf.edu
X-WR-CALDESC:Events for College Of Central Florida
REFRESH-INTERVAL;VALUE=DURATION:PT1H
X-Robots-Tag:noindex
X-PUBLISHED-TTL:PT1H
BEGIN:VTIMEZONE
TZID:America/New_York
BEGIN:DAYLIGHT
TZOFFSETFROM:-0500
TZOFFSETTO:-0400
TZNAME:EDT
DTSTART:20210314T070000
END:DAYLIGHT
BEGIN:STANDARD
TZOFFSETFROM:-0400
TZOFFSETTO:-0500
TZNAME:EST
DTSTART:20211107T060000
END:STANDARD
END:VTIMEZONE
BEGIN:VEVENT
DTSTART;TZID=America/New_York:20210609T123000
DTEND;TZID=America/New_York:20210609T133000
DTSTAMP:20260425T110437
CREATED:20210524T132140Z
LAST-MODIFIED:20210524T132140Z
UID:10001181-1623241800-1623245400@www.cf.edu
SUMMARY:Grief & Loss: The Road to Recovery
DESCRIPTION:Our world has drastically changed in the past year\, including what we’ve lost and how we grieve. Developing a holistic plan for healing can help you find hope along your journey. If you or someone you care about is struggling with loss\, this webinar can offer tools and techniques for coping with grief and loss and supporting others who are experiencing intense grieving emotions. \nAfter registering\, you will receive a confirmation email containing information about joining the meeting.
URL:https://www.cf.edu/event/student-life-grief-loss-the-road-to-recovery/
LOCATION:Online
CATEGORIES:Student Life
ATTACH;FMTTYPE=image/png:https://www.cf.edu/wp-content/uploads/2021/05/Ambiguous-Grief-Logo_0.png
END:VEVENT
END:VCALENDAR