BEGIN:VCALENDAR
VERSION:2.0
PRODID:-//College Of Central Florida - ECPv6.10.1.1//NONSGML v1.0//EN
CALSCALE:GREGORIAN
METHOD:PUBLISH
X-WR-CALNAME:College Of Central Florida
X-ORIGINAL-URL:https://www.cf.edu
X-WR-CALDESC:Events for College Of Central Florida
REFRESH-INTERVAL;VALUE=DURATION:PT1H
X-Robots-Tag:noindex
X-PUBLISHED-TTL:PT1H
BEGIN:VTIMEZONE
TZID:America/New_York
BEGIN:DAYLIGHT
TZOFFSETFROM:-0500
TZOFFSETTO:-0400
TZNAME:EDT
DTSTART:20210314T070000
END:DAYLIGHT
BEGIN:STANDARD
TZOFFSETFROM:-0400
TZOFFSETTO:-0500
TZNAME:EST
DTSTART:20211107T060000
END:STANDARD
END:VTIMEZONE
BEGIN:VEVENT
DTSTART;TZID=America/New_York:20210428T123000
DTEND;TZID=America/New_York:20210428T143000
DTSTAMP:20260425T064552
CREATED:20210309T170559Z
LAST-MODIFIED:20210309T170626Z
UID:10001113-1619613000-1619620200@www.cf.edu
SUMMARY:Make Your Own Puzzle
DESCRIPTION:Join us for Coyote on Campus to create your own virtual custom jigsaw puzzle! \nYour favorite photo\, sent right from your phone\, is now turned into a puzzle! Imagine the possibilities! It can be a gift\, a cherished photo that you want preserved in a whole new way\, or just something to do on a relaxing afternoon at home. \nA fun activity\, and a gift\, this is just the coolest puzzle ever! \nJoin us here: https://us02web.zoom.us/j/81570934567 \nor use Zoom Meeting ID: 815 7093 4567
URL:https://www.cf.edu/event/make-your-own-puzzle/
LOCATION:FL
CATEGORIES:Student Life
ATTACH;FMTTYPE=image/jpeg:https://www.cf.edu/wp-content/uploads/2020/07/CFEvents-default-image.jpg
END:VEVENT
BEGIN:VEVENT
DTSTART;TZID=America/New_York:20210505T124500
DTEND;TZID=America/New_York:20210505T134500
DTSTAMP:20260425T064552
CREATED:20210414T172013Z
LAST-MODIFIED:20210414T172013Z
UID:10001144-1620218700-1620222300@www.cf.edu
SUMMARY:Students VS Staff - Scattergories Challenge Rematch
DESCRIPTION:Ready? Roll! Write! Join the Office of Student Life to team up for this fun\, fast-paced game of Scattergories on Wednesday\, May 5\, from 12:45-1:45 p.m.\, online. The winning team of currently enrolled CF students will score some CF swag. Brush up on your vocabulary and join us for this fun event! \nRegister in advance for this event. \nAfter registering\, you will receive a confirmation email containing information about joining the meeting.
URL:https://www.cf.edu/event/students-vs-staff-scattergories/
LOCATION:Online
CATEGORIES:Student Life
ATTACH;FMTTYPE=image/jpeg:https://www.cf.edu/wp-content/uploads/2020/07/CFEvents-default-image.jpg
END:VEVENT
BEGIN:VEVENT
DTSTART;TZID=America/New_York:20210512T123000
DTEND;TZID=America/New_York:20210512T133000
DTSTAMP:20260425T064552
CREATED:20210426T172526Z
LAST-MODIFIED:20210426T173230Z
UID:10001164-1620822600-1620826200@www.cf.edu
SUMMARY:Movement Snacks with Baycare
DESCRIPTION:Exercise is optional\, but movement is mandatory! This session with get your out of your chair for a much-needed break. Learn easy ways to incorporate quality movement throughout your day to impact your overall health and wellness. Open to all CF students and staff. \nAfter registering\, you will receive a confirmation email containing information about joining the meeting.
URL:https://www.cf.edu/event/movement-snacks-with-baycare/
LOCATION:Online
CATEGORIES:Student Life
ATTACH;FMTTYPE=image/png:https://www.cf.edu/wp-content/uploads/2021/04/Movement-Snacks.png
END:VEVENT
BEGIN:VEVENT
DTSTART;TZID=America/New_York:20210518T180000
DTEND;TZID=America/New_York:20210518T190000
DTSTAMP:20260425T064552
CREATED:20210512T121204Z
LAST-MODIFIED:20210512T121204Z
UID:10001179-1621360800-1621364400@www.cf.edu
SUMMARY:Tuesday Game Night - Skribbl
DESCRIPTION:Think you can draw? What about guessing what others are drawing? Join us for a fast paced game of Skribbl online! When its your turn to draw\, you will have to choose a word from three options and visualize that word in 80 seconds\, alternatively when somebody else is drawing you have to type your guess into the chat to gain points!\nCurrently enrolled CF students will be eligible for prizes but all are welcome to join in and play! \nRegister in advance for this meeting. After registering\, you will receive a confirmation email containing information about joining the meeting.
URL:https://www.cf.edu/event/tuesday-game-night-skribbl-3/
LOCATION:Online
CATEGORIES:Student Life
ATTACH;FMTTYPE=image/jpeg:https://www.cf.edu/wp-content/uploads/2021/05/skribbl.jpg
END:VEVENT
BEGIN:VEVENT
DTSTART;TZID=America/New_York:20210519T123000
DTEND;TZID=America/New_York:20210519T133000
DTSTAMP:20260425T064552
CREATED:20210426T173103Z
LAST-MODIFIED:20210426T173103Z
UID:10001165-1621427400-1621431000@www.cf.edu
SUMMARY:Autism: 5 Things You Should Know
DESCRIPTION:Do you know someone with autism? Did you ever wonder what the autistic experience is like? Join us for an informative session about autism spectrum disorders presented by Dr. Danielle Liso\, Assistant Director for the Center for Autism and Related Disabilities at the University of Florida. \nParticipants will learn:\n1. The characteristics associated with autism\n2. What makes the autistic experience unique\n3. What the autistic experience might feel like \nAfter registering\, you will receive a confirmation email containing information about joining the meeting.
URL:https://www.cf.edu/event/autism-5-things-you-should-know/
LOCATION:Online
CATEGORIES:Student Life
ATTACH;FMTTYPE=image/png:https://www.cf.edu/wp-content/uploads/2021/04/Autism-1.png
END:VEVENT
BEGIN:VEVENT
DTSTART;TZID=America/New_York:20210602T123000
DTEND;TZID=America/New_York:20210602T133000
DTSTAMP:20260425T064552
CREATED:20210524T132557Z
LAST-MODIFIED:20210524T132557Z
UID:10001182-1622637000-1622640600@www.cf.edu
SUMMARY:Yoga Nidra Relaxation Session
DESCRIPTION:Students are invited to join some relaxing yoga facilitated by CF Associate Professor of Communications and Teacher Education\, Lori Witkowich. \nYoga Nidra is a transformative guided meditation practice for deep relaxation. It facilitates the release of negative emotions and thought patterns\, calms the nervous system\, and develops an inner sanctuary of well-being that serves as a base from which you are more able to calmly respond to the circumstances you encounter in your daily life. Simply\, relax and let go! \nSuggestions for success:\n*Be sure to be in a quiet place where you will not be disturbed (silence phones\, etc.)\n*You can either sit or lie down\n*Get supremely comfortable (perhaps a blanket\, eye pillow\, etc.)\n*Relax\n*Enjoy! \nAfter registering\, you will receive a confirmation email containing information about joining the meeting.
URL:https://www.cf.edu/event/yoga-nidra-relaxation-session-2/
LOCATION:Online
CATEGORIES:Student Life
ATTACH;FMTTYPE=image/jpeg:https://www.cf.edu/wp-content/uploads/2021/05/Yoga-Nidra-1.jpg
END:VEVENT
BEGIN:VEVENT
DTSTART;TZID=America/New_York:20210609T123000
DTEND;TZID=America/New_York:20210609T133000
DTSTAMP:20260425T064552
CREATED:20210524T132140Z
LAST-MODIFIED:20210524T132140Z
UID:10001181-1623241800-1623245400@www.cf.edu
SUMMARY:Grief & Loss: The Road to Recovery
DESCRIPTION:Our world has drastically changed in the past year\, including what we’ve lost and how we grieve. Developing a holistic plan for healing can help you find hope along your journey. If you or someone you care about is struggling with loss\, this webinar can offer tools and techniques for coping with grief and loss and supporting others who are experiencing intense grieving emotions. \nAfter registering\, you will receive a confirmation email containing information about joining the meeting.
URL:https://www.cf.edu/event/student-life-grief-loss-the-road-to-recovery/
LOCATION:Online
CATEGORIES:Student Life
ATTACH;FMTTYPE=image/png:https://www.cf.edu/wp-content/uploads/2021/05/Ambiguous-Grief-Logo_0.png
END:VEVENT
BEGIN:VEVENT
DTSTART;TZID=America/New_York:20210615T180000
DTEND;TZID=America/New_York:20210615T190000
DTSTAMP:20260425T064552
CREATED:20201214T164958Z
LAST-MODIFIED:20210524T124452Z
UID:10001032-1623780000-1623783600@www.cf.edu
SUMMARY:Tuesday Game Night - African-American Music Bingo
DESCRIPTION:In celebration of African-American Music Appreciation Month\, play our Music BINGO featuring the top African-American artist in music throughout time. We will play a snippet of a song and you’ll guess the name of the song and mark it on your virtual BINGO card. The first person to meet the qualifiers and yell out “BINGO!” wins! A link to the BINGO card will be provided when you log into Zoom. Hosted by our partners at the Appleton Museum of Art. There will be prizes for all CF students and staff that join in! \nAfter registering\, you will receive a confirmation email containing information about joining the meeting.
URL:https://www.cf.edu/event/tuesday-game-night-african-american-music-bingo/
LOCATION:Online
CATEGORIES:Student Life
ATTACH;FMTTYPE=image/png:https://www.cf.edu/wp-content/uploads/2020/12/June-Music-Bingo-1.png
END:VEVENT
BEGIN:VEVENT
DTSTART;TZID=America/New_York:20210714T123000
DTEND;TZID=America/New_York:20210714T133000
DTSTAMP:20260425T064552
CREATED:20210624T182223Z
LAST-MODIFIED:20210624T182223Z
UID:10001194-1626265800-1626269400@www.cf.edu
SUMMARY:Embrace Your Story Discussion with Baycare
DESCRIPTION:Everyone has a story to tell. Learn how to embrace your own story as well as how to reach your full potential as it relates to health and wellness. Join us for this inspiring session hosted by Baycare. \nAfter registering\, you will receive a confirmation email containing information about joining the meeting.
URL:https://www.cf.edu/event/embrace-your-story-discussion-with-baycare-2/
LOCATION:Online
CATEGORIES:Student Life
ATTACH;FMTTYPE=image/png:https://www.cf.edu/wp-content/uploads/2021/06/Embrace-3.png
END:VEVENT
BEGIN:VEVENT
DTSTART;TZID=America/New_York:20210720T180000
DTEND;TZID=America/New_York:20210720T190000
DTSTAMP:20260425T064552
CREATED:20210630T122614Z
LAST-MODIFIED:20210630T122614Z
UID:10001196-1626804000-1626807600@www.cf.edu
SUMMARY:Tuesday Game Night - Jeopardy!
DESCRIPTION:Join us for a night of Summer themed Jeopardy! America’s favorite quiz show! There will be prizes for currently enrolled CF students – but all are invited to join us. Are you ready? \nRegister in advance for this meeting. After registering\, you will receive a confirmation email containing information about joining the meeting.
URL:https://www.cf.edu/event/tuesday-game-night-jeopardy/
LOCATION:Online
CATEGORIES:Student Life
ATTACH;FMTTYPE=image/jpeg:https://www.cf.edu/wp-content/uploads/2021/06/Jeopardy-2.jpg
END:VEVENT
BEGIN:VEVENT
DTSTART;TZID=America/New_York:20210721T123000
DTEND;TZID=America/New_York:20210721T133000
DTSTAMP:20260425T064552
CREATED:20210614T122528Z
LAST-MODIFIED:20210614T122528Z
UID:10001193-1626870600-1626874200@www.cf.edu
SUMMARY:Yoga Nidra Relaxation Session
DESCRIPTION:Students are invited to join some relaxing yoga facilitated by CF Associate Professor of Communications and Teacher Education\, Lori Witkowich. \nYoga Nidra is a transformative guided meditation practice for deep relaxation. It facilitates the release of negative emotions and thought patterns\, calms the nervous system\, and develops an inner sanctuary of well-being that serves as a base from which you are more able to calmly respond to the circumstances you encounter in your daily life. Simply\, relax and let go! \nSuggestions for success:\n*Be sure to be in a quiet place where you will not be disturbed (silence phones\, etc.)\n*You can either sit or lie down\n*Get supremely comfortable (perhaps a blanket\, eye pillow\, etc.)\n*Relax\n*Enjoy! \nAfter registering\, you will receive a confirmation email containing information about joining the meeting.
URL:https://www.cf.edu/event/yoga-nidra-relaxation-session-3/
LOCATION:Online
CATEGORIES:Student Life
ATTACH;FMTTYPE=image/jpeg:https://www.cf.edu/wp-content/uploads/2021/05/Yoga-Nidra-1.jpg
END:VEVENT
BEGIN:VEVENT
DTSTART;TZID=America/New_York:20210728T123000
DTEND;TZID=America/New_York:20210728T133000
DTSTAMP:20260425T064552
CREATED:20210610T155358Z
LAST-MODIFIED:20210610T155358Z
UID:10001192-1627475400-1627479000@www.cf.edu
SUMMARY:Book Discussion: "How to be an Antiracist" by Ibram X. Kendi
DESCRIPTION:Join us this summer as we read and discuss this 2019 New York Times bestseller. Books can be picked up now on each campus\, and a candid discussion on the book will take place virtually on July 28 at 12:30 p.m. \nCF students can get a FREE copy of the book to participate in this discussion: \n\nCitrus Campus: email Sonya Warden at wardens@cf.edu\nLevy Campus: email Kat Davis at davisk@cf.edu\nOcala Campus: email Marjorie McGee at mcgeem@cf.edu\n\nBooks are limited to the first 60 students. \nRegister for the discussion in advance. After registering\, you will receive a confirmation email containing information about joining the meeting.
URL:https://www.cf.edu/event/book-discussion-how-to-be-an-antiracist-by-ibram-x-kendi/
LOCATION:Online
CATEGORIES:Student Life
ATTACH;FMTTYPE=image/jpeg:https://www.cf.edu/wp-content/uploads/2021/06/Ibram-e1623340362183.jpg
END:VEVENT
BEGIN:VEVENT
DTSTART;TZID=America/New_York:20210816T080000
DTEND;TZID=America/New_York:20210816T160000
DTSTAMP:20260425T064552
CREATED:20210728T130614Z
LAST-MODIFIED:20210811T143734Z
UID:10001204-1629100800-1629129600@www.cf.edu
SUMMARY:Welcome Stations
DESCRIPTION:Stop by one of the Welcome Stations located around the Ocala and Citrus Campuses for free campus maps\, CF swag and assistance with any questions you might have.
URL:https://www.cf.edu/event/welcome-stations/2021-08-16/
LOCATION:FL
CATEGORIES:Citrus Campus,Ocala Campus,Student Life
ATTACH;FMTTYPE=image/jpeg:https://www.cf.edu/wp-content/uploads/2020/07/CFEvents-default-image.jpg
END:VEVENT
BEGIN:VEVENT
DTSTART;TZID=America/New_York:20210817T080000
DTEND;TZID=America/New_York:20210817T160000
DTSTAMP:20260425T064552
CREATED:20210728T130614Z
LAST-MODIFIED:20210811T143734Z
UID:10001205-1629187200-1629216000@www.cf.edu
SUMMARY:Welcome Stations
DESCRIPTION:Stop by one of the Welcome Stations located around the Ocala and Citrus Campuses for free campus maps\, CF swag and assistance with any questions you might have.
URL:https://www.cf.edu/event/welcome-stations/2021-08-17/
LOCATION:FL
CATEGORIES:Citrus Campus,Ocala Campus,Student Life
ATTACH;FMTTYPE=image/jpeg:https://www.cf.edu/wp-content/uploads/2020/07/CFEvents-default-image.jpg
END:VEVENT
BEGIN:VEVENT
DTSTART;TZID=America/New_York:20210819T113000
DTEND;TZID=America/New_York:20210819T130000
DTSTAMP:20260425T064552
CREATED:20210818T202953Z
LAST-MODIFIED:20210818T202953Z
UID:10001225-1629372600-1629378000@www.cf.edu
SUMMARY:Welcome Back Picnic
DESCRIPTION:Levy Campus students\, faculty and staff are invited to a Welcome Back picnic in the Student Lounge and outdoor area on Thursday\, Aug. 19\, 11:30 a.m. – 1 p.m. Reconnect with old friends and make new ones at this free event!
URL:https://www.cf.edu/event/welcome-back-picnic/
LOCATION:Levy Campus\, 15390 N.W. Highway 19\, Chiefland\, 32626
CATEGORIES:Levy Campus,Student Life
ATTACH;FMTTYPE=image/jpeg:https://www.cf.edu/wp-content/uploads/2020/07/CFEvents-default-image.jpg
END:VEVENT
BEGIN:VEVENT
DTSTART;TZID=America/New_York:20210825T123000
DTEND;TZID=America/New_York:20210825T134500
DTSTAMP:20260425T064552
CREATED:20210816T202833Z
LAST-MODIFIED:20210824T182528Z
UID:10001222-1629894600-1629899100@www.cf.edu
SUMMARY:Ocala Campus Club Rush
DESCRIPTION:Join CF Student Life for Club Rush\, an annual event showcasing all the clubs and organizations available for students to get involved with. You can also meet with local employers and student services like Baycare. This in-person event will take place Wednesday\, Aug. 25\, at 12:30 p.m. at the Ocala Campus Gymnasium. Bring your student I.D. with you to take advantage of free food provided by Chick-fil-a and enter to win a laptop giveaway!
URL:https://www.cf.edu/event/ocala-campus-club-rush-2/
LOCATION:Ocala Campus\, 3001 SW College Rd\, Ocala\, FL\, 34474\, United States
CATEGORIES:Ocala Campus,Student Life
ATTACH;FMTTYPE=image/jpeg:https://www.cf.edu/wp-content/uploads/2020/07/CFEvents-default-image.jpg
END:VEVENT
BEGIN:VEVENT
DTSTART;TZID=America/New_York:20210826T120000
DTEND;TZID=America/New_York:20210826T140000
DTSTAMP:20260425T064552
CREATED:20210824T143104Z
LAST-MODIFIED:20210824T143104Z
UID:10001249-1629979200-1629986400@www.cf.edu
SUMMARY:Voter Registration Event
DESCRIPTION:Are you registered to vote? Join CF’s Student Life and Diversity & Inclusion departments for a voter registration event in honor of Women’s Equality Day. Stop by the Ocala Campus Learning Resources Center on Thursday\, Aug. 26\, between noon-2 p.m. for assistance with voter registration.
URL:https://www.cf.edu/event/voter-registration-event/
LOCATION:Ocala Campus\, 3001 SW College Rd\, Ocala\, FL\, 34474\, United States
CATEGORIES:Ocala Campus,Student Life
ATTACH;FMTTYPE=image/jpeg:https://www.cf.edu/wp-content/uploads/2021/08/Register-to-VOTE-4.jpg
END:VEVENT
BEGIN:VEVENT
DTSTART;TZID=America/New_York:20210908T123000
DTEND;TZID=America/New_York:20210908T133000
DTSTAMP:20260425T064552
CREATED:20210823T194613Z
LAST-MODIFIED:20210823T194613Z
UID:10001248-1631104200-1631107800@www.cf.edu
SUMMARY:Citrus Campus Club Rush
DESCRIPTION:Are you ready to taco ’bout clubs? Citrus Campus’ Student Life Club Rush event will be held Wednesday\, Sept. 8\, 12:30-1:30 p.m. at the C4 Conference Center. Students can get free Taco Bell\, learn about clubs and organizations\, participate in a photo booth and win prizes!
URL:https://www.cf.edu/event/citrus-campus-club-rush/
LOCATION:Citrus Campus\, 3800 S. Lecanto Highway\, Lecanto\, FL\, 34461\, United States
CATEGORIES:Citrus Campus,Student Life
ATTACH;FMTTYPE=image/jpeg:https://www.cf.edu/wp-content/uploads/2021/08/citrus-club-rush.jpg
END:VEVENT
BEGIN:VEVENT
DTSTART;TZID=America/New_York:20210913T100000
DTEND;TZID=America/New_York:20210915T160000
DTSTAMP:20260425T064552
CREATED:20210909T191955Z
LAST-MODIFIED:20210909T192115Z
UID:10001259-1631527200-1631721600@www.cf.edu
SUMMARY:Ocala Campus Blood Drive
DESCRIPTION:Help save a life! LifeSouth Community Blood Center will be at the Ocala Campus on Monday\, Sept. 13-Wednesday\, Sept. 15\, 10 a.m. – 4 p.m.\, in the parking lot outside of Building 11. There will be incentives for all donors and COVID-19 antibody testing.
URL:https://www.cf.edu/event/ocala-campus-blood-drive/
LOCATION:Ocala Campus\, 3001 SW College Rd\, Ocala\, FL\, 34474\, United States
CATEGORIES:Student Life
ATTACH;FMTTYPE=image/png:https://www.cf.edu/wp-content/uploads/2021/09/Blood-Drive.png
END:VEVENT
BEGIN:VEVENT
DTSTART;TZID=America/New_York:20210913T123000
DTEND;TZID=America/New_York:20210913T134500
DTSTAMP:20260425T064552
CREATED:20210901T140849Z
LAST-MODIFIED:20210902T195013Z
UID:10001253-1631536200-1631540700@www.cf.edu
SUMMARY:Mega Monday: Cooking on a Dime
DESCRIPTION:Cooking on a Dime with College Students’ Limited Time\nJoin us for another exciting MEGA Monday! Network\, expand your knowledge\, act on issues and serve the campus and community. \nJoin us at the Ocala Campus Learning Resources Center for a short presentation\, share ideas and thoughts on cooking within a budget. Lunch will be provided and students who attend will leave with a parting gift while learning about the campus food pantry. \nCan’t make it to campus? Join us virtually via Zoom! Please pre-register here if you plan to attend virtually.
URL:https://www.cf.edu/event/mega-monday-cooking-on-a-dime-with-college-students-limited-time/
LOCATION:Ocala Campus\, 3001 SW College Rd\, Ocala\, FL\, 34474\, United States
CATEGORIES:Student Life
ATTACH;FMTTYPE=image/jpeg:https://www.cf.edu/wp-content/uploads/2021/04/Mega-Monday.jpg
END:VEVENT
BEGIN:VEVENT
DTSTART;TZID=America/New_York:20210914T180000
DTEND;TZID=America/New_York:20210914T190000
DTSTAMP:20260425T064552
CREATED:20210902T194735Z
LAST-MODIFIED:20210902T194735Z
UID:10001254-1631642400-1631646000@www.cf.edu
SUMMARY:Constitution Day Trivia
DESCRIPTION:What do you know about the US Constitution? Join CF Student Life on Tuesday\, Sept. 14\, at 6-7 p.m. for Game Night and test your knowledge as we celebrate Constitution Day! Hosted by the CF Young Politicians Club. There will be prizes for currently enrolled CF students! \nRegister in advance for this meeting. After registering\, you will receive a confirmation email containing information about joining the meeting.
URL:https://www.cf.edu/event/constitution-day-trivia/
LOCATION:Online
CATEGORIES:Student Life
ATTACH;FMTTYPE=image/jpeg:https://www.cf.edu/wp-content/uploads/2021/09/Const-Day-2.jpg
END:VEVENT
BEGIN:VEVENT
DTSTART;TZID=America/New_York:20210915T003000
DTEND;TZID=America/New_York:20210915T143000
DTSTAMP:20260425T064552
CREATED:20210909T192029Z
LAST-MODIFIED:20210909T192029Z
UID:10001260-1631665800-1631716200@www.cf.edu
SUMMARY:Picnic on the Lawn
DESCRIPTION:Join us in Bedford Plaza on the Ocala Campus at 12:30 p.m. on Wednesday\, Sept. 15\, for a picnic on the lawn! In addition to a free picnic lunch\, there will be games and art activities provided by the Appleton Museum of Art. The first 25 students to check in will receive a FREE picnic blanket! \nBe sure to bring your student I.D.\, and we ask that participants bring a jar of peanut butter to donate to Backpacks for Kids.
URL:https://www.cf.edu/event/picnic-on-the-lawn/
LOCATION:Ocala Campus\, 3001 SW College Rd\, Ocala\, FL\, 34474\, United States
CATEGORIES:Student Life
ATTACH;FMTTYPE=image/png:https://www.cf.edu/wp-content/uploads/2021/09/Picnic.png
END:VEVENT
BEGIN:VEVENT
DTSTART;TZID=America/New_York:20210916T003000
DTEND;TZID=America/New_York:20210916T140000
DTSTAMP:20260425T064552
CREATED:20210909T182535Z
LAST-MODIFIED:20210909T183046Z
UID:10001255-1631752200-1631800800@www.cf.edu
SUMMARY:Levy Game Day
DESCRIPTION:Levy Campus students are encouraged to attend Game Day on Thursday\, Sept. 16\, 12:30-2 p.m. at the Levy Student Lounge. Come for games\, snacks\, music and fun!
URL:https://www.cf.edu/event/levy-game-day/
LOCATION:Levy Campus\, 15390 N.W. Highway 19\, Chiefland\, 32626
CATEGORIES:Student Life
ATTACH;FMTTYPE=image/jpeg:https://www.cf.edu/wp-content/uploads/2021/09/levy-student-lounge.jpg
END:VEVENT
BEGIN:VEVENT
DTSTART;TZID=America/New_York:20210921T160000
DTEND;TZID=America/New_York:20210921T180000
DTSTAMP:20260425T064552
CREATED:20210909T190147Z
LAST-MODIFIED:20210909T190147Z
UID:10001257-1632240000-1632247200@www.cf.edu
SUMMARY:Rita’s Italian Ice SAB Fundraiser
DESCRIPTION:Help support the Student Activities Board Leadership Fund by visiting Rita’s Italian Ice on 2602 SW 19th Avenue Road\, Unit 201 on Tuesday\, Sept. 21\, between 4-6 p.m. Be sure to mention SAB when you order to have part of the proceeds benefit the Leadership Fund!
URL:https://www.cf.edu/event/ritas-italian-ice-sab-fundraiser/
LOCATION:FL
CATEGORIES:Student Life
ATTACH;FMTTYPE=image/jpeg:https://www.cf.edu/wp-content/uploads/2020/07/CFEvents-default-image.jpg
END:VEVENT
BEGIN:VEVENT
DTSTART;TZID=America/New_York:20210923T003000
DTEND;TZID=America/New_York:20210923T140000
DTSTAMP:20260425T064552
CREATED:20210909T183016Z
LAST-MODIFIED:20210909T183016Z
UID:10001256-1632357000-1632405600@www.cf.edu
SUMMARY:Levy Ice Cream Social
DESCRIPTION:Levy Campus students are encouraged to attend an ice cream social on Thursday\, Sept. 23\, 12:30-2 p.m. at the Levy Student Lounge. Come for ice cream\, treats and fun!
URL:https://www.cf.edu/event/levy-ice-cream-social-2/
LOCATION:Levy Campus\, 15390 N.W. Highway 19\, Chiefland\, 32626
CATEGORIES:Student Life
ATTACH;FMTTYPE=image/jpeg:https://www.cf.edu/wp-content/uploads/2021/09/Ice-Cream-Cones-2.jpg
END:VEVENT
BEGIN:VEVENT
DTSTART;TZID=America/New_York:20210929T003000
DTEND;TZID=America/New_York:20210929T143000
DTSTAMP:20260425T064552
CREATED:20210909T191934Z
LAST-MODIFIED:20210909T192133Z
UID:10001258-1632875400-1632925800@www.cf.edu
SUMMARY:Dominoes Tournament
DESCRIPTION:In honor of Hispanic Heritage Month\, join Student Life for a Dominoes Tournament on Wednesday\, Sept. 29\, 12:30 p.m. at the Ocala Campus Patriot Cafe’ in Building 5. \nWant to play? Sign up here! \nParticipants will be notified on Monday\, Sept. 27 that they will be playing.
URL:https://www.cf.edu/event/dominoes-tournament/
LOCATION:Ocala Campus\, 3001 SW College Rd\, Ocala\, FL\, 34474\, United States
CATEGORIES:Student Life
ATTACH;FMTTYPE=image/png:https://www.cf.edu/wp-content/uploads/2021/09/Dominoes.png
END:VEVENT
BEGIN:VEVENT
DTSTART;TZID=America/New_York:20210929T003000
DTEND;TZID=America/New_York:20210929T143000
DTSTAMP:20260425T064552
CREATED:20210927T181155Z
LAST-MODIFIED:20211004T135759Z
UID:10001277-1632875400-1632925800@www.cf.edu
SUMMARY:Taste of Hispanic Culture
DESCRIPTION:In celebration of Hispanic Heritage Month\, join us at 12:30 p.m. in the Ocala Campus Patriot Cafe for a free tasting of traditional dish chicken fricassee using a recipe from CF’s own Dr. Jose Toro-Clarke!
URL:https://www.cf.edu/event/taste-of-hispanic-culture/
LOCATION:Ocala Campus\, 3001 SW College Rd\, Ocala\, FL\, 34474\, United States
CATEGORIES:Student Life
ATTACH;FMTTYPE=image/jpeg:https://www.cf.edu/wp-content/uploads/2020/07/CFEvents-default-image.jpg
END:VEVENT
BEGIN:VEVENT
DTSTART;TZID=America/New_York:20211011T123000
DTEND;TZID=America/New_York:20211011T133000
DTSTAMP:20260425T064552
CREATED:20211004T135511Z
LAST-MODIFIED:20211004T135511Z
UID:10001278-1633955400-1633959000@www.cf.edu
SUMMARY:Safe Zone Awareness and Ally Training Part 1
DESCRIPTION:Brought to you by the CF Office of Diversity and Inclusion\, Safe Zone training is a way for members and allies of the LGBTQ+ community to show their support and learn more about LGBTQ+ identities in a safe space. Please join us virtually Monday\, Oct. 11\, and Wednesday\, Oct. 13\, from 12:30-1:30 p.m. for this two-part event. Participation is recommended both days.
URL:https://www.cf.edu/event/safe-zone-awareness-and-ally-training-part-1/
LOCATION:Online
CATEGORIES:Student Life
ATTACH;FMTTYPE=image/jpeg:https://www.cf.edu/wp-content/uploads/2020/07/CFEvents-default-image.jpg
END:VEVENT
BEGIN:VEVENT
DTSTART;TZID=America/New_York:20211012T110000
DTEND;TZID=America/New_York:20211012T140000
DTSTAMP:20260425T064552
CREATED:20211005T153010Z
LAST-MODIFIED:20211005T153010Z
UID:10001283-1634036400-1634047200@www.cf.edu
SUMMARY:Ocala Campus HIV Testing
DESCRIPTION:CF Student Life will be offering free\, confidential HIV testing on Tuesday\, Oct. 12\, 11 a.m.-2 p.m. at Ocala Campus Building 11.
URL:https://www.cf.edu/event/ocala-campus-hiv-testing/
LOCATION:Ocala Campus\, 3001 SW College Rd\, Ocala\, FL\, 34474\, United States
CATEGORIES:Student Life
ATTACH;FMTTYPE=image/jpeg:https://www.cf.edu/wp-content/uploads/2021/10/HIV-October.jpg
END:VEVENT
BEGIN:VEVENT
DTSTART;TZID=America/New_York:20211012T180000
DTEND;TZID=America/New_York:20211012T190000
DTSTAMP:20260425T064552
CREATED:20211005T151925Z
LAST-MODIFIED:20211005T151925Z
UID:10001282-1634061600-1634065200@www.cf.edu
SUMMARY:Tuesday Game Night – Scary Movie Trivia
DESCRIPTION:Friday the 13th. Halloween. Poltergeist. Saw. Scream. What is your favorite scary movie? Join us virtually on Tuesday\, Oct. 12\, at 6 p.m. for this trivia that will visit your favorite houses of horror – if you DARE! Currently enrolled CF students are eligible for prizes but all are welcome to join in and play! \nRegister in advance for this meeting. After registering\, you will receive a confirmation email containing information about joining the meeting.
URL:https://www.cf.edu/event/tuesday-game-night-scary-movie-trivia/
LOCATION:Online
CATEGORIES:Student Life
ATTACH;FMTTYPE=image/jpeg:https://www.cf.edu/wp-content/uploads/2021/10/scary-movies.jpg
END:VEVENT
END:VCALENDAR