BEGIN:VCALENDAR
VERSION:2.0
PRODID:-//College Of Central Florida - ECPv6.10.1.1//NONSGML v1.0//EN
CALSCALE:GREGORIAN
METHOD:PUBLISH
X-ORIGINAL-URL:https://www.cf.edu
X-WR-CALDESC:Events for College Of Central Florida
REFRESH-INTERVAL;VALUE=DURATION:PT1H
X-Robots-Tag:noindex
X-PUBLISHED-TTL:PT1H
BEGIN:VTIMEZONE
TZID:America/New_York
BEGIN:DAYLIGHT
TZOFFSETFROM:-0500
TZOFFSETTO:-0400
TZNAME:EDT
DTSTART:20260308T070000
END:DAYLIGHT
BEGIN:STANDARD
TZOFFSETFROM:-0400
TZOFFSETTO:-0500
TZNAME:EST
DTSTART:20261101T060000
END:STANDARD
END:VTIMEZONE
BEGIN:VEVENT
DTSTART;TZID=America/New_York:20260430T123000
DTEND;TZID=America/New_York:20260430T123000
DTSTAMP:20260420T202020
CREATED:20260420T161232Z
LAST-MODIFIED:20260420T161232Z
UID:10003910-1777552200-1777552200@www.cf.edu
SUMMARY:Stressbusters
DESCRIPTION:Join us Wednesday\, April 29\, 12:30-1:30 p.m. in Bedford Plaza as we take a break from stress! \nThings to do include: \n\nTie-Dye T-Shirts\nAppleton Museum Crafts\nColoring by CF Counseling\nGames\nFree Lunch\nPlus\, one lucky student will win a laptop!\n\n(Some items only available while supplies last) \nTopics and concepts presented at this event are for discussion purposes only and are not intended to espouse\, promote\, advance\, inculcate\, or compel individuals to believe the topics or concepts presented therein. Nor do they constitute endorsement of such topics or concepts by the College of Central Florida\, its Board of Trustees\, or any of their officers\, employees\, or agents.
URL:https://www.cf.edu/event/stressbusters-6/
LOCATION:Ocala Campus\, 3001 SW College Rd\, Ocala\, FL\, 34474\, United States
CATEGORIES:Ocala Campus,Student Life
ATTACH;FMTTYPE=image/jpeg:https://www.cf.edu/wp-content/uploads/2020/07/CFEvents-default-image.jpg
END:VEVENT
END:VCALENDAR