BEGIN:VCALENDAR
VERSION:2.0
PRODID:-//College Of Central Florida - ECPv6.10.1.1//NONSGML v1.0//EN
CALSCALE:GREGORIAN
METHOD:PUBLISH
X-ORIGINAL-URL:https://www.cf.edu
X-WR-CALDESC:Events for College Of Central Florida
REFRESH-INTERVAL;VALUE=DURATION:PT1H
X-Robots-Tag:noindex
X-PUBLISHED-TTL:PT1H
BEGIN:VTIMEZONE
TZID:America/New_York
BEGIN:DAYLIGHT
TZOFFSETFROM:-0500
TZOFFSETTO:-0400
TZNAME:EDT
DTSTART:20260308T070000
END:DAYLIGHT
BEGIN:STANDARD
TZOFFSETFROM:-0400
TZOFFSETTO:-0500
TZNAME:EST
DTSTART:20261101T060000
END:STANDARD
END:VTIMEZONE
BEGIN:VEVENT
DTSTART;TZID=America/New_York:20260618T083000
DTEND;TZID=America/New_York:20260618T123000
DTSTAMP:20260424T055327
CREATED:20260423T173728Z
LAST-MODIFIED:20260423T173728Z
UID:10003914-1781771400-1781785800@www.cf.edu
SUMMARY:Health Sciences Summer Camp\, Citrus Session
DESCRIPTION:Middle school and high school students (incoming 6th-12th grade students) are invited to experience mini-lectures and hands-on labs at one of our Health Sciences Summer Camps. Program areas covered at this session are: Nursing\, Anatomy and Physiology and Respiratory Care. \nThere is no fee to attend. Spots are limited. Because of programming duplication\, students are only able to attend one camp session. Lunch and snacks are included. For more information\, contact Peggy Recanzone at extension 1655 or recanzop@cf.edu. \nThis session will take place Thursday\, June 18\, 8:30 a.m.-12:30 p.m. \nPlease fill out the application here to secure your spot. \nTopics and concepts presented at this event are for discussion purposes only and are not intended to espouse\, promote\, advance\, inculcate\, or compel individuals to believe the topics or concepts presented therein. Nor do they constitute endorsement of such topics or concepts by the College of Central Florida\, its Board of Trustees\, or any of their officers\, employees\, or agents.
URL:https://www.cf.edu/event/health-sciences-summer-camp-citrus-session/
LOCATION:Citrus Campus\, 3800 S. Lecanto Highway\, Lecanto\, FL\, 34461\, United States
CATEGORIES:Citrus Campus,Health Sciences,Information Session,Summer Camp
ATTACH;FMTTYPE=image/jpeg:https://www.cf.edu/wp-content/uploads/2024/03/4776-web.jpg
END:VEVENT
END:VCALENDAR