BEGIN:VCALENDAR
VERSION:2.0
PRODID:-//College Of Central Florida - ECPv6.10.1.1//NONSGML v1.0//EN
CALSCALE:GREGORIAN
METHOD:PUBLISH
X-WR-CALNAME:College Of Central Florida
X-ORIGINAL-URL:https://www.cf.edu
X-WR-CALDESC:Events for College Of Central Florida
REFRESH-INTERVAL;VALUE=DURATION:PT1H
X-Robots-Tag:noindex
X-PUBLISHED-TTL:PT1H
BEGIN:VTIMEZONE
TZID:America/New_York
BEGIN:DAYLIGHT
TZOFFSETFROM:-0500
TZOFFSETTO:-0400
TZNAME:EDT
DTSTART:20210314T070000
END:DAYLIGHT
BEGIN:STANDARD
TZOFFSETFROM:-0400
TZOFFSETTO:-0500
TZNAME:EST
DTSTART:20211107T060000
END:STANDARD
END:VTIMEZONE
BEGIN:VEVENT
DTSTART;TZID=America/New_York:20210802T160000
DTEND;TZID=America/New_York:20210802T170000
DTSTAMP:20260423T164813
CREATED:20210419T141903Z
LAST-MODIFIED:20210519T120822Z
UID:10001158-1627920000-1627923600@www.cf.edu
SUMMARY:Physical Therapist Assistant Information Session
DESCRIPTION:CF is conducting a Virtual Physical Therapist Assistant program information session through a Zoom presentation. Potential students must attend a session before applying to any of the programs. Sessions provide details about admissions criteria\, program requirements\, costs and more. \nThere is no waiting list for any of the Health Science programs. Some programs have part-time enrollment options.\nFor information about any of the programs or sessions email Peggy Recanzone at recanzop@cf.edu. \n 
URL:https://www.cf.edu/event/physical-therapist-assistant-information-session-8/
LOCATION:Online
CATEGORIES:Health Sciences,Information Session
ATTACH;FMTTYPE=image/png:https://www.cf.edu/wp-content/uploads/2021/01/PTA-event.png
END:VEVENT
BEGIN:VEVENT
DTSTART;TZID=America/New_York:20210803T110000
DTEND;TZID=America/New_York:20210803T130000
DTSTAMP:20260423T164813
CREATED:20210628T161413Z
LAST-MODIFIED:20210629T170710Z
UID:10001195-1627988400-1627995600@www.cf.edu
SUMMARY:Virtual Open House
DESCRIPTION:Learn all about CF from the comfort of your home!\nCurious about what it’s like to be a CF student? Come to our drop-in virtual event on Tuesday\, Aug. 3\, 11 a.m.-1 p.m. Facilitated through Zoom\, you can join breakout rooms with different CF departments such as Admissions\, Financial Aid\, Academic Advising and more. \nAt this event\, you can also receive real-time assistance in filling out the admissions application\, and we’ll be waiving the $30 application fee!  \nOur Financial Aid staff will be available for one-on-one guidance with filling out the Free Application for Federal Student Aid (FAFSA). \nIf you’ve already applied to CF\, join one of the one-on-one breakout rooms to meet with an Admissions representative to discuss your current admissions status and next steps.  \nRegister online to receive details on joining the Virtual Open House.
URL:https://www.cf.edu/event/virtual-open-house/
LOCATION:Online
CATEGORIES:Admissions
ATTACH;FMTTYPE=image/jpeg:https://www.cf.edu/wp-content/uploads/2021/06/Web-spotlight-virtual.jpg
END:VEVENT
BEGIN:VEVENT
DTSTART;VALUE=DATE:20210809
DTEND;VALUE=DATE:20210810
DTSTAMP:20260423T164813
CREATED:20201104T164103Z
LAST-MODIFIED:20210108T183619Z
UID:10000982-1628467200-1628553599@www.cf.edu
SUMMARY:Summer C classes end
DESCRIPTION:Summer C classes end on Aug. 9.
URL:https://www.cf.edu/event/summer-c-classes-end/
LOCATION:FL
CATEGORIES:Dates and Deadlines
ATTACH;FMTTYPE=image/jpeg:https://www.cf.edu/wp-content/uploads/2020/07/CFEvents-DatesDeadlines-default-image.jpg
END:VEVENT
BEGIN:VEVENT
DTSTART;VALUE=DATE:20210809
DTEND;VALUE=DATE:20210810
DTSTAMP:20260423T164813
CREATED:20201104T185406Z
LAST-MODIFIED:20210122T151256Z
UID:10000964-1628467200-1628553599@www.cf.edu
SUMMARY:Summer B classes end
DESCRIPTION:Summer B classes end on Aug. 9.
URL:https://www.cf.edu/event/summer-b-classes-end/
LOCATION:FL
CATEGORIES:Dates and Deadlines
ATTACH;FMTTYPE=image/jpeg:https://www.cf.edu/wp-content/uploads/2020/07/CFEvents-DatesDeadlines-default-image.jpg
END:VEVENT
BEGIN:VEVENT
DTSTART;TZID=America/New_York:20210811T150000
DTEND;TZID=America/New_York:20210811T160000
DTSTAMP:20260423T164813
CREATED:20210419T141440Z
LAST-MODIFIED:20210525T201454Z
UID:10001155-1628694000-1628697600@www.cf.edu
SUMMARY:Radiography Information Session
DESCRIPTION:CF is conducting a Virtual Radiography program information session through a Zoom presentation. Potential students must attend a session before applying to any of the programs. Sessions provide details about admissions criteria\, program requirements\, costs and more. \nThere is no waiting list for any of the Health Science programs. Some programs have part-time enrollment options.\nFor information about any of the programs or sessions email Peggy Recanzone at recanzop@cf.edu.
URL:https://www.cf.edu/event/radiography-information-session-8/
LOCATION:Online
CATEGORIES:Health Sciences,Information Session
ATTACH;FMTTYPE=image/png:https://www.cf.edu/wp-content/uploads/2021/01/Radiography-Information-Session-event.png
END:VEVENT
BEGIN:VEVENT
DTSTART;TZID=America/New_York:20210813T140000
DTEND;TZID=America/New_York:20210813T150000
DTSTAMP:20260423T164813
CREATED:20210701T154729Z
LAST-MODIFIED:20210701T154729Z
UID:10001199-1628863200-1628866800@www.cf.edu
SUMMARY:Nursing Information Session - ADN\, Bridge\, BSN
DESCRIPTION:CF is conducting a virtual information session to learn more about the Associate Degree Nursing\, LPN and Paramedic Bridge Nursing and BSN programs through a Zoom presentation. Stay on and complete your CF general admission application and the $30 fee will be waived. Potential students must attend a session before applying to any of the programs. Sessions provide details about admissions criteria\, program requirements\, costs and more. \nThere is no waiting list for any of the Health Science programs. Some programs have part-time enrollment options.\nFor information about any of the programs or sessions email Peggy Recanzone at recanzop@cf.edu.
URL:https://www.cf.edu/event/nursing-information-session-adn-bridge-bsn-22/
LOCATION:Online
CATEGORIES:Health Sciences,Information Session
ATTACH;FMTTYPE=image/png:https://www.cf.edu/wp-content/uploads/2021/01/Nursing-info-session-event.png
END:VEVENT
BEGIN:VEVENT
DTSTART;TZID=America/New_York:20210816T080000
DTEND;TZID=America/New_York:20210816T160000
DTSTAMP:20260423T164813
CREATED:20210728T130614Z
LAST-MODIFIED:20210811T143734Z
UID:10001204-1629100800-1629129600@www.cf.edu
SUMMARY:Welcome Stations
DESCRIPTION:Stop by one of the Welcome Stations located around the Ocala and Citrus Campuses for free campus maps\, CF swag and assistance with any questions you might have.
URL:https://www.cf.edu/event/welcome-stations/2021-08-16/
LOCATION:FL
CATEGORIES:Citrus Campus,Ocala Campus,Student Life
ATTACH;FMTTYPE=image/jpeg:https://www.cf.edu/wp-content/uploads/2020/07/CFEvents-default-image.jpg
END:VEVENT
BEGIN:VEVENT
DTSTART;TZID=America/New_York:20210816T100000
DTEND;TZID=America/New_York:20210922T160000
DTSTAMP:20260423T164813
CREATED:20210728T180032Z
LAST-MODIFIED:20210728T180032Z
UID:10001206-1629108000-1632326400@www.cf.edu
SUMMARY:"Time Will Tell" Exhibit
DESCRIPTION:“Time Will Tell” is an art exhibition that features dozens of objects by North Florida artist Sheila Goloborotko. The artworks consist of screen printing on atypical materials\, along with encaustic painting\, and objects cast in glass\, aluminum\, and iron. The exhibition will be at the College of Central Florida Webber Gallery\, and visitors can view the artwork through Wednesday\, Sept. 22. \nSheila Goloborotko is a multidisciplinary artist who engages in a relentless auto-ethnographic examination of contemporaneous issues as a form of resistance and poetic activism. Utilizing symbols of intransience\, impermanence\, and stasis\, Goloborotko makes works that are changeable\, shifting\, active\, and unsettled. This exhibit questions the status of the environment and political structures\, among other things\, as the artist asks us to\, “Wander around the sculptures and the prints. Take a well-deserved pause\, and ask yourself\, honestly\, where do you find yourself right now?” \nGoloborotko is a multidisciplinary artist and master printmaker who has exhibited installations\, works on paper\, sculpture\, videos\, and interactive projects in more than 200 exhibitions in museums and galleries on four continents\, and yet has remained firmly committed to community. Her printshops in Jacksonville\, Florida\, and Sherman\, PA are print and poetic activism sites\, empowering first-time printmakers with hands-on workshops and developing the visions of mid-career artists with portfolio production and instruction. \nAdmission is free. The exhibit will run through Wednesday\, September 22. The Webber Gallery’s hours are 10 a.m. to 4 p.m.\, Monday through Thursday. For additional information\, call 352-854-2322\, ext. 1664.
URL:https://www.cf.edu/event/time-will-tell-exhibit/
LOCATION:Ocala Campus\, 3001 SW College Rd\, Ocala\, FL\, 34474\, United States
CATEGORIES:Arts,Ocala Campus,Visual and Performing Arts
ATTACH;FMTTYPE=image/jpeg:https://www.cf.edu/wp-content/uploads/2021/07/time-will-tell.jpg
END:VEVENT
BEGIN:VEVENT
DTSTART;TZID=America/New_York:20210817T080000
DTEND;TZID=America/New_York:20210817T160000
DTSTAMP:20260423T164813
CREATED:20210728T130614Z
LAST-MODIFIED:20210811T143734Z
UID:10001205-1629187200-1629216000@www.cf.edu
SUMMARY:Welcome Stations
DESCRIPTION:Stop by one of the Welcome Stations located around the Ocala and Citrus Campuses for free campus maps\, CF swag and assistance with any questions you might have.
URL:https://www.cf.edu/event/welcome-stations/2021-08-17/
LOCATION:FL
CATEGORIES:Citrus Campus,Ocala Campus,Student Life
ATTACH;FMTTYPE=image/jpeg:https://www.cf.edu/wp-content/uploads/2020/07/CFEvents-default-image.jpg
END:VEVENT
BEGIN:VEVENT
DTSTART;TZID=America/New_York:20210819T113000
DTEND;TZID=America/New_York:20210819T130000
DTSTAMP:20260423T164813
CREATED:20210818T202953Z
LAST-MODIFIED:20210818T202953Z
UID:10001225-1629372600-1629378000@www.cf.edu
SUMMARY:Welcome Back Picnic
DESCRIPTION:Levy Campus students\, faculty and staff are invited to a Welcome Back picnic in the Student Lounge and outdoor area on Thursday\, Aug. 19\, 11:30 a.m. – 1 p.m. Reconnect with old friends and make new ones at this free event!
URL:https://www.cf.edu/event/welcome-back-picnic/
LOCATION:Levy Campus\, 15390 N.W. Highway 19\, Chiefland\, 32626
CATEGORIES:Levy Campus,Student Life
ATTACH;FMTTYPE=image/jpeg:https://www.cf.edu/wp-content/uploads/2020/07/CFEvents-default-image.jpg
END:VEVENT
BEGIN:VEVENT
DTSTART;TZID=America/New_York:20210819T120000
DTEND;TZID=America/New_York:20210819T130000
DTSTAMP:20260423T164813
CREATED:20210419T140153Z
LAST-MODIFIED:20210518T143758Z
UID:10001149-1629374400-1629378000@www.cf.edu
SUMMARY:Nursing Information Session - ADN\, Bridge\, BSN
DESCRIPTION:CF is conducting a virtual information session to learn more about the Associate Degree Nursing\, LPN and Paramedic Bridge Nursing and BSN programs through a Zoom presentation. Stay on and complete your CF general admission application and the $30 fee will be waived. Potential students must attend a session before applying to any of the programs. Sessions provide details about admissions criteria\, program requirements\, costs and more. \nThere is no waiting list for any of the Health Science programs. Some programs have part-time enrollment options.\nFor information about any of the programs or sessions email Peggy Recanzone at recanzop@cf.edu.
URL:https://www.cf.edu/event/nursing-information-session-adn-bridge-bsn-15/
LOCATION:Online
CATEGORIES:Health Sciences,Information Session
ATTACH;FMTTYPE=image/png:https://www.cf.edu/wp-content/uploads/2021/01/Nursing-info-session-event.png
END:VEVENT
BEGIN:VEVENT
DTSTART;TZID=America/New_York:20210825T123000
DTEND;TZID=America/New_York:20210825T134500
DTSTAMP:20260423T164813
CREATED:20210816T202833Z
LAST-MODIFIED:20210824T182528Z
UID:10001222-1629894600-1629899100@www.cf.edu
SUMMARY:Ocala Campus Club Rush
DESCRIPTION:Join CF Student Life for Club Rush\, an annual event showcasing all the clubs and organizations available for students to get involved with. You can also meet with local employers and student services like Baycare. This in-person event will take place Wednesday\, Aug. 25\, at 12:30 p.m. at the Ocala Campus Gymnasium. Bring your student I.D. with you to take advantage of free food provided by Chick-fil-a and enter to win a laptop giveaway!
URL:https://www.cf.edu/event/ocala-campus-club-rush-2/
LOCATION:Ocala Campus\, 3001 SW College Rd\, Ocala\, FL\, 34474\, United States
CATEGORIES:Ocala Campus,Student Life
ATTACH;FMTTYPE=image/jpeg:https://www.cf.edu/wp-content/uploads/2020/07/CFEvents-default-image.jpg
END:VEVENT
BEGIN:VEVENT
DTSTART;TZID=America/New_York:20210825T173000
DTEND;TZID=America/New_York:20210825T193000
DTSTAMP:20260423T164813
CREATED:20210526T171825Z
LAST-MODIFIED:20210819T172134Z
UID:10001186-1629912600-1629919800@www.cf.edu
SUMMARY:Marion County Careers and Colleges Expo
DESCRIPTION:Join us for the biggest colleges and careers event of the year. \nThis free event is your opportunity to explore career paths at the top higher education institutions throughout Florida\, introducing you to all that is available as you plan your education. Our gymnasium will be lined with countless vendors representing colleges\, military service options\, local careers\, trade schools\, and universities. Whether you’re a curious high school senior or transfer student\, this expo can help ensure that you make informed decisions for your future.  \n  \nIf you are a vendor who wishes to participate in this event\, please fill out our vendor request form. \nQuestions? Contact Marissa Brown at marissa.brown@cf.edu. \nThis event is sponsored by Marion County Public Schools and CF\, is part of the Florida School and College Relations Tour. \n 
URL:https://www.cf.edu/event/careers-and-colleges-expo/
LOCATION:Ocala Campus\, 3001 SW College Rd\, Ocala\, FL\, 34474\, United States
CATEGORIES:Admissions,Ocala Campus
ATTACH;FMTTYPE=image/jpeg:https://www.cf.edu/wp-content/uploads/2020/09/students-assembly.jpg
END:VEVENT
BEGIN:VEVENT
DTSTART;TZID=America/New_York:20210826T120000
DTEND;TZID=America/New_York:20210826T140000
DTSTAMP:20260423T164813
CREATED:20210824T143104Z
LAST-MODIFIED:20210824T143104Z
UID:10001249-1629979200-1629986400@www.cf.edu
SUMMARY:Voter Registration Event
DESCRIPTION:Are you registered to vote? Join CF’s Student Life and Diversity & Inclusion departments for a voter registration event in honor of Women’s Equality Day. Stop by the Ocala Campus Learning Resources Center on Thursday\, Aug. 26\, between noon-2 p.m. for assistance with voter registration.
URL:https://www.cf.edu/event/voter-registration-event/
LOCATION:Ocala Campus\, 3001 SW College Rd\, Ocala\, FL\, 34474\, United States
CATEGORIES:Ocala Campus,Student Life
ATTACH;FMTTYPE=image/jpeg:https://www.cf.edu/wp-content/uploads/2021/08/Register-to-VOTE-4.jpg
END:VEVENT
BEGIN:VEVENT
DTSTART;TZID=America/New_York:20210831T090000
DTEND;TZID=America/New_York:20210831T100000
DTSTAMP:20260423T164813
CREATED:20210419T140428Z
LAST-MODIFIED:20210518T143752Z
UID:10001150-1630400400-1630404000@www.cf.edu
SUMMARY:Nursing Information Session - ADN\, Bridge\, BSN
DESCRIPTION:CF is conducting a virtual information session to learn more about the Associate Degree Nursing\, LPN and Paramedic Bridge Nursing and BSN programs through a Zoom presentation. Stay on and complete your CF general admission application and the $30 fee will be waived. Potential students must attend a session before applying to any of the programs. Sessions provide details about admissions criteria\, program requirements\, costs and more. \nThere is no waiting list for any of the Health Science programs. Some programs have part-time enrollment options.\nFor information about any of the programs or sessions email Peggy Recanzone at recanzop@cf.edu.
URL:https://www.cf.edu/event/nursing-information-session-adn-bridge-bsn-16/
LOCATION:Online
CATEGORIES:Health Sciences,Information Session
ATTACH;FMTTYPE=image/png:https://www.cf.edu/wp-content/uploads/2021/01/Nursing-info-session-event.png
END:VEVENT
BEGIN:VEVENT
DTSTART;TZID=America/New_York:20210831T120000
DTEND;TZID=America/New_York:20210831T130000
DTSTAMP:20260423T164813
CREATED:20210204T150949Z
LAST-MODIFIED:20210827T150748Z
UID:10001090-1630411200-1630414800@www.cf.edu
SUMMARY:BSN Information and CF Application Session
DESCRIPTION:Ready to start the next phase in your nursing education? CF is conducting a Virtual Bachelor of Science in Nursing program information and CF application session through a Zoom presentation. \nAttendees will be able to complete the general admission application to CF for free! Potential students must attend a session before applying to any of the programs. Sessions provide details about admissions criteria\, program requirements\, costs and more. \nThere is no waiting list for any of the Health Science programs. Some programs have part-time enrollment options.\nFor information about any of the programs or sessions email Peggy Recanzone at recanzop@cf.edu.
URL:https://www.cf.edu/event/bsn-information-and-cf-application-session-5/
LOCATION:Online
CATEGORIES:Health Sciences,Information Session
ATTACH;FMTTYPE=image/jpeg:https://www.cf.edu/wp-content/uploads/2021/01/CFEventHealth.jpg
END:VEVENT
BEGIN:VEVENT
DTSTART;TZID=America/New_York:20210831T140000
DTEND;TZID=America/New_York:20210831T150000
DTSTAMP:20260423T164813
CREATED:20210729T132019Z
LAST-MODIFIED:20210729T132019Z
UID:10001217-1630418400-1630422000@www.cf.edu
SUMMARY:Why CF? Virtual Information Session
DESCRIPTION:Get a feel for what it’s like to be a CF Patriot in this 45-minute information session. You’ll find out about why CF should be your first choice for college and get a crash course in the application process. Plus\, all attendees will get a waiver allowing them to apply for free!
URL:https://www.cf.edu/event/why-cf-virtual-information-session-6/
LOCATION:Online
CATEGORIES:Admissions,Information Session
ATTACH;FMTTYPE=image/jpeg:https://www.cf.edu/wp-content/uploads/2020/12/Why-CF-event-800x800-1.jpg
END:VEVENT
END:VCALENDAR