BEGIN:VCALENDAR
VERSION:2.0
PRODID:-//College Of Central Florida - ECPv6.10.1.1//NONSGML v1.0//EN
CALSCALE:GREGORIAN
METHOD:PUBLISH
X-WR-CALNAME:College Of Central Florida
X-ORIGINAL-URL:https://www.cf.edu
X-WR-CALDESC:Events for College Of Central Florida
REFRESH-INTERVAL;VALUE=DURATION:PT1H
X-Robots-Tag:noindex
X-PUBLISHED-TTL:PT1H
BEGIN:VTIMEZONE
TZID:America/New_York
BEGIN:DAYLIGHT
TZOFFSETFROM:-0500
TZOFFSETTO:-0400
TZNAME:EDT
DTSTART:20210314T070000
END:DAYLIGHT
BEGIN:STANDARD
TZOFFSETFROM:-0400
TZOFFSETTO:-0500
TZNAME:EST
DTSTART:20211107T060000
END:STANDARD
BEGIN:DAYLIGHT
TZOFFSETFROM:-0500
TZOFFSETTO:-0400
TZNAME:EDT
DTSTART:20220313T070000
END:DAYLIGHT
BEGIN:STANDARD
TZOFFSETFROM:-0400
TZOFFSETTO:-0500
TZNAME:EST
DTSTART:20221106T060000
END:STANDARD
END:VTIMEZONE
BEGIN:VEVENT
DTSTART;TZID=America/New_York:20220305T100000
DTEND;TZID=America/New_York:20220305T170000
DTSTAMP:20260423T190043
CREATED:20220106T135449Z
LAST-MODIFIED:20220106T135449Z
UID:10001430-1646474400-1646499600@www.cf.edu
SUMMARY:Appleton First Free Saturday
DESCRIPTION:Admission is free on the first Saturday of each month. Practice the art of staycation and visit our permanent collection and special exhibitions. Or\, make art in the Artspace and enjoy our beautiful outdoor spaces with large-scale sculpture (perfect for selfies!) Big Lee’s BBQ food truck will be onsite from 11 a.m.-2 p.m. for lunch. \nAt 11 a.m. and 2 p.m.\, artist Susan Martin will give tours of her exhibition “Garden Party.” Tours are free as part of Free First Saturday; no reservation required to attend.
URL:https://www.cf.edu/event/appleton-first-free-saturday-5/
LOCATION:Appleton Museum of Art\, 4333 E Silver Springs Blvd\, Ocala\, 34470
CATEGORIES:Arts,Visual and Performing Arts
ATTACH;FMTTYPE=image/jpeg:https://www.cf.edu/wp-content/uploads/2020/09/appleton.jpg
END:VEVENT
BEGIN:VEVENT
DTSTART;TZID=America/New_York:20220222T140000
DTEND;TZID=America/New_York:20220222T160000
DTSTAMP:20260423T190043
CREATED:20211109T142103Z
LAST-MODIFIED:20211109T210639Z
UID:10001333-1645538400-1645545600@www.cf.edu
SUMMARY:'Ivan’s Childhood' Appleton Screening
DESCRIPTION:The College of Central Florida is excited and proud to announce the 60th anniversary celebration of its International Film Series. While the official name has been changed to honor the series founder Ira Holmes\, the now Ira Holmes International Film Series is true to its origins. Featured this year are classic films from 1962\, the birth year of the series. \nAll films will be shown Tuesdays at 2 p.m. at the Appleton Museum of Art\, 4333 E. Silver Springs Blvd.\, Ocala\, and at 7 p.m. at the College of Central Florida\, 3001 S.W. College Road\, Building 8\, Room 110\, unless otherwise noted. Films at the Ocala Campus are free and open to the public. Films at the Appleton are free to all museum and film series members; nonmembers pay museum admission. Showings will be followed by an online scholarly film talk each Wednesday at 12:30 p.m. Films may contain mature content. \nAbout the Film\nThe 1962 debut feature by the great Andrei Tarkovsky\, “Ivan’s Childhood” is a poetic journey through the shards and shadows of one boy’s war-ravaged youth. Moving back and forth between the traumatic realities of World War II and serene moments of family life before the conflict began\, Tarkovsky’s film remains one of the most jarring and unforgettable depictions of the impact of war on children. Film Introduction by special guest Peggy Dates. \nAbout Our Special Guest\nAssisting for more than nine years\, Peggy dates is integral to the CF International Film Series’ success. She travels the world extensively and speaks several languages. She is a real Renaissance woman with her interest’s spanning film\, art\, music and travel. In 2018 and 2019\, she attended international film screenings in Mexico. \nScreening locations may be subject to change due to COVID-19 restrictions and will be updated on CF International Films Series website as needed. \nFor a full series list and more information on the International Film Series\, contact Wendy Adams at 352-873-5800\, ext. 1546\, or visit www.CF.edu/filmseries.
URL:https://www.cf.edu/event/appleton-international-film-series-ivans-childhood/
LOCATION:Appleton Museum of Art\, 4333 E Silver Springs Blvd\, Ocala\, 34470
CATEGORIES:Arts,Film Series,Visual and Performing Arts
ATTACH;FMTTYPE=image/jpeg:https://www.cf.edu/wp-content/uploads/2021/02/CFEvent-Film-Series.jpg
END:VEVENT
BEGIN:VEVENT
DTSTART;TZID=America/New_York:20220208T140000
DTEND;TZID=America/New_York:20220208T160000
DTSTAMP:20260423T190043
CREATED:20211109T132456Z
LAST-MODIFIED:20211109T210221Z
UID:10001330-1644328800-1644336000@www.cf.edu
SUMMARY:'King Kong vs. Godzilla' Appleton Screening
DESCRIPTION:The College of Central Florida is excited and proud to announce the 60th anniversary celebration of its International Film Series. While the official name has been changed to honor the series founder Ira Holmes\, the now Ira Holmes International Film Series is true to its origins. Featured this year are classic films from 1962\, the birth year of the series.  \nAll films will be shown Tuesdays at 2 p.m. at the Appleton Museum of Art\, 4333 E. Silver Springs Blvd.\, Ocala\, and at 7 p.m. at the College of Central Florida\, 3001 S.W. College Road\, Building 8\, Room 110\, unless otherwise noted. Films at the Ocala Campus are free and open to the public. Films at the Appleton are free to all museum and film series members; nonmembers pay museum admission. Showings will be followed by an online scholarly film talk each Wednesday at 12:30 p.m. Films may contain mature content. \nAbout the Film\nThe two biggest monsters of all time battle in this thrilling 1962 adventure classic. An underhanded pharmaceutical company goes to a remote tropical island to steal King Kong for advertising purposes while a submarine crew inadvertently unleashes Godzilla from a block of ice far below the sea. When both destructive monsters descend on Tokyo\, it’s a fight that holds the future of mankind in the balance. \n  \nScreening locations may be subject to change due to COVID-19 restrictions and will be updated on CF International Films Series website as needed. \nFor a full series list and more information on the International Film Series\, contact Wendy Adams at 352-873-5800\, ext. 1546\, or visit www.CF.edu/filmseries.
URL:https://www.cf.edu/event/appleton-international-film-series-king-kong-vs-godzilla/
LOCATION:Appleton Museum of Art\, 4333 E Silver Springs Blvd\, Ocala\, 34470
CATEGORIES:Arts,Film Series,Visual and Performing Arts
ATTACH;FMTTYPE=image/jpeg:https://www.cf.edu/wp-content/uploads/2021/02/CFEvent-Film-Series.jpg
END:VEVENT
BEGIN:VEVENT
DTSTART;TZID=America/New_York:20220205T100000
DTEND;TZID=America/New_York:20220205T170000
DTSTAMP:20260423T190043
CREATED:20220106T135345Z
LAST-MODIFIED:20220106T135345Z
UID:10001429-1644055200-1644080400@www.cf.edu
SUMMARY:Appleton First Free Saturday
DESCRIPTION:Admission is free on the first Saturday of each month. Practice the art of staycation and visit our permanent collection and special exhibitions. Or\, make art in the Artspace and enjoy our beautiful outdoor spaces with large-scale sculpture (perfect for selfies!) Big Lee’s BBQ food truck will be onsite from 11 a.m.-2 p.m. for lunch.
URL:https://www.cf.edu/event/appleton-first-free-saturday-4/
LOCATION:Appleton Museum of Art\, 4333 E Silver Springs Blvd\, Ocala\, 34470
CATEGORIES:Arts,Visual and Performing Arts
ATTACH;FMTTYPE=image/jpeg:https://www.cf.edu/wp-content/uploads/2020/09/appleton.jpg
END:VEVENT
BEGIN:VEVENT
DTSTART;TZID=America/New_York:20220125T140000
DTEND;TZID=America/New_York:20220125T160000
DTSTAMP:20260423T190043
CREATED:20211108T213241Z
LAST-MODIFIED:20211109T205657Z
UID:10001329-1643119200-1643126400@www.cf.edu
SUMMARY:'Cléo from 5 to 7' Appleton Screening
DESCRIPTION:The College of Central Florida is excited and proud to announce the 60th anniversary celebration of its International Film Series. While the official name has been changed to honor the series founder Ira Holmes\, the now Ira Holmes International Film Series is true to its origins. Featured this year are classic films from 1962\, the birth year of the series.  \nAll films will be shown Tuesdays at 2 p.m. at the Appleton Museum of Art\, 4333 E. Silver Springs Blvd.\, Ocala\, and at 7 p.m. at the College of Central Florida\, 3001 S.W. College Road\, Building 8\, Room 110\, unless otherwise noted. Films at the Ocala Campus are free and open to the public. Films at the Appleton are free to all museum and film series members; nonmembers pay museum admission. Showings will be followed by an online scholarly film talk each Wednesday at 12:30 p.m. Films may contain mature content. \nAbout the Film\nAgnès Varda eloquently captures Paris in the sixties with this real-time portrait of a singer (Corinne Marchand) set adrift in the city as she awaits test results of a biopsy. A chronicle of the minutes of one woman’s life\, “Cléo from 5 to 7” is a spirited mix of vivid vérité and melodrama\, featuring a score by Michel Legrand (“The Umbrellas of Cherbourg”) and cameos by Jean-Luc Godard and Anna Karina.  \nScreening locations may be subject to change due to COVID-19 restrictions and will be updated on CF International Films Series website as needed. \nFor a full series list and more information on the International Film Series\, contact Wendy Adams at 352-873-5800\, ext. 1546\, or visit www.CF.edu/filmseries.
URL:https://www.cf.edu/event/appleton-international-film-series-cleo-from-5-to-7/
LOCATION:Appleton Museum of Art\, 4333 E Silver Springs Blvd\, Ocala\, 34470
CATEGORIES:Arts,Film Series,Visual and Performing Arts
ATTACH;FMTTYPE=image/jpeg:https://www.cf.edu/wp-content/uploads/2021/02/CFEvent-Film-Series.jpg
END:VEVENT
BEGIN:VEVENT
DTSTART;TZID=America/New_York:20220108T100000
DTEND;TZID=America/New_York:20220108T170000
DTSTAMP:20260423T190043
CREATED:20220106T135205Z
LAST-MODIFIED:20220106T135205Z
UID:10001428-1641636000-1641661200@www.cf.edu
SUMMARY:Appleton First Free Saturday
DESCRIPTION:Admission is free on the first Saturday of each month. Practice the art of staycation and visit our permanent collection and special exhibitions. Or\, make art in the Artspace and enjoy our beautiful outdoor spaces with large-scale sculpture (perfect for selfies!) Big Lee’s BBQ food truck will be onsite from 11 a.m.-2 p.m. for lunch. \nAt 11 a.m. and 2 p.m.\, photographer Juliet van Otteren will give tours of her exhibition “Heart of the Horse.” Tours are free as part of Free First Saturday; no reservation required to attend. Following each tour\, the artist will sign copies of her book\, available for purchase in the Appleton Store.
URL:https://www.cf.edu/event/appleton-first-free-saturday-3/
LOCATION:Appleton Museum of Art\, 4333 E Silver Springs Blvd\, Ocala\, 34470
CATEGORIES:Arts,Visual and Performing Arts
ATTACH;FMTTYPE=image/jpeg:https://www.cf.edu/wp-content/uploads/2020/09/appleton.jpg
END:VEVENT
BEGIN:VEVENT
DTSTART;TZID=America/New_York:20211111T100000
DTEND;TZID=America/New_York:20211111T170000
DTSTAMP:20260423T190043
CREATED:20211011T124334Z
LAST-MODIFIED:20211011T124334Z
UID:10001292-1636624800-1636650000@www.cf.edu
SUMMARY:Appleton Free Admission: Veterans Day
DESCRIPTION:In honor of United States military veterans\, visit the Appleton from 10 a.m.-5 p.m. on Thursday\, Nov. 11\, with no admission fee. Special exhibitions on view will include “Alphonse Mucha: Master of Art Nouveau\,” “Heart of the Horse: Photographs by Juliet van Otteren\,” and “A Dickens Christmas: The Urban Family Holiday Exhibition.” Visitors can also enjoy self-guided artmaking and activity stations in the Artspace. \nAdditionally\, military veterans enjoy free admission year-round at the Appleton by showing an ID or discharge papers. \n 
URL:https://www.cf.edu/event/appleton-free-admission-veterans-day/
LOCATION:Appleton Museum of Art\, 4333 E Silver Springs Blvd\, Ocala\, 34470
CATEGORIES:Arts,Visual and Performing Arts
ATTACH;FMTTYPE=image/jpeg:https://www.cf.edu/wp-content/uploads/2020/11/appleton-museum-spotlight-1.jpg
END:VEVENT
BEGIN:VEVENT
DTSTART;TZID=America/New_York:20211106T110000
DTEND;TZID=America/New_York:20211106T140000
DTSTAMP:20260423T190043
CREATED:20210817T120748Z
LAST-MODIFIED:20210817T165648Z
UID:10001223-1636196400-1636207200@www.cf.edu
SUMMARY:Appleton Gallery Tour "Heart of the Horse”
DESCRIPTION:Visit the museum on Free First Saturday\, Nov. 6\, and take a tour of “Heart of the Horse” with Juliet van Otteren at 11 a.m. or 2 p.m. Both tour times are free for members and nonmembers as part of Free First Saturday. No registration required to attend. \n“Heart of the Horse: Photographs by Juliet van Otteren” is on view Oct. 9\, 2021-Apr. 24\, 2022. The 40 black and white photographs of horses reflect the beauty and complexity of these exquisite animals. \nInternationally acclaimed photographer Juliet van Otteren’s photographs seek more than the simple documentation of beautiful horses. Rather\, her black and white images strive to capture their essence\, perhaps even a glimpse into their souls. By spending significant time with a limited number of equine subjects\, van Otteren is able to forge an intimate connection that captures their grace\, close familial relationships\, playfulness\, and their ancient bond with us as human beings. \nJuliet van Otteren began creating photographs when she lived in various communities in the Himalayas and the Middle East. After living in the serenity of the English countryside for many years\, van Otteren returned to the United States in the late 1990s and is now based in Florida. Her work is in the collections of the National Portrait Gallery in London\, the National Museum of Women in the Arts in Washington\, D.C.\, and the Bibliothèque Nationale de France in Paris\, among many others. Private collections include those of Gloria Vanderbilt\, William Kennedy\, Isabel Allende and Stephen Hawking. \nToday van Otteren continues to travel the world creating unique images. The accompanying catalog\, “Heart of the Horse\,” with texts by astrophysicist and author Alan Lightman and a foreword by renowned primatologist Jane Goodall\, was published by Barnes & Noble in 2004. The book will be available for purchase in the Appleton Store.
URL:https://www.cf.edu/event/appleton-gallery-tour-heart-of-the-horse/
LOCATION:Appleton Museum of Art\, 4333 E Silver Springs Blvd\, Ocala\, 34470
CATEGORIES:Arts,Visual and Performing Arts
ATTACH;FMTTYPE=image/jpeg:https://www.cf.edu/wp-content/uploads/2021/08/Image-2_Defying-Gravity-1.jpg
END:VEVENT
BEGIN:VEVENT
DTSTART;TZID=America/New_York:20211023T100000
DTEND;TZID=America/New_York:20211023T110000
DTSTAMP:20260423T190043
CREATED:20211011T155404Z
LAST-MODIFIED:20211011T155404Z
UID:10001295-1634983200-1634986800@www.cf.edu
SUMMARY:Art 101 Workshop: Watercolor with Sue Primeau
DESCRIPTION:Join the Appleton Museum of Art on Saturday\, Oct. 23 at 10 a.m. for this workshop on Watercolor with Sue Primeau. The award-winning painter will also teach a multi-week\, in-person master class for more advanced watercolor artists. There is a fee for in-person workshops; visit AppletonMuseum.org for more information. \nAll classes and workshops must be registered for in advance. Class registrations are being accepted via Eventbrite. Visit AppletonMuseum.org for class descriptions\, prices and registration links.
URL:https://www.cf.edu/event/art-101-workshop-watercolor-with-sue-primeau/
LOCATION:Appleton Museum of Art\, 4333 E Silver Springs Blvd\, Ocala\, 34470
CATEGORIES:Arts,Visual and Performing Arts
ATTACH;FMTTYPE=image/jpeg:https://www.cf.edu/wp-content/uploads/2021/10/Image-4-e1629213652653.jpg
END:VEVENT
BEGIN:VEVENT
DTSTART;VALUE=DATE:20211017
DTEND;VALUE=DATE:20211019
DTSTAMP:20260423T190043
CREATED:20210819T151219Z
LAST-MODIFIED:20210913T133256Z
UID:10001246-1634428800-1634601599@www.cf.edu
SUMMARY:Appleton Free Admission: Arthur I. Appleton’s Birthday Weekend
DESCRIPTION:Visitors can enjoy free admission to the museum on October 17 and 18\, in celebration of Arthur I. Appleton (October 14\, 1915-January 15\, 2008). Learn more about Mr. Appleton’s life and love for the arts by clicking here and by visiting our permanent exhibition\, “Artistic Legacy: The Story of Arthur I. Appleton.” \nHours on Saturday are 10 a.m.-5 p.m. and Sunday\, noon-5 p.m.
URL:https://www.cf.edu/event/appleton-free-admission-arthur-i-appletons-birthday-weekend/
LOCATION:Appleton Museum of Art\, 4333 E Silver Springs Blvd\, Ocala\, 34470
CATEGORIES:Arts,Visual and Performing Arts
ATTACH;FMTTYPE=image/jpeg:https://www.cf.edu/wp-content/uploads/2021/08/arthur-appleton.jpg
END:VEVENT
BEGIN:VEVENT
DTSTART;TZID=America/New_York:20211002T100000
DTEND;TZID=America/New_York:20211002T170000
DTSTAMP:20260423T190043
CREATED:20210819T150816Z
LAST-MODIFIED:20210913T161230Z
UID:10001245-1633168800-1633194000@www.cf.edu
SUMMARY:Appleton First Free Saturday
DESCRIPTION:Admission is free on the first Saturday of each month. Practice the art of staycation and visit our permanent collection and special exhibitions. Or\, make art in the Artspace and enjoy our beautiful outdoor spaces with large-scale sculpture (perfect for selfies!) Big Lee’s BBQ food truck will be onsite from 11 a.m.-2 p.m. for lunch.
URL:https://www.cf.edu/event/appleton-first-free-saturday-2/
LOCATION:Appleton Museum of Art\, 4333 E Silver Springs Blvd\, Ocala\, 34470
CATEGORIES:Arts,Visual and Performing Arts
ATTACH;FMTTYPE=image/jpeg:https://www.cf.edu/wp-content/uploads/2020/11/appleton-museum-spotlight-1.jpg
END:VEVENT
BEGIN:VEVENT
DTSTART;TZID=America/New_York:20210904T140000
DTEND;TZID=America/New_York:20210904T150000
DTSTAMP:20260423T190043
CREATED:20210819T140032Z
LAST-MODIFIED:20210819T140032Z
UID:10001242-1630764000-1630767600@www.cf.edu
SUMMARY:Appleton Exhibition Tour with Andrew M. Grant
DESCRIPTION:Take a tour of “A Breeze Through Fertile Gardens” with artist Andrew M. Grant as he discusses the influence of Bouguereau on his work. This tour is free for members and nonmembers as part of Free First Saturday. Can’t make it at 2 p.m.? There is an additional tour at 11 a.m.
URL:https://www.cf.edu/event/appleton-exhibition-tour-with-andrew-m-grant/
LOCATION:Appleton Museum of Art\, 4333 E Silver Springs Blvd\, Ocala\, 34470
CATEGORIES:Arts,Visual and Performing Arts
ATTACH;FMTTYPE=image/jpeg:https://www.cf.edu/wp-content/uploads/2021/08/Andrew-M.-Grant-e1629381440373.jpg
END:VEVENT
BEGIN:VEVENT
DTSTART;TZID=America/New_York:20210904T110000
DTEND;TZID=America/New_York:20210904T120000
DTSTAMP:20260423T190043
CREATED:20210819T135909Z
LAST-MODIFIED:20210819T140119Z
UID:10001241-1630753200-1630756800@www.cf.edu
SUMMARY:Appleton Exhibition Tour with Andrew M. Grant
DESCRIPTION:Take a tour of “A Breeze Through Fertile Gardens” with artist Andrew M. Grant as he discusses the influence of Bouguereau on his work. This tour is free for members and nonmembers as part of Free First Saturday. Can’t make it at 11 a.m.? There is an additional tour at 2 p.m.
URL:https://www.cf.edu/event/appleton-exhibition-tour-with-andrew-w-grant/
LOCATION:Appleton Museum of Art\, 4333 E Silver Springs Blvd\, Ocala\, 34470
CATEGORIES:Arts,Visual and Performing Arts
ATTACH;FMTTYPE=image/jpeg:https://www.cf.edu/wp-content/uploads/2021/08/Andrew-M.-Grant-e1629381440373.jpg
END:VEVENT
BEGIN:VEVENT
DTSTART;TZID=America/New_York:20210904T100000
DTEND;TZID=America/New_York:20210904T170000
DTSTAMP:20260423T190043
CREATED:20210819T134052Z
LAST-MODIFIED:20210819T134052Z
UID:10001240-1630749600-1630774800@www.cf.edu
SUMMARY:Appleton First Free Saturday
DESCRIPTION:Admission is free on the first Saturday of each month. Practice the art of staycation and visit our permanent collection and special exhibitions. Or\, make art in the Artspace and enjoy our beautiful outdoor spaces with large-scale sculpture (perfect for selfies!) Big Lee’s BBQ food truck will be onsite for lunch.
URL:https://www.cf.edu/event/appleton-first-free-saturday/
LOCATION:Appleton Museum of Art\, 4333 E Silver Springs Blvd\, Ocala\, 34470
CATEGORIES:Arts,Visual and Performing Arts
ATTACH;FMTTYPE=image/jpeg:https://www.cf.edu/wp-content/uploads/2020/11/appleton-museum-spotlight-1.jpg
END:VEVENT
END:VCALENDAR